{"text_format":"2","workbook":"xlsx","n_sheets":12,"sheets":["March","April","May","June","July","August","CalcMar","CalcApr","CalcMay","CalcJun","CalcJul","CalcAug"],"not_rendered":{"charts":0,"images":2,"macros":0,"external_links":0,"defined_names":0,"comments":0,"pivot_tables":0},"unopened":[],"bounds":{"document_bytes":16777216,"sheet_cells":100000,"run_cost":"one","rows_first":2000,"rows_last":500,"rows_between":2000,"halvings":0,"cell_chars":16384,"cell_head_chars":4096},"cells_cut":0,"cells_raw":0,"read":"whole","date_system":"1900"}

{"sheet":"March","index":0,"n_rows":36,"n_cols":11,"rows_kept":36,"cut":false,"hidden":false,"merged":[[1,12,1,22],[2,12,2,22],[0,3,0,22],[1,4,1,5],[2,4,2,5],[1,6,1,11],[2,6,2,11]]}
[null,null,null,"Children Religious Activity Score Card"]
[null,null,null,"Name: ",null,null,"Parents email:"]
[null,null,null,"Age:",null,null,"Parents contact#:"]
["No","Niyam","Points","2020-03-31","Mar Total","Apr Total","May Total","Jun Total","July Total","Aug Total","Final Total"]
[null,null,null,{"$f":"TEXT(D4,\"ddd\")","v":"Tue"}]
[1,"Upvaas/Aayambil",70,null,{"$f":"CalcMar!$E5","v":0},{"$f":"CalcApr!$AH5","v":0},{"$f":"CalcMay!$AI5","v":0},{"$f":"CalcJun!$AH5","v":0},{"$f":"CalcJul!$AI5","v":0},{"$f":"CalcAug!$AI5","v":0},{"$f":"SUM(E6:J6)","v":0}]
[2,"Ekasanu/Biyasanu",60,null,{"$f":"CalcMar!$E6","v":0},{"$f":"CalcApr!$AH6","v":0},{"$f":"CalcMay!$AI6","v":0},{"$f":"CalcJun!$AH6","v":0},{"$f":"CalcJul!$AI6","v":0},{"$f":"CalcAug!$AI6","v":0},{"$f":"SUM(E7:J7)","v":0}]
[3,"Chandan Pooja on weekend",40,null,{"$f":"CalcMar!$E7","v":0},{"$f":"CalcApr!$AH7","v":0},{"$f":"CalcMay!$AI7","v":0},{"$f":"CalcJun!$AH7","v":0},{"$f":"CalcJul!$AI7","v":0},{"$f":"CalcAug!$AI7","v":0},0]
[4,"Samayik/Pratikraman",50,null,{"$f":"CalcMar!$E8","v":0},{"$f":"CalcApr!$AH8","v":0},{"$f":"CalcMay!$AI8","v":0},{"$f":"CalcJun!$AH8","v":0},{"$f":"CalcJul!$AI8","v":0},{"$f":"CalcAug!$AI8","v":0},0]
[5,"Learn Sutra/Stuti for 15 mins",30,null,{"$f":"CalcMar!$E9","v":0},{"$f":"CalcApr!$AH9","v":0},{"$f":"CalcMay!$AI9","v":0},{"$f":"CalcJun!$AH9","v":0},{"$f":"CalcJul!$AI9","v":0},{"$f":"CalcAug!$AI9","v":0},0]
[6,"Chandan Pooja on Weekdays",25,null,{"$f":"CalcMar!$E10","v":0},{"$f":"CalcApr!$AH10","v":0},{"$f":"CalcMay!$AI10","v":0},{"$f":"CalcJun!$AH10","v":0},{"$f":"CalcJul!$AI10","v":0},{"$f":"CalcAug!$AI10","v":0},0]
[7,"Vasakshep Pooja",10,null,{"$f":"CalcMar!$E11","v":0},{"$f":"CalcApr!$AH11","v":0},{"$f":"CalcMay!$AI11","v":0},{"$f":"CalcJun!$AH11","v":0},{"$f":"CalcJul!$AI11","v":0},{"$f":"CalcAug!$AI11","v":0},0]
[8,"Aarti *",10,null,{"$f":"CalcMar!$E12","v":0},{"$f":"CalcApr!$AH12","v":0},{"$f":"CalcMay!$AI12","v":0},{"$f":"CalcJun!$AH12","v":0},{"$f":"CalcJul!$AI12","v":0},{"$f":"CalcAug!$AI12","v":0},0]
[9,"Chauvihar/Tivihar ^",25,null,{"$f":"CalcMar!$E13","v":0},{"$f":"CalcApr!$AH13","v":0},{"$f":"CalcMay!$AI13","v":0},{"$f":"CalcJun!$AH13","v":0},{"$f":"CalcJul!$AI13","v":0},{"$f":"CalcAug!$AI13","v":0},0]
[10,"Drink boiled water for a day ^",15,null,{"$f":"CalcMar!$E14","v":0},{"$f":"CalcApr!$AH14","v":0},{"$f":"CalcMay!$AI14","v":0},{"$f":"CalcJun!$AH14","v":0},{"$f":"CalcJul!$AI14","v":0},{"$f":"CalcAug!$AI14","v":0},0]
[11,"Navkarshi ^",20,null,{"$f":"CalcMar!$E15","v":0},{"$f":"CalcApr!$AH15","v":0},{"$f":"CalcMay!$AI15","v":0},{"$f":"CalcJun!$AH15","v":0},{"$f":"CalcJul!$AI15","v":0},{"$f":"CalcAug!$AI15","v":0},0]
[12,"Vadilo Ne Page Lagvu",10,null,{"$f":"CalcMar!$E16","v":0},{"$f":"CalcApr!$AH16","v":0},{"$f":"CalcMay!$AI16","v":0},{"$f":"CalcJun!$AH16","v":0},{"$f":"CalcJul!$AI16","v":0},{"$f":"CalcAug!$AI16","v":0},0]
[13,"No use of mobile, TV #",10,null,{"$f":"CalcMar!$E17","v":0},{"$f":"CalcApr!$AH17","v":0},{"$f":"CalcMay!$AI17","v":0},{"$f":"CalcJun!$AH17","v":0},{"$f":"CalcJul!$AI17","v":0},{"$f":"CalcAug!$AI17","v":0},0]
[14,"Uthata 8 Navkar and Suta 7 Navkar",10,null,{"$f":"CalcMar!$E18","v":0},{"$f":"CalcApr!$AH18","v":0},{"$f":"CalcMay!$AI18","v":0},{"$f":"CalcJun!$AH18","v":0},{"$f":"CalcJul!$AI18","v":0},{"$f":"CalcAug!$AI18","v":0},0]
[15,"No chocolate, ice cream",10,null,{"$f":"CalcMar!$E19","v":0},{"$f":"CalcApr!$AH19","v":0},{"$f":"CalcMay!$AI19","v":0},{"$f":"CalcJun!$AH19","v":0},{"$f":"CalcJul!$AI19","v":0},{"$f":"CalcAug!$AI19","v":0},0]
[16,"Thali Dhoine Pivi",20,null,{"$f":"CalcMar!$E20","v":0},{"$f":"CalcApr!$AH20","v":0},{"$f":"CalcMay!$AI20","v":0},{"$f":"CalcJun!$AH20","v":0},{"$f":"CalcJul!$AI20","v":0},{"$f":"CalcAug!$AI20","v":0},0]
[17,"No Bread & No Butter",20,null,{"$f":"CalcMar!$E21","v":0},{"$f":"CalcApr!$AH21","v":0},{"$f":"CalcMay!$AI21","v":0},{"$f":"CalcJun!$AH21","v":0},{"$f":"CalcJul!$AI21","v":0},{"$f":"CalcAug!$AI21","v":0},0]
[18,"No Root Vegetables",10,null,{"$f":"CalcMar!$E22","v":0},{"$f":"CalcApr!$AH22","v":0},{"$f":"CalcMay!$AI22","v":0},{"$f":"CalcJun!$AH22","v":0},{"$f":"CalcJul!$AI22","v":0},{"$f":"CalcAug!$AI22","v":0},0]
[19,"Read/Listen Jain Bodh Katha",10,null,{"$f":"CalcMar!$E23","v":0},{"$f":"CalcApr!$AH23","v":0},{"$f":"CalcMay!$AI23","v":0},{"$f":"CalcJun!$AH23","v":0},{"$f":"CalcJul!$AI23","v":0},{"$f":"CalcAug!$AI23","v":0},0]
[20,"Recite Gyan na 5 Duha & 5 Khamasana",10,null,{"$f":"CalcMar!$E24","v":0},{"$f":"CalcApr!$AH24","v":0},{"$f":"CalcMay!$AI24","v":0},{"$f":"CalcJun!$AH24","v":0},{"$f":"CalcJul!$AI24","v":0},{"$f":"CalcAug!$AI24","v":0},0]
[21,"No fruits and vegetables on Tithi days",15,null,{"$f":"CalcMar!$E25","v":0},{"$f":"CalcApr!$AH25","v":0},{"$f":"CalcMay!$AI25","v":0},{"$f":"CalcJun!$AH25","v":0},{"$f":"CalcJul!$AI25","v":0},{"$f":"CalcAug!$AI25","v":0},0]
[22,"Sva Dravya Akshat, Naivedya and Fal Pooja $",15,null,{"$f":"CalcMar!$E26","v":0},{"$f":"CalcApr!$AH26","v":0},{"$f":"CalcMay!$AI26","v":0},{"$f":"CalcJun!$AH26","v":0},{"$f":"CalcJul!$AI26","v":0},{"$f":"CalcAug!$AI26","v":0},0]
[23,"Use of bucket instead of shower",10,null,{"$f":"CalcMar!$E27","v":0},{"$f":"CalcApr!$AH27","v":0},{"$f":"CalcMay!$AI27","v":0},{"$f":"CalcJun!$AH27","v":0},{"$f":"CalcJul!$AI27","v":0},{"$f":"CalcAug!$AI27","v":0},0]
[24,"Recite Navkar Mantra Mala",10,null,{"$f":"CalcMar!$E28","v":0},{"$f":"CalcApr!$AH28","v":0},{"$f":"CalcMay!$AI28","v":0},{"$f":"CalcJun!$AH28","v":0},{"$f":"CalcJul!$AI28","v":0},{"$f":"CalcAug!$AI28","v":0},0]
[null,"Total",null,{"$f":"CalcMar!D29","v":0},{"$f":"CalcMar!$E29","v":0},{"$f":"CalcApr!$AH29","v":0},{"$f":"CalcMay!$AI29","v":0},{"$f":"CalcJun!$AH29","v":0},{"$f":"CalcJul!$AI29","v":0},{"$f":"CalcAug!$AI29","v":0},0]
[]
["Notes:"]
["*  Aarti can be done at home. Does not need to be at Derasar."]
["# Includes any other electronic media like iPad etc."]
["^ Non-tapasya day only"]
["$ At Derasar "]

{"sheet":"April","index":1,"n_rows":36,"n_cols":40,"rows_kept":36,"cut":false,"hidden":false,"merged":[[2,3,2,4],[2,5,2,12],[2,13,2,16],[2,17,2,24],[0,3,0,24],[1,3,1,4],[1,5,1,12],[1,13,1,16],[1,17,1,24]]}
[null,null,null,"Children Religious Activity Score Card"]
[null,null,null,"Name: ",null,{"$f":"IF(March!E2=\"\",\"\",March!E2)","v":""},{"$nulls":7},"Parents email:",null,null,null,{"$f":"IF(March!M2=\"\",\"\",March!M2)","v":""}]
[null,null,null,"Age:",null,{"$f":"IF(March!E3=\"\",\"\",March!E3)","v":""},{"$nulls":7},"Parents contact#:",null,null,null,{"$f":"IF(March!M3=\"\",\"\",March!M3)","v":""}]
["No","Niyam","Points","2020-04-01","2020-04-02","2020-04-03","2020-04-04","2020-04-05","2020-04-06","2020-04-07","2020-04-08","2020-04-09","2020-04-10","2020-04-11","2020-04-12","2020-04-13","2020-04-14","2020-04-15","2020-04-16","2020-04-17","2020-04-18","2020-04-19","2020-04-20","2020-04-21","2020-04-22","2020-04-23","2020-04-24","2020-04-25","2020-04-26","2020-04-27","2020-04-28","2020-04-29","2020-04-30","Mar Total","Apr Total","May Total","Jun Total","July Total","Aug Total","Final Total"]
[null,null,null,{"$f":"TEXT(D4,\"ddd\")","v":"Wed"},{"$f":"TEXT(E4,\"ddd\")","v":"Thu"},"Fri","Sat","Sun","Mon","Tue","Wed","Thu","Fri","Sat","Sun","Mon","Tue","Wed","Thu","Fri","Sat","Sun","Mon","Tue","Wed","Thu","Fri","Sat","Sun","Mon","Tue","Wed","Thu"]
[{"$f":"March!A6","v":1},{"$f":"March!B6","v":"Upvaas/Aayambil"},{"$f":"March!C6","v":70},{"$nulls":30},{"$f":"CalcMar!$E5","v":0},{"$f":"CalcApr!$AH5","v":0},{"$f":"CalcMay!$AI5","v":0},{"$f":"CalcJun!$AH5","v":0},{"$f":"CalcJul!$AI5","v":0},{"$f":"CalcAug!$AI5","v":0},{"$f":"SUM(AH6:AM6)","v":0}]
[{"$f":"March!A7","v":2},{"$f":"March!B7","v":"Ekasanu/Biyasanu"},{"$f":"March!C7","v":60},{"$nulls":30},{"$f":"CalcMar!$E6","v":0},{"$f":"CalcApr!$AH6","v":0},{"$f":"CalcMay!$AI6","v":0},{"$f":"CalcJun!$AH6","v":0},{"$f":"CalcJul!$AI6","v":0},{"$f":"CalcAug!$AI6","v":0},{"$f":"SUM(AH7:AM7)","v":0}]
[{"$f":"March!A8","v":3},{"$f":"March!B8","v":"Chandan Pooja on weekend"},{"$f":"March!C8","v":40},{"$nulls":30},{"$f":"CalcMar!$E7","v":0},{"$f":"CalcApr!$AH7","v":0},{"$f":"CalcMay!$AI7","v":0},{"$f":"CalcJun!$AH7","v":0},{"$f":"CalcJul!$AI7","v":0},{"$f":"CalcAug!$AI7","v":0},0]
[{"$f":"March!A9","v":4},{"$f":"March!B9","v":"Samayik/Pratikraman"},{"$f":"March!C9","v":50},{"$nulls":30},{"$f":"CalcMar!$E8","v":0},{"$f":"CalcApr!$AH8","v":0},{"$f":"CalcMay!$AI8","v":0},{"$f":"CalcJun!$AH8","v":0},{"$f":"CalcJul!$AI8","v":0},{"$f":"CalcAug!$AI8","v":0},0]
[{"$f":"March!A10","v":5},{"$f":"March!B10","v":"Learn Sutra/Stuti for 15 mins"},{"$f":"March!C10","v":30},{"$nulls":30},{"$f":"CalcMar!$E9","v":0},{"$f":"CalcApr!$AH9","v":0},{"$f":"CalcMay!$AI9","v":0},{"$f":"CalcJun!$AH9","v":0},{"$f":"CalcJul!$AI9","v":0},{"$f":"CalcAug!$AI9","v":0},0]
[{"$f":"March!A11","v":6},{"$f":"March!B11","v":"Chandan Pooja on Weekdays"},{"$f":"March!C11","v":25},{"$nulls":30},{"$f":"CalcMar!$E10","v":0},{"$f":"CalcApr!$AH10","v":0},{"$f":"CalcMay!$AI10","v":0},{"$f":"CalcJun!$AH10","v":0},{"$f":"CalcJul!$AI10","v":0},{"$f":"CalcAug!$AI10","v":0},0]
[{"$f":"March!A12","v":7},{"$f":"March!B12","v":"Vasakshep Pooja"},{"$f":"March!C12","v":10},{"$nulls":30},{"$f":"CalcMar!$E11","v":0},{"$f":"CalcApr!$AH11","v":0},{"$f":"CalcMay!$AI11","v":0},{"$f":"CalcJun!$AH11","v":0},{"$f":"CalcJul!$AI11","v":0},{"$f":"CalcAug!$AI11","v":0},0]
[{"$f":"March!A13","v":8},{"$f":"March!B13","v":"Aarti *"},{"$f":"March!C13","v":10},{"$nulls":30},{"$f":"CalcMar!$E12","v":0},{"$f":"CalcApr!$AH12","v":0},{"$f":"CalcMay!$AI12","v":0},{"$f":"CalcJun!$AH12","v":0},{"$f":"CalcJul!$AI12","v":0},{"$f":"CalcAug!$AI12","v":0},0]
[{"$f":"March!A14","v":9},{"$f":"March!B14","v":"Chauvihar/Tivihar ^"},{"$f":"March!C14","v":25},{"$nulls":30},{"$f":"CalcMar!$E13","v":0},{"$f":"CalcApr!$AH13","v":0},{"$f":"CalcMay!$AI13","v":0},{"$f":"CalcJun!$AH13","v":0},{"$f":"CalcJul!$AI13","v":0},{"$f":"CalcAug!$AI13","v":0},0]
[{"$f":"March!A15","v":10},{"$f":"March!B15","v":"Drink boiled water for a day ^"},{"$f":"March!C15","v":15},{"$nulls":30},{"$f":"CalcMar!$E14","v":0},{"$f":"CalcApr!$AH14","v":0},{"$f":"CalcMay!$AI14","v":0},{"$f":"CalcJun!$AH14","v":0},{"$f":"CalcJul!$AI14","v":0},{"$f":"CalcAug!$AI14","v":0},0]
[{"$f":"March!A16","v":11},{"$f":"March!B16","v":"Navkarshi ^"},{"$f":"March!C16","v":20},{"$nulls":30},{"$f":"CalcMar!$E15","v":0},{"$f":"CalcApr!$AH15","v":0},{"$f":"CalcMay!$AI15","v":0},{"$f":"CalcJun!$AH15","v":0},{"$f":"CalcJul!$AI15","v":0},{"$f":"CalcAug!$AI15","v":0},0]
[{"$f":"March!A17","v":12},{"$f":"March!B17","v":"Vadilo Ne Page Lagvu"},{"$f":"March!C17","v":10},{"$nulls":30},{"$f":"CalcMar!$E16","v":0},{"$f":"CalcApr!$AH16","v":0},{"$f":"CalcMay!$AI16","v":0},{"$f":"CalcJun!$AH16","v":0},{"$f":"CalcJul!$AI16","v":0},{"$f":"CalcAug!$AI16","v":0},0]
[{"$f":"March!A18","v":13},{"$f":"March!B18","v":"No use of mobile, TV #"},{"$f":"March!C18","v":10},{"$nulls":30},{"$f":"CalcMar!$E17","v":0},{"$f":"CalcApr!$AH17","v":0},{"$f":"CalcMay!$AI17","v":0},{"$f":"CalcJun!$AH17","v":0},{"$f":"CalcJul!$AI17","v":0},{"$f":"CalcAug!$AI17","v":0},0]
[{"$f":"March!A19","v":14},{"$f":"March!B19","v":"Uthata 8 Navkar and Suta 7 Navkar"},{"$f":"March!C19","v":10},{"$nulls":30},{"$f":"CalcMar!$E18","v":0},{"$f":"CalcApr!$AH18","v":0},{"$f":"CalcMay!$AI18","v":0},{"$f":"CalcJun!$AH18","v":0},{"$f":"CalcJul!$AI18","v":0},{"$f":"CalcAug!$AI18","v":0},0]
[{"$f":"March!A20","v":15},{"$f":"March!B20","v":"No chocolate, ice cream"},{"$f":"March!C20","v":10},{"$nulls":30},{"$f":"CalcMar!$E19","v":0},{"$f":"CalcApr!$AH19","v":0},{"$f":"CalcMay!$AI19","v":0},{"$f":"CalcJun!$AH19","v":0},{"$f":"CalcJul!$AI19","v":0},{"$f":"CalcAug!$AI19","v":0},0]
[{"$f":"March!A21","v":16},{"$f":"March!B21","v":"Thali Dhoine Pivi"},{"$f":"March!C21","v":20},{"$nulls":30},{"$f":"CalcMar!$E20","v":0},{"$f":"CalcApr!$AH20","v":0},{"$f":"CalcMay!$AI20","v":0},{"$f":"CalcJun!$AH20","v":0},{"$f":"CalcJul!$AI20","v":0},{"$f":"CalcAug!$AI20","v":0},0]
[{"$f":"March!A22","v":17},{"$f":"March!B22","v":"No Bread & No Butter"},{"$f":"March!C22","v":20},{"$nulls":30},{"$f":"CalcMar!$E21","v":0},{"$f":"CalcApr!$AH21","v":0},{"$f":"CalcMay!$AI21","v":0},{"$f":"CalcJun!$AH21","v":0},{"$f":"CalcJul!$AI21","v":0},{"$f":"CalcAug!$AI21","v":0},0]
[{"$f":"March!A23","v":18},{"$f":"March!B23","v":"No Root Vegetables"},{"$f":"March!C23","v":10},{"$nulls":30},{"$f":"CalcMar!$E22","v":0},{"$f":"CalcApr!$AH22","v":0},{"$f":"CalcMay!$AI22","v":0},{"$f":"CalcJun!$AH22","v":0},{"$f":"CalcJul!$AI22","v":0},{"$f":"CalcAug!$AI22","v":0},0]
[{"$f":"March!A24","v":19},{"$f":"March!B24","v":"Read/Listen Jain Bodh Katha"},{"$f":"March!C24","v":10},{"$nulls":30},{"$f":"CalcMar!$E23","v":0},{"$f":"CalcApr!$AH23","v":0},{"$f":"CalcMay!$AI23","v":0},{"$f":"CalcJun!$AH23","v":0},{"$f":"CalcJul!$AI23","v":0},{"$f":"CalcAug!$AI23","v":0},0]
[{"$f":"March!A25","v":20},{"$f":"March!B25","v":"Recite Gyan na 5 Duha & 5 Khamasana"},{"$f":"March!C25","v":10},{"$nulls":30},{"$f":"CalcMar!$E24","v":0},{"$f":"CalcApr!$AH24","v":0},{"$f":"CalcMay!$AI24","v":0},{"$f":"CalcJun!$AH24","v":0},{"$f":"CalcJul!$AI24","v":0},{"$f":"CalcAug!$AI24","v":0},0]
[{"$f":"March!A26","v":21},{"$f":"March!B26","v":"No fruits and vegetables on Tithi days"},{"$f":"March!C26","v":15},{"$nulls":30},{"$f":"CalcMar!$E25","v":0},{"$f":"CalcApr!$AH25","v":0},{"$f":"CalcMay!$AI25","v":0},{"$f":"CalcJun!$AH25","v":0},{"$f":"CalcJul!$AI25","v":0},{"$f":"CalcAug!$AI25","v":0},0]
[{"$f":"March!A27","v":22},{"$f":"March!B27","v":"Sva Dravya Akshat, Naivedya and Fal Pooja $"},{"$f":"March!C27","v":15},{"$nulls":30},{"$f":"CalcMar!$E26","v":0},{"$f":"CalcApr!$AH26","v":0},{"$f":"CalcMay!$AI26","v":0},{"$f":"CalcJun!$AH26","v":0},{"$f":"CalcJul!$AI26","v":0},{"$f":"CalcAug!$AI26","v":0},0]
[{"$f":"March!A28","v":23},{"$f":"March!B28","v":"Use of bucket instead of shower"},{"$f":"March!C28","v":10},{"$nulls":30},{"$f":"CalcMar!$E27","v":0},{"$f":"CalcApr!$AH27","v":0},{"$f":"CalcMay!$AI27","v":0},{"$f":"CalcJun!$AH27","v":0},{"$f":"CalcJul!$AI27","v":0},{"$f":"CalcAug!$AI27","v":0},0]
[{"$f":"March!A29","v":24},{"$f":"March!B29","v":"Recite Navkar Mantra Mala"},{"$f":"March!C29","v":10},{"$nulls":30},{"$f":"CalcMar!$E28","v":0},{"$f":"CalcApr!$AH28","v":0},{"$f":"CalcMay!$AI28","v":0},{"$f":"CalcJun!$AH28","v":0},{"$f":"CalcJul!$AI28","v":0},{"$f":"CalcAug!$AI28","v":0},0]
[null,"Total",null,{"$f":"CalcApr!D29","v":0},{"$f":"CalcApr!E29","v":0},{"$f":"CalcApr!F29","v":0},{"$f":"CalcApr!G29","v":0},{"$f":"CalcApr!H29","v":0},{"$f":"CalcApr!I29","v":0},{"$f":"CalcApr!J29","v":0},{"$f":"CalcApr!K29","v":0},{"$f":"CalcApr!L29","v":0},{"$f":"CalcApr!M29","v":0},{"$f":"CalcApr!N29","v":0},{"$f":"CalcApr!O29","v":0},{"$f":"CalcApr!P29","v":0},{"$f":"CalcApr!Q29","v":0},{"$f":"CalcApr!R29","v":0},{"$f":"CalcApr!S29","v":0},{"$f":"CalcApr!T29","v":0},{"$f":"CalcApr!U29","v":0},{"$f":"CalcApr!V29","v":0},{"$f":"CalcApr!W29","v":0},{"$f":"CalcApr!X29","v":0},{"$f":"CalcApr!Y29","v":0},{"$f":"CalcApr!Z29","v":0},{"$f":"CalcApr!AA29","v":0},{"$f":"CalcApr!AB29","v":0},{"$f":"CalcApr!AC29","v":0},{"$f":"CalcApr!AD29","v":0},{"$f":"CalcApr!AE29","v":0},{"$f":"CalcApr!AF29","v":0},{"$f":"CalcApr!AG29","v":0},{"$f":"CalcMar!$E29","v":0},{"$f":"CalcApr!$AH29","v":0},{"$f":"CalcMay!$AI29","v":0},{"$f":"CalcJun!$AH29","v":0},{"$f":"CalcJul!$AI29","v":0},{"$f":"CalcAug!$AI29","v":0},0]
[]
["Notes:"]
[{"$f":"March!A33","v":"*  Aarti can be done at home. Does not need to be at Derasar."}]
[{"$f":"March!A34","v":"# Includes any other electronic media like iPad etc."}]
[{"$f":"March!A35","v":"^ Non-tapasya day only"}]
[{"$f":"March!A36","v":"$ At Derasar "}]

{"sheet":"May","index":2,"n_rows":36,"n_cols":41,"rows_kept":36,"cut":false,"hidden":false,"merged":[[2,5,2,10],[1,11,1,13],[0,3,0,39],[1,3,1,4],[2,3,2,4],[1,5,1,10],[1,14,1,24],[2,14,2,24]]}
[null,null,null,"Children Religious Activity Score Card"]
[null,null,null,"Name: ",null,{"$f":"IF(March!E2=\"\",\"\",March!E2)","v":""},{"$nulls":5},"Parents email:",null,null,{"$f":"IF(March!M2=\"\",\"\",March!M2)","v":""}]
[null,null,null,"Age:",null,{"$f":"IF(March!E3=\"\",\"\",March!E3)","v":""},{"$nulls":5},"Parents contact#:",null,null,{"$f":"IF(March!M3=\"\",\"\",March!M3)","v":""}]
["No","Niyam","Points","2020-05-01","2020-05-02","2020-05-03","2020-05-04","2020-05-05","2020-05-06","2020-05-07","2020-05-08","2020-05-09","2020-05-10","2020-05-11","2020-05-12","2020-05-13","2020-05-14","2020-05-15","2020-05-16","2020-05-17","2020-05-18","2020-05-19","2020-05-20","2020-05-21","2020-05-22","2020-05-23","2020-05-24","2020-05-25","2020-05-26","2020-05-27","2020-05-28","2020-05-29","2020-05-30","2020-05-31","Mar Total","Apr Total","May Total","Jun Total","July Total","Aug Total","Final Total"]
[null,null,null,{"$f":"TEXT(D4,\"ddd\")","v":"Fri"},{"$f":"TEXT(E4,\"ddd\")","v":"Sat"},"Sun","Mon","Tue","Wed","Thu","Fri","Sat","Sun","Mon","Tue","Wed","Thu","Fri","Sat","Sun","Mon","Tue","Wed","Thu","Fri","Sat","Sun","Mon","Tue","Wed","Thu","Fri","Sat","Sun"]
[{"$f":"March!A6","v":1},{"$f":"March!B6","v":"Upvaas/Aayambil"},{"$f":"March!C6","v":70},{"$nulls":31},{"$f":"CalcMar!$E5","v":0},{"$f":"CalcApr!$AH5","v":0},{"$f":"CalcMay!$AI5","v":0},{"$f":"CalcJun!$AH5","v":0},{"$f":"CalcJul!$AI5","v":0},{"$f":"CalcAug!$AI5","v":0},{"$f":"SUM(AI6:AN6)","v":0}]
[{"$f":"March!A7","v":2},{"$f":"March!B7","v":"Ekasanu/Biyasanu"},{"$f":"March!C7","v":60},{"$nulls":31},{"$f":"CalcMar!$E6","v":0},{"$f":"CalcApr!$AH6","v":0},{"$f":"CalcMay!$AI6","v":0},{"$f":"CalcJun!$AH6","v":0},{"$f":"CalcJul!$AI6","v":0},{"$f":"CalcAug!$AI6","v":0},{"$f":"SUM(AI7:AN7)","v":0}]
[{"$f":"March!A8","v":3},{"$f":"March!B8","v":"Chandan Pooja on weekend"},{"$f":"March!C8","v":40},{"$nulls":31},{"$f":"CalcMar!$E7","v":0},{"$f":"CalcApr!$AH7","v":0},{"$f":"CalcMay!$AI7","v":0},{"$f":"CalcJun!$AH7","v":0},{"$f":"CalcJul!$AI7","v":0},{"$f":"CalcAug!$AI7","v":0},0]
[{"$f":"March!A9","v":4},{"$f":"March!B9","v":"Samayik/Pratikraman"},{"$f":"March!C9","v":50},{"$nulls":31},{"$f":"CalcMar!$E8","v":0},{"$f":"CalcApr!$AH8","v":0},{"$f":"CalcMay!$AI8","v":0},{"$f":"CalcJun!$AH8","v":0},{"$f":"CalcJul!$AI8","v":0},{"$f":"CalcAug!$AI8","v":0},0]
[{"$f":"March!A10","v":5},{"$f":"March!B10","v":"Learn Sutra/Stuti for 15 mins"},{"$f":"March!C10","v":30},{"$nulls":31},{"$f":"CalcMar!$E9","v":0},{"$f":"CalcApr!$AH9","v":0},{"$f":"CalcMay!$AI9","v":0},{"$f":"CalcJun!$AH9","v":0},{"$f":"CalcJul!$AI9","v":0},{"$f":"CalcAug!$AI9","v":0},0]
[{"$f":"March!A11","v":6},{"$f":"March!B11","v":"Chandan Pooja on Weekdays"},{"$f":"March!C11","v":25},{"$nulls":31},{"$f":"CalcMar!$E10","v":0},{"$f":"CalcApr!$AH10","v":0},{"$f":"CalcMay!$AI10","v":0},{"$f":"CalcJun!$AH10","v":0},{"$f":"CalcJul!$AI10","v":0},{"$f":"CalcAug!$AI10","v":0},0]
[{"$f":"March!A12","v":7},{"$f":"March!B12","v":"Vasakshep Pooja"},{"$f":"March!C12","v":10},{"$nulls":31},{"$f":"CalcMar!$E11","v":0},{"$f":"CalcApr!$AH11","v":0},{"$f":"CalcMay!$AI11","v":0},{"$f":"CalcJun!$AH11","v":0},{"$f":"CalcJul!$AI11","v":0},{"$f":"CalcAug!$AI11","v":0},0]
[{"$f":"March!A13","v":8},{"$f":"March!B13","v":"Aarti *"},{"$f":"March!C13","v":10},{"$nulls":31},{"$f":"CalcMar!$E12","v":0},{"$f":"CalcApr!$AH12","v":0},{"$f":"CalcMay!$AI12","v":0},{"$f":"CalcJun!$AH12","v":0},{"$f":"CalcJul!$AI12","v":0},{"$f":"CalcAug!$AI12","v":0},0]
[{"$f":"March!A14","v":9},{"$f":"March!B14","v":"Chauvihar/Tivihar ^"},{"$f":"March!C14","v":25},{"$nulls":31},{"$f":"CalcMar!$E13","v":0},{"$f":"CalcApr!$AH13","v":0},{"$f":"CalcMay!$AI13","v":0},{"$f":"CalcJun!$AH13","v":0},{"$f":"CalcJul!$AI13","v":0},{"$f":"CalcAug!$AI13","v":0},0]
[{"$f":"March!A15","v":10},{"$f":"March!B15","v":"Drink boiled water for a day ^"},{"$f":"March!C15","v":15},{"$nulls":31},{"$f":"CalcMar!$E14","v":0},{"$f":"CalcApr!$AH14","v":0},{"$f":"CalcMay!$AI14","v":0},{"$f":"CalcJun!$AH14","v":0},{"$f":"CalcJul!$AI14","v":0},{"$f":"CalcAug!$AI14","v":0},0]
[{"$f":"March!A16","v":11},{"$f":"March!B16","v":"Navkarshi ^"},{"$f":"March!C16","v":20},{"$nulls":31},{"$f":"CalcMar!$E15","v":0},{"$f":"CalcApr!$AH15","v":0},{"$f":"CalcMay!$AI15","v":0},{"$f":"CalcJun!$AH15","v":0},{"$f":"CalcJul!$AI15","v":0},{"$f":"CalcAug!$AI15","v":0},0]
[{"$f":"March!A17","v":12},{"$f":"March!B17","v":"Vadilo Ne Page Lagvu"},{"$f":"March!C17","v":10},{"$nulls":31},{"$f":"CalcMar!$E16","v":0},{"$f":"CalcApr!$AH16","v":0},{"$f":"CalcMay!$AI16","v":0},{"$f":"CalcJun!$AH16","v":0},{"$f":"CalcJul!$AI16","v":0},{"$f":"CalcAug!$AI16","v":0},0]
[{"$f":"March!A18","v":13},{"$f":"March!B18","v":"No use of mobile, TV #"},{"$f":"March!C18","v":10},{"$nulls":31},{"$f":"CalcMar!$E17","v":0},{"$f":"CalcApr!$AH17","v":0},{"$f":"CalcMay!$AI17","v":0},{"$f":"CalcJun!$AH17","v":0},{"$f":"CalcJul!$AI17","v":0},{"$f":"CalcAug!$AI17","v":0},0]
[{"$f":"March!A19","v":14},{"$f":"March!B19","v":"Uthata 8 Navkar and Suta 7 Navkar"},{"$f":"March!C19","v":10},{"$nulls":31},{"$f":"CalcMar!$E18","v":0},{"$f":"CalcApr!$AH18","v":0},{"$f":"CalcMay!$AI18","v":0},{"$f":"CalcJun!$AH18","v":0},{"$f":"CalcJul!$AI18","v":0},{"$f":"CalcAug!$AI18","v":0},0]
[{"$f":"March!A20","v":15},{"$f":"March!B20","v":"No chocolate, ice cream"},{"$f":"March!C20","v":10},{"$nulls":31},{"$f":"CalcMar!$E19","v":0},{"$f":"CalcApr!$AH19","v":0},{"$f":"CalcMay!$AI19","v":0},{"$f":"CalcJun!$AH19","v":0},{"$f":"CalcJul!$AI19","v":0},{"$f":"CalcAug!$AI19","v":0},0]
[{"$f":"March!A21","v":16},{"$f":"March!B21","v":"Thali Dhoine Pivi"},{"$f":"March!C21","v":20},{"$nulls":31},{"$f":"CalcMar!$E20","v":0},{"$f":"CalcApr!$AH20","v":0},{"$f":"CalcMay!$AI20","v":0},{"$f":"CalcJun!$AH20","v":0},{"$f":"CalcJul!$AI20","v":0},{"$f":"CalcAug!$AI20","v":0},0]
[{"$f":"March!A22","v":17},{"$f":"March!B22","v":"No Bread & No Butter"},{"$f":"March!C22","v":20},{"$nulls":31},{"$f":"CalcMar!$E21","v":0},{"$f":"CalcApr!$AH21","v":0},{"$f":"CalcMay!$AI21","v":0},{"$f":"CalcJun!$AH21","v":0},{"$f":"CalcJul!$AI21","v":0},{"$f":"CalcAug!$AI21","v":0},0]
[{"$f":"March!A23","v":18},{"$f":"March!B23","v":"No Root Vegetables"},{"$f":"March!C23","v":10},{"$nulls":31},{"$f":"CalcMar!$E22","v":0},{"$f":"CalcApr!$AH22","v":0},{"$f":"CalcMay!$AI22","v":0},{"$f":"CalcJun!$AH22","v":0},{"$f":"CalcJul!$AI22","v":0},{"$f":"CalcAug!$AI22","v":0},0]
[{"$f":"March!A24","v":19},{"$f":"March!B24","v":"Read/Listen Jain Bodh Katha"},{"$f":"March!C24","v":10},{"$nulls":31},{"$f":"CalcMar!$E23","v":0},{"$f":"CalcApr!$AH23","v":0},{"$f":"CalcMay!$AI23","v":0},{"$f":"CalcJun!$AH23","v":0},{"$f":"CalcJul!$AI23","v":0},{"$f":"CalcAug!$AI23","v":0},0]
[{"$f":"March!A25","v":20},{"$f":"March!B25","v":"Recite Gyan na 5 Duha & 5 Khamasana"},{"$f":"March!C25","v":10},{"$nulls":31},{"$f":"CalcMar!$E24","v":0},{"$f":"CalcApr!$AH24","v":0},{"$f":"CalcMay!$AI24","v":0},{"$f":"CalcJun!$AH24","v":0},{"$f":"CalcJul!$AI24","v":0},{"$f":"CalcAug!$AI24","v":0},0]
[{"$f":"March!A26","v":21},{"$f":"March!B26","v":"No fruits and vegetables on Tithi days"},{"$f":"March!C26","v":15},{"$nulls":31},{"$f":"CalcMar!$E25","v":0},{"$f":"CalcApr!$AH25","v":0},{"$f":"CalcMay!$AI25","v":0},{"$f":"CalcJun!$AH25","v":0},{"$f":"CalcJul!$AI25","v":0},{"$f":"CalcAug!$AI25","v":0},0]
[{"$f":"March!A27","v":22},{"$f":"March!B27","v":"Sva Dravya Akshat, Naivedya and Fal Pooja $"},{"$f":"March!C27","v":15},{"$nulls":31},{"$f":"CalcMar!$E26","v":0},{"$f":"CalcApr!$AH26","v":0},{"$f":"CalcMay!$AI26","v":0},{"$f":"CalcJun!$AH26","v":0},{"$f":"CalcJul!$AI26","v":0},{"$f":"CalcAug!$AI26","v":0},0]
[{"$f":"March!A28","v":23},{"$f":"March!B28","v":"Use of bucket instead of shower"},{"$f":"March!C28","v":10},{"$nulls":31},{"$f":"CalcMar!$E27","v":0},{"$f":"CalcApr!$AH27","v":0},{"$f":"CalcMay!$AI27","v":0},{"$f":"CalcJun!$AH27","v":0},{"$f":"CalcJul!$AI27","v":0},{"$f":"CalcAug!$AI27","v":0},0]
[{"$f":"March!A29","v":24},{"$f":"March!B29","v":"Recite Navkar Mantra Mala"},{"$f":"March!C29","v":10},{"$nulls":31},{"$f":"CalcMar!$E28","v":0},{"$f":"CalcApr!$AH28","v":0},{"$f":"CalcMay!$AI28","v":0},{"$f":"CalcJun!$AH28","v":0},{"$f":"CalcJul!$AI28","v":0},{"$f":"CalcAug!$AI28","v":0},0]
[null,"Total",null,{"$f":"CalcMay!D29","v":0},{"$f":"CalcMay!E29","v":0},{"$f":"CalcMay!F29","v":0},{"$f":"CalcMay!G29","v":0},{"$f":"CalcMay!H29","v":0},{"$f":"CalcMay!I29","v":0},{"$f":"CalcMay!J29","v":0},{"$f":"CalcMay!K29","v":0},{"$f":"CalcMay!L29","v":0},{"$f":"CalcMay!M29","v":0},{"$f":"CalcMay!N29","v":0},{"$f":"CalcMay!O29","v":0},{"$f":"CalcMay!P29","v":0},{"$f":"CalcMay!Q29","v":0},{"$f":"CalcMay!R29","v":0},{"$f":"CalcMay!S29","v":0},{"$f":"CalcMay!T29","v":0},{"$f":"CalcMay!U29","v":0},{"$f":"CalcMay!V29","v":0},{"$f":"CalcMay!W29","v":0},{"$f":"CalcMay!X29","v":0},{"$f":"CalcMay!Y29","v":0},{"$f":"CalcMay!Z29","v":0},{"$f":"CalcMay!AA29","v":0},{"$f":"CalcMay!AB29","v":0},{"$f":"CalcMay!AC29","v":0},{"$f":"CalcMay!AD29","v":0},{"$f":"CalcMay!AE29","v":0},{"$f":"CalcMay!AF29","v":0},{"$f":"CalcMay!AG29","v":0},{"$f":"CalcMay!AH29","v":0},{"$f":"CalcMar!$E29","v":0},{"$f":"CalcApr!$AH29","v":0},{"$f":"CalcMay!$AI29","v":0},{"$f":"CalcJun!$AH29","v":0},{"$f":"CalcJul!$AI29","v":0},{"$f":"CalcAug!$AI29","v":0},0]
[]
["Notes:"]
[{"$f":"March!A33","v":"*  Aarti can be done at home. Does not need to be at Derasar."}]
[{"$f":"March!A34","v":"# Includes any other electronic media like iPad etc."}]
[{"$f":"March!A35","v":"^ Non-tapasya day only"}]
[{"$f":"March!A36","v":"$ At Derasar "}]

{"sheet":"June","index":3,"n_rows":36,"n_cols":40,"rows_kept":36,"cut":false,"hidden":false,"merged":[[2,3,2,4],[2,5,2,12],[2,13,2,16],[2,17,2,24],[0,3,0,24],[1,3,1,4],[1,5,1,12],[1,13,1,16],[1,17,1,24]]}
[null,null,null,"Children Religious Activity Score Card"]
[null,null,null,"Name: ",null,{"$f":"IF(March!E2=\"\",\"\",March!E2)","v":""},{"$nulls":7},"Parents email:",null,null,null,{"$f":"IF(March!M2=\"\",\"\",March!M2)","v":""}]
[null,null,null,"Age:",null,{"$f":"IF(March!E3=\"\",\"\",March!E3)","v":""},{"$nulls":7},"Parents contact#:",null,null,null,{"$f":"IF(March!M3=\"\",\"\",March!M3)","v":""}]
["No","Niyam","Points","2020-06-01","2020-06-02","2020-06-03","2020-06-04","2020-06-05","2020-06-06","2020-06-07","2020-06-08","2020-06-09","2020-06-10","2020-06-11","2020-06-12","2020-06-13","2020-06-14","2020-06-15","2020-06-16","2020-06-17","2020-06-18","2020-06-19","2020-06-20","2020-06-21","2020-06-22","2020-06-23","2020-06-24","2020-06-25","2020-06-26","2020-06-27","2020-06-28","2020-06-29","2020-06-30","Mar Total","Apr Total","May Total","Jun Total","July Total","Aug Total","Final Total"]
[null,null,null,{"$f":"TEXT(D4,\"ddd\")","v":"Mon"},{"$f":"TEXT(E4,\"ddd\")","v":"Tue"},"Wed","Thu","Fri","Sat","Sun","Mon","Tue","Wed","Thu","Fri","Sat","Sun","Mon","Tue","Wed","Thu","Fri","Sat","Sun","Mon","Tue","Wed","Thu","Fri","Sat","Sun","Mon","Tue"]
[{"$f":"March!A6","v":1},{"$f":"March!B6","v":"Upvaas/Aayambil"},{"$f":"March!C6","v":70},{"$nulls":30},{"$f":"CalcMar!$E5","v":0},{"$f":"CalcApr!$AH5","v":0},{"$f":"CalcMay!$AI5","v":0},{"$f":"CalcJun!$AH5","v":0},{"$f":"CalcJul!$AI5","v":0},{"$f":"CalcAug!$AI5","v":0},{"$f":"SUM(AH6:AM6)","v":0}]
[{"$f":"March!A7","v":2},{"$f":"March!B7","v":"Ekasanu/Biyasanu"},{"$f":"March!C7","v":60},{"$nulls":30},{"$f":"CalcMar!$E6","v":0},{"$f":"CalcApr!$AH6","v":0},{"$f":"CalcMay!$AI6","v":0},{"$f":"CalcJun!$AH6","v":0},{"$f":"CalcJul!$AI6","v":0},{"$f":"CalcAug!$AI6","v":0},{"$f":"SUM(AH7:AM7)","v":0}]
[{"$f":"March!A8","v":3},{"$f":"March!B8","v":"Chandan Pooja on weekend"},{"$f":"March!C8","v":40},{"$nulls":30},{"$f":"CalcMar!$E7","v":0},{"$f":"CalcApr!$AH7","v":0},{"$f":"CalcMay!$AI7","v":0},{"$f":"CalcJun!$AH7","v":0},{"$f":"CalcJul!$AI7","v":0},{"$f":"CalcAug!$AI7","v":0},0]
[{"$f":"March!A9","v":4},{"$f":"March!B9","v":"Samayik/Pratikraman"},{"$f":"March!C9","v":50},{"$nulls":30},{"$f":"CalcMar!$E8","v":0},{"$f":"CalcApr!$AH8","v":0},{"$f":"CalcMay!$AI8","v":0},{"$f":"CalcJun!$AH8","v":0},{"$f":"CalcJul!$AI8","v":0},{"$f":"CalcAug!$AI8","v":0},0]
[{"$f":"March!A10","v":5},{"$f":"March!B10","v":"Learn Sutra/Stuti for 15 mins"},{"$f":"March!C10","v":30},{"$nulls":30},{"$f":"CalcMar!$E9","v":0},{"$f":"CalcApr!$AH9","v":0},{"$f":"CalcMay!$AI9","v":0},{"$f":"CalcJun!$AH9","v":0},{"$f":"CalcJul!$AI9","v":0},{"$f":"CalcAug!$AI9","v":0},0]
[{"$f":"March!A11","v":6},{"$f":"March!B11","v":"Chandan Pooja on Weekdays"},{"$f":"March!C11","v":25},{"$nulls":30},{"$f":"CalcMar!$E10","v":0},{"$f":"CalcApr!$AH10","v":0},{"$f":"CalcMay!$AI10","v":0},{"$f":"CalcJun!$AH10","v":0},{"$f":"CalcJul!$AI10","v":0},{"$f":"CalcAug!$AI10","v":0},0]
[{"$f":"March!A12","v":7},{"$f":"March!B12","v":"Vasakshep Pooja"},{"$f":"March!C12","v":10},{"$nulls":30},{"$f":"CalcMar!$E11","v":0},{"$f":"CalcApr!$AH11","v":0},{"$f":"CalcMay!$AI11","v":0},{"$f":"CalcJun!$AH11","v":0},{"$f":"CalcJul!$AI11","v":0},{"$f":"CalcAug!$AI11","v":0},0]
[{"$f":"March!A13","v":8},{"$f":"March!B13","v":"Aarti *"},{"$f":"March!C13","v":10},{"$nulls":30},{"$f":"CalcMar!$E12","v":0},{"$f":"CalcApr!$AH12","v":0},{"$f":"CalcMay!$AI12","v":0},{"$f":"CalcJun!$AH12","v":0},{"$f":"CalcJul!$AI12","v":0},{"$f":"CalcAug!$AI12","v":0},0]
[{"$f":"March!A14","v":9},{"$f":"March!B14","v":"Chauvihar/Tivihar ^"},{"$f":"March!C14","v":25},{"$nulls":30},{"$f":"CalcMar!$E13","v":0},{"$f":"CalcApr!$AH13","v":0},{"$f":"CalcMay!$AI13","v":0},{"$f":"CalcJun!$AH13","v":0},{"$f":"CalcJul!$AI13","v":0},{"$f":"CalcAug!$AI13","v":0},0]
[{"$f":"March!A15","v":10},{"$f":"March!B15","v":"Drink boiled water for a day ^"},{"$f":"March!C15","v":15},{"$nulls":30},{"$f":"CalcMar!$E14","v":0},{"$f":"CalcApr!$AH14","v":0},{"$f":"CalcMay!$AI14","v":0},{"$f":"CalcJun!$AH14","v":0},{"$f":"CalcJul!$AI14","v":0},{"$f":"CalcAug!$AI14","v":0},0]
[{"$f":"March!A16","v":11},{"$f":"March!B16","v":"Navkarshi ^"},{"$f":"March!C16","v":20},{"$nulls":30},{"$f":"CalcMar!$E15","v":0},{"$f":"CalcApr!$AH15","v":0},{"$f":"CalcMay!$AI15","v":0},{"$f":"CalcJun!$AH15","v":0},{"$f":"CalcJul!$AI15","v":0},{"$f":"CalcAug!$AI15","v":0},0]
[{"$f":"March!A17","v":12},{"$f":"March!B17","v":"Vadilo Ne Page Lagvu"},{"$f":"March!C17","v":10},{"$nulls":30},{"$f":"CalcMar!$E16","v":0},{"$f":"CalcApr!$AH16","v":0},{"$f":"CalcMay!$AI16","v":0},{"$f":"CalcJun!$AH16","v":0},{"$f":"CalcJul!$AI16","v":0},{"$f":"CalcAug!$AI16","v":0},0]
[{"$f":"March!A18","v":13},{"$f":"March!B18","v":"No use of mobile, TV #"},{"$f":"March!C18","v":10},{"$nulls":30},{"$f":"CalcMar!$E17","v":0},{"$f":"CalcApr!$AH17","v":0},{"$f":"CalcMay!$AI17","v":0},{"$f":"CalcJun!$AH17","v":0},{"$f":"CalcJul!$AI17","v":0},{"$f":"CalcAug!$AI17","v":0},0]
[{"$f":"March!A19","v":14},{"$f":"March!B19","v":"Uthata 8 Navkar and Suta 7 Navkar"},{"$f":"March!C19","v":10},{"$nulls":30},{"$f":"CalcMar!$E18","v":0},{"$f":"CalcApr!$AH18","v":0},{"$f":"CalcMay!$AI18","v":0},{"$f":"CalcJun!$AH18","v":0},{"$f":"CalcJul!$AI18","v":0},{"$f":"CalcAug!$AI18","v":0},0]
[{"$f":"March!A20","v":15},{"$f":"March!B20","v":"No chocolate, ice cream"},{"$f":"March!C20","v":10},{"$nulls":30},{"$f":"CalcMar!$E19","v":0},{"$f":"CalcApr!$AH19","v":0},{"$f":"CalcMay!$AI19","v":0},{"$f":"CalcJun!$AH19","v":0},{"$f":"CalcJul!$AI19","v":0},{"$f":"CalcAug!$AI19","v":0},0]
[{"$f":"March!A21","v":16},{"$f":"March!B21","v":"Thali Dhoine Pivi"},{"$f":"March!C21","v":20},{"$nulls":30},{"$f":"CalcMar!$E20","v":0},{"$f":"CalcApr!$AH20","v":0},{"$f":"CalcMay!$AI20","v":0},{"$f":"CalcJun!$AH20","v":0},{"$f":"CalcJul!$AI20","v":0},{"$f":"CalcAug!$AI20","v":0},0]
[{"$f":"March!A22","v":17},{"$f":"March!B22","v":"No Bread & No Butter"},{"$f":"March!C22","v":20},{"$nulls":30},{"$f":"CalcMar!$E21","v":0},{"$f":"CalcApr!$AH21","v":0},{"$f":"CalcMay!$AI21","v":0},{"$f":"CalcJun!$AH21","v":0},{"$f":"CalcJul!$AI21","v":0},{"$f":"CalcAug!$AI21","v":0},0]
[{"$f":"March!A23","v":18},{"$f":"March!B23","v":"No Root Vegetables"},{"$f":"March!C23","v":10},{"$nulls":30},{"$f":"CalcMar!$E22","v":0},{"$f":"CalcApr!$AH22","v":0},{"$f":"CalcMay!$AI22","v":0},{"$f":"CalcJun!$AH22","v":0},{"$f":"CalcJul!$AI22","v":0},{"$f":"CalcAug!$AI22","v":0},0]
[{"$f":"March!A24","v":19},{"$f":"March!B24","v":"Read/Listen Jain Bodh Katha"},{"$f":"March!C24","v":10},{"$nulls":30},{"$f":"CalcMar!$E23","v":0},{"$f":"CalcApr!$AH23","v":0},{"$f":"CalcMay!$AI23","v":0},{"$f":"CalcJun!$AH23","v":0},{"$f":"CalcJul!$AI23","v":0},{"$f":"CalcAug!$AI23","v":0},0]
[{"$f":"March!A25","v":20},{"$f":"March!B25","v":"Recite Gyan na 5 Duha & 5 Khamasana"},{"$f":"March!C25","v":10},{"$nulls":30},{"$f":"CalcMar!$E24","v":0},{"$f":"CalcApr!$AH24","v":0},{"$f":"CalcMay!$AI24","v":0},{"$f":"CalcJun!$AH24","v":0},{"$f":"CalcJul!$AI24","v":0},{"$f":"CalcAug!$AI24","v":0},0]
[{"$f":"March!A26","v":21},{"$f":"March!B26","v":"No fruits and vegetables on Tithi days"},{"$f":"March!C26","v":15},{"$nulls":30},{"$f":"CalcMar!$E25","v":0},{"$f":"CalcApr!$AH25","v":0},{"$f":"CalcMay!$AI25","v":0},{"$f":"CalcJun!$AH25","v":0},{"$f":"CalcJul!$AI25","v":0},{"$f":"CalcAug!$AI25","v":0},0]
[{"$f":"March!A27","v":22},{"$f":"March!B27","v":"Sva Dravya Akshat, Naivedya and Fal Pooja $"},{"$f":"March!C27","v":15},{"$nulls":30},{"$f":"CalcMar!$E26","v":0},{"$f":"CalcApr!$AH26","v":0},{"$f":"CalcMay!$AI26","v":0},{"$f":"CalcJun!$AH26","v":0},{"$f":"CalcJul!$AI26","v":0},{"$f":"CalcAug!$AI26","v":0},0]
[{"$f":"March!A28","v":23},{"$f":"March!B28","v":"Use of bucket instead of shower"},{"$f":"March!C28","v":10},{"$nulls":30},{"$f":"CalcMar!$E27","v":0},{"$f":"CalcApr!$AH27","v":0},{"$f":"CalcMay!$AI27","v":0},{"$f":"CalcJun!$AH27","v":0},{"$f":"CalcJul!$AI27","v":0},{"$f":"CalcAug!$AI27","v":0},0]
[{"$f":"March!A29","v":24},{"$f":"March!B29","v":"Recite Navkar Mantra Mala"},{"$f":"March!C29","v":10},{"$nulls":30},{"$f":"CalcMar!$E28","v":0},{"$f":"CalcApr!$AH28","v":0},{"$f":"CalcMay!$AI28","v":0},{"$f":"CalcJun!$AH28","v":0},{"$f":"CalcJul!$AI28","v":0},{"$f":"CalcAug!$AI28","v":0},0]
[null,"Total",null,{"$f":"CalcJun!D29","v":0},{"$f":"CalcJun!E29","v":0},{"$f":"CalcJun!F29","v":0},{"$f":"CalcJun!G29","v":0},{"$f":"CalcJun!H29","v":0},{"$f":"CalcJun!I29","v":0},{"$f":"CalcJun!J29","v":0},{"$f":"CalcJun!K29","v":0},{"$f":"CalcJun!L29","v":0},{"$f":"CalcJun!M29","v":0},{"$f":"CalcJun!N29","v":0},{"$f":"CalcJun!O29","v":0},{"$f":"CalcJun!P29","v":0},{"$f":"CalcJun!Q29","v":0},{"$f":"CalcJun!R29","v":0},{"$f":"CalcJun!S29","v":0},{"$f":"CalcJun!T29","v":0},{"$f":"CalcJun!U29","v":0},{"$f":"CalcJun!V29","v":0},{"$f":"CalcJun!W29","v":0},{"$f":"CalcJun!X29","v":0},{"$f":"CalcJun!Y29","v":0},{"$f":"CalcJun!Z29","v":0},{"$f":"CalcJun!AA29","v":0},{"$f":"CalcJun!AB29","v":0},{"$f":"CalcJun!AC29","v":0},{"$f":"CalcJun!AD29","v":0},{"$f":"CalcJun!AE29","v":0},{"$f":"CalcJun!AF29","v":0},{"$f":"CalcJun!AG29","v":0},{"$f":"CalcMar!$E29","v":0},{"$f":"CalcApr!$AH29","v":0},{"$f":"CalcMay!$AI29","v":0},{"$f":"CalcJun!$AH29","v":0},{"$f":"CalcJul!$AI29","v":0},{"$f":"CalcAug!$AI29","v":0},0]
[]
["Notes:"]
[{"$f":"March!A33","v":"*  Aarti can be done at home. Does not need to be at Derasar."}]
[{"$f":"March!A34","v":"# Includes any other electronic media like iPad etc."}]
[{"$f":"March!A35","v":"^ Non-tapasya day only"}]
[{"$f":"March!A36","v":"$ At Derasar "}]

{"sheet":"July","index":4,"n_rows":36,"n_cols":41,"rows_kept":36,"cut":false,"hidden":false,"merged":[[2,3,2,4],[2,5,2,10],[2,14,2,24],[0,3,0,39],[1,3,1,4],[1,5,1,10],[1,11,1,13],[1,14,1,24]]}
[null,null,null,"Children Religious Activity Score Card"]
[null,null,null,"Name: ",null,{"$f":"IF(March!E2=\"\",\"\",March!E2)","v":""},{"$nulls":5},"Parents email:",null,null,{"$f":"IF(March!M2=\"\",\"\",March!M2)","v":""}]
[null,null,null,"Age:",null,{"$f":"IF(March!E3=\"\",\"\",March!E3)","v":""},{"$nulls":5},"Parents contact#:",null,null,{"$f":"IF(March!M3=\"\",\"\",March!M3)","v":""}]
["No","Niyam","Points","2020-07-01","2020-07-02","2020-07-03","2020-07-04","2020-07-05","2020-07-06","2020-07-07","2020-07-08","2020-07-09","2020-07-10","2020-07-11","2020-07-12","2020-07-13","2020-07-14","2020-07-15","2020-07-16","2020-07-17","2020-07-18","2020-07-19","2020-07-20","2020-07-21","2020-07-22","2020-07-23","2020-07-24","2020-07-25","2020-07-26","2020-07-27","2020-07-28","2020-07-29","2020-07-30","2020-07-31","Mar Total","Apr Total","May Total","Jun Total","July Total","Aug Total","Final Total"]
[null,null,null,{"$f":"TEXT(D4,\"ddd\")","v":"Wed"},{"$f":"TEXT(E4,\"ddd\")","v":"Thu"},"Fri","Sat","Sun","Mon","Tue","Wed","Thu","Fri","Sat","Sun","Mon","Tue","Wed","Thu","Fri","Sat","Sun","Mon","Tue","Wed","Thu","Fri","Sat","Sun","Mon","Tue","Wed","Thu","Fri"]
[{"$f":"March!A6","v":1},{"$f":"March!B6","v":"Upvaas/Aayambil"},{"$f":"March!C6","v":70},{"$nulls":31},{"$f":"CalcMar!$E5","v":0},{"$f":"CalcApr!$AH5","v":0},{"$f":"CalcMay!$AI5","v":0},{"$f":"CalcJun!$AH5","v":0},{"$f":"CalcJul!$AI5","v":0},{"$f":"CalcAug!$AI5","v":0},{"$f":"SUM(AI6:AN6)","v":0}]
[{"$f":"March!A7","v":2},{"$f":"March!B7","v":"Ekasanu/Biyasanu"},{"$f":"March!C7","v":60},{"$nulls":31},{"$f":"CalcMar!$E6","v":0},{"$f":"CalcApr!$AH6","v":0},{"$f":"CalcMay!$AI6","v":0},{"$f":"CalcJun!$AH6","v":0},{"$f":"CalcJul!$AI6","v":0},{"$f":"CalcAug!$AI6","v":0},{"$f":"SUM(AI7:AN7)","v":0}]
[{"$f":"March!A8","v":3},{"$f":"March!B8","v":"Chandan Pooja on weekend"},{"$f":"March!C8","v":40},{"$nulls":31},{"$f":"CalcMar!$E7","v":0},{"$f":"CalcApr!$AH7","v":0},{"$f":"CalcMay!$AI7","v":0},{"$f":"CalcJun!$AH7","v":0},{"$f":"CalcJul!$AI7","v":0},{"$f":"CalcAug!$AI7","v":0},0]
[{"$f":"March!A9","v":4},{"$f":"March!B9","v":"Samayik/Pratikraman"},{"$f":"March!C9","v":50},{"$nulls":31},{"$f":"CalcMar!$E8","v":0},{"$f":"CalcApr!$AH8","v":0},{"$f":"CalcMay!$AI8","v":0},{"$f":"CalcJun!$AH8","v":0},{"$f":"CalcJul!$AI8","v":0},{"$f":"CalcAug!$AI8","v":0},0]
[{"$f":"March!A10","v":5},{"$f":"March!B10","v":"Learn Sutra/Stuti for 15 mins"},{"$f":"March!C10","v":30},{"$nulls":31},{"$f":"CalcMar!$E9","v":0},{"$f":"CalcApr!$AH9","v":0},{"$f":"CalcMay!$AI9","v":0},{"$f":"CalcJun!$AH9","v":0},{"$f":"CalcJul!$AI9","v":0},{"$f":"CalcAug!$AI9","v":0},0]
[{"$f":"March!A11","v":6},{"$f":"March!B11","v":"Chandan Pooja on Weekdays"},{"$f":"March!C11","v":25},{"$nulls":31},{"$f":"CalcMar!$E10","v":0},{"$f":"CalcApr!$AH10","v":0},{"$f":"CalcMay!$AI10","v":0},{"$f":"CalcJun!$AH10","v":0},{"$f":"CalcJul!$AI10","v":0},{"$f":"CalcAug!$AI10","v":0},0]
[{"$f":"March!A12","v":7},{"$f":"March!B12","v":"Vasakshep Pooja"},{"$f":"March!C12","v":10},{"$nulls":31},{"$f":"CalcMar!$E11","v":0},{"$f":"CalcApr!$AH11","v":0},{"$f":"CalcMay!$AI11","v":0},{"$f":"CalcJun!$AH11","v":0},{"$f":"CalcJul!$AI11","v":0},{"$f":"CalcAug!$AI11","v":0},0]
[{"$f":"March!A13","v":8},{"$f":"March!B13","v":"Aarti *"},{"$f":"March!C13","v":10},{"$nulls":31},{"$f":"CalcMar!$E12","v":0},{"$f":"CalcApr!$AH12","v":0},{"$f":"CalcMay!$AI12","v":0},{"$f":"CalcJun!$AH12","v":0},{"$f":"CalcJul!$AI12","v":0},{"$f":"CalcAug!$AI12","v":0},0]
[{"$f":"March!A14","v":9},{"$f":"March!B14","v":"Chauvihar/Tivihar ^"},{"$f":"March!C14","v":25},{"$nulls":31},{"$f":"CalcMar!$E13","v":0},{"$f":"CalcApr!$AH13","v":0},{"$f":"CalcMay!$AI13","v":0},{"$f":"CalcJun!$AH13","v":0},{"$f":"CalcJul!$AI13","v":0},{"$f":"CalcAug!$AI13","v":0},0]
[{"$f":"March!A15","v":10},{"$f":"March!B15","v":"Drink boiled water for a day ^"},{"$f":"March!C15","v":15},{"$nulls":31},{"$f":"CalcMar!$E14","v":0},{"$f":"CalcApr!$AH14","v":0},{"$f":"CalcMay!$AI14","v":0},{"$f":"CalcJun!$AH14","v":0},{"$f":"CalcJul!$AI14","v":0},{"$f":"CalcAug!$AI14","v":0},0]
[{"$f":"March!A16","v":11},{"$f":"March!B16","v":"Navkarshi ^"},{"$f":"March!C16","v":20},{"$nulls":31},{"$f":"CalcMar!$E15","v":0},{"$f":"CalcApr!$AH15","v":0},{"$f":"CalcMay!$AI15","v":0},{"$f":"CalcJun!$AH15","v":0},{"$f":"CalcJul!$AI15","v":0},{"$f":"CalcAug!$AI15","v":0},0]
[{"$f":"March!A17","v":12},{"$f":"March!B17","v":"Vadilo Ne Page Lagvu"},{"$f":"March!C17","v":10},{"$nulls":31},{"$f":"CalcMar!$E16","v":0},{"$f":"CalcApr!$AH16","v":0},{"$f":"CalcMay!$AI16","v":0},{"$f":"CalcJun!$AH16","v":0},{"$f":"CalcJul!$AI16","v":0},{"$f":"CalcAug!$AI16","v":0},0]
[{"$f":"March!A18","v":13},{"$f":"March!B18","v":"No use of mobile, TV #"},{"$f":"March!C18","v":10},{"$nulls":31},{"$f":"CalcMar!$E17","v":0},{"$f":"CalcApr!$AH17","v":0},{"$f":"CalcMay!$AI17","v":0},{"$f":"CalcJun!$AH17","v":0},{"$f":"CalcJul!$AI17","v":0},{"$f":"CalcAug!$AI17","v":0},0]
[{"$f":"March!A19","v":14},{"$f":"March!B19","v":"Uthata 8 Navkar and Suta 7 Navkar"},{"$f":"March!C19","v":10},{"$nulls":31},{"$f":"CalcMar!$E18","v":0},{"$f":"CalcApr!$AH18","v":0},{"$f":"CalcMay!$AI18","v":0},{"$f":"CalcJun!$AH18","v":0},{"$f":"CalcJul!$AI18","v":0},{"$f":"CalcAug!$AI18","v":0},0]
[{"$f":"March!A20","v":15},{"$f":"March!B20","v":"No chocolate, ice cream"},{"$f":"March!C20","v":10},{"$nulls":31},{"$f":"CalcMar!$E19","v":0},{"$f":"CalcApr!$AH19","v":0},{"$f":"CalcMay!$AI19","v":0},{"$f":"CalcJun!$AH19","v":0},{"$f":"CalcJul!$AI19","v":0},{"$f":"CalcAug!$AI19","v":0},0]
[{"$f":"March!A21","v":16},{"$f":"March!B21","v":"Thali Dhoine Pivi"},{"$f":"March!C21","v":20},{"$nulls":31},{"$f":"CalcMar!$E20","v":0},{"$f":"CalcApr!$AH20","v":0},{"$f":"CalcMay!$AI20","v":0},{"$f":"CalcJun!$AH20","v":0},{"$f":"CalcJul!$AI20","v":0},{"$f":"CalcAug!$AI20","v":0},0]
[{"$f":"March!A22","v":17},{"$f":"March!B22","v":"No Bread & No Butter"},{"$f":"March!C22","v":20},{"$nulls":31},{"$f":"CalcMar!$E21","v":0},{"$f":"CalcApr!$AH21","v":0},{"$f":"CalcMay!$AI21","v":0},{"$f":"CalcJun!$AH21","v":0},{"$f":"CalcJul!$AI21","v":0},{"$f":"CalcAug!$AI21","v":0},0]
[{"$f":"March!A23","v":18},{"$f":"March!B23","v":"No Root Vegetables"},{"$f":"March!C23","v":10},{"$nulls":31},{"$f":"CalcMar!$E22","v":0},{"$f":"CalcApr!$AH22","v":0},{"$f":"CalcMay!$AI22","v":0},{"$f":"CalcJun!$AH22","v":0},{"$f":"CalcJul!$AI22","v":0},{"$f":"CalcAug!$AI22","v":0},0]
[{"$f":"March!A24","v":19},{"$f":"March!B24","v":"Read/Listen Jain Bodh Katha"},{"$f":"March!C24","v":10},{"$nulls":31},{"$f":"CalcMar!$E23","v":0},{"$f":"CalcApr!$AH23","v":0},{"$f":"CalcMay!$AI23","v":0},{"$f":"CalcJun!$AH23","v":0},{"$f":"CalcJul!$AI23","v":0},{"$f":"CalcAug!$AI23","v":0},0]
[{"$f":"March!A25","v":20},{"$f":"March!B25","v":"Recite Gyan na 5 Duha & 5 Khamasana"},{"$f":"March!C25","v":10},{"$nulls":31},{"$f":"CalcMar!$E24","v":0},{"$f":"CalcApr!$AH24","v":0},{"$f":"CalcMay!$AI24","v":0},{"$f":"CalcJun!$AH24","v":0},{"$f":"CalcJul!$AI24","v":0},{"$f":"CalcAug!$AI24","v":0},0]
[{"$f":"March!A26","v":21},{"$f":"March!B26","v":"No fruits and vegetables on Tithi days"},{"$f":"March!C26","v":15},{"$nulls":31},{"$f":"CalcMar!$E25","v":0},{"$f":"CalcApr!$AH25","v":0},{"$f":"CalcMay!$AI25","v":0},{"$f":"CalcJun!$AH25","v":0},{"$f":"CalcJul!$AI25","v":0},{"$f":"CalcAug!$AI25","v":0},0]
[{"$f":"March!A27","v":22},{"$f":"March!B27","v":"Sva Dravya Akshat, Naivedya and Fal Pooja $"},{"$f":"March!C27","v":15},{"$nulls":31},{"$f":"CalcMar!$E26","v":0},{"$f":"CalcApr!$AH26","v":0},{"$f":"CalcMay!$AI26","v":0},{"$f":"CalcJun!$AH26","v":0},{"$f":"CalcJul!$AI26","v":0},{"$f":"CalcAug!$AI26","v":0},0]
[{"$f":"March!A28","v":23},{"$f":"March!B28","v":"Use of bucket instead of shower"},{"$f":"March!C28","v":10},{"$nulls":31},{"$f":"CalcMar!$E27","v":0},{"$f":"CalcApr!$AH27","v":0},{"$f":"CalcMay!$AI27","v":0},{"$f":"CalcJun!$AH27","v":0},{"$f":"CalcJul!$AI27","v":0},{"$f":"CalcAug!$AI27","v":0},0]
[{"$f":"March!A29","v":24},{"$f":"March!B29","v":"Recite Navkar Mantra Mala"},{"$f":"March!C29","v":10},{"$nulls":31},{"$f":"CalcMar!$E28","v":0},{"$f":"CalcApr!$AH28","v":0},{"$f":"CalcMay!$AI28","v":0},{"$f":"CalcJun!$AH28","v":0},{"$f":"CalcJul!$AI28","v":0},{"$f":"CalcAug!$AI28","v":0},0]
[null,"Total",null,{"$f":"CalcJul!D29","v":0},{"$f":"CalcJul!E29","v":0},{"$f":"CalcJul!F29","v":0},{"$f":"CalcJul!G29","v":0},{"$f":"CalcJul!H29","v":0},{"$f":"CalcJul!I29","v":0},{"$f":"CalcJul!J29","v":0},{"$f":"CalcJul!K29","v":0},{"$f":"CalcJul!L29","v":0},{"$f":"CalcJul!M29","v":0},{"$f":"CalcJul!N29","v":0},{"$f":"CalcJul!O29","v":0},{"$f":"CalcJul!P29","v":0},{"$f":"CalcJul!Q29","v":0},{"$f":"CalcJul!R29","v":0},{"$f":"CalcJul!S29","v":0},{"$f":"CalcJul!T29","v":0},{"$f":"CalcJul!U29","v":0},{"$f":"CalcJul!V29","v":0},{"$f":"CalcJul!W29","v":0},{"$f":"CalcJul!X29","v":0},{"$f":"CalcJul!Y29","v":0},{"$f":"CalcJul!Z29","v":0},{"$f":"CalcJul!AA29","v":0},{"$f":"CalcJul!AB29","v":0},{"$f":"CalcJul!AC29","v":0},{"$f":"CalcJul!AD29","v":0},{"$f":"CalcJul!AE29","v":0},{"$f":"CalcJul!AF29","v":0},{"$f":"CalcJul!AG29","v":0},{"$f":"CalcJul!AH29","v":0},{"$f":"CalcMar!$E29","v":0},{"$f":"CalcApr!$AH29","v":0},{"$f":"CalcMay!$AI29","v":0},{"$f":"CalcJun!$AH29","v":0},{"$f":"CalcJul!$AI29","v":0},{"$f":"CalcAug!$AI29","v":0},0]
[]
["Notes:"]
[{"$f":"March!A33","v":"*  Aarti can be done at home. Does not need to be at Derasar."}]
[{"$f":"March!A34","v":"# Includes any other electronic media like iPad etc."}]
[{"$f":"March!A35","v":"^ Non-tapasya day only"}]
[{"$f":"March!A36","v":"$ At Derasar "}]

{"sheet":"August","index":5,"n_rows":36,"n_cols":41,"rows_kept":36,"cut":false,"hidden":false,"merged":[[2,3,2,4],[2,5,2,10],[2,14,2,24],[0,3,0,39],[1,3,1,4],[1,5,1,10],[1,11,1,13],[1,14,1,24]]}
[null,null,null,"Children Religious Activity Score Card"]
[null,null,null,"Name: ",null,{"$f":"IF(March!E2=\"\",\"\",March!E2)","v":""},{"$nulls":5},"Parents email:",null,null,{"$f":"IF(March!M2=\"\",\"\",March!M2)","v":""}]
[null,null,null,"Age:",null,{"$f":"IF(March!E3=\"\",\"\",March!E3)","v":""},{"$nulls":5},"Parents contact#:",null,null,{"$f":"IF(March!M3=\"\",\"\",March!M3)","v":""}]
["No","Niyam","Points","2020-08-01","2020-08-02","2020-08-03","2020-08-04","2020-08-05","2020-08-06","2020-08-07","2020-08-08","2020-08-09","2020-08-10","2020-08-11","2020-08-12","2020-08-13","2020-08-14","2020-08-15","2020-08-16","2020-08-17","2020-08-18","2020-08-19","2020-08-20","2020-08-21","2020-08-22","2020-08-23","2020-08-24","2020-08-25","2020-08-26","2020-08-27","2020-08-28","2020-08-29","2020-08-30","2020-08-31","Mar Total","Apr Total","May Total","Jun Total","July Total","Aug Total","Final Total"]
[null,null,null,{"$f":"TEXT(D4,\"ddd\")","v":"Sat"},{"$f":"TEXT(E4,\"ddd\")","v":"Sun"},"Mon","Tue","Wed","Thu","Fri","Sat","Sun","Mon","Tue","Wed","Thu","Fri","Sat","Sun","Mon","Tue","Wed","Thu","Fri","Sat","Sun","Mon","Tue","Wed","Thu","Fri","Sat","Sun","Mon"]
[{"$f":"March!A6","v":1},{"$f":"March!B6","v":"Upvaas/Aayambil"},{"$f":"March!C6","v":70},{"$nulls":31},{"$f":"CalcMar!$E5","v":0},{"$f":"CalcApr!$AH5","v":0},{"$f":"CalcMay!$AI5","v":0},{"$f":"CalcJun!$AH5","v":0},{"$f":"CalcJul!$AI5","v":0},{"$f":"CalcAug!$AI5","v":0},{"$f":"SUM(AI6:AN6)","v":0}]
[{"$f":"March!A7","v":2},{"$f":"March!B7","v":"Ekasanu/Biyasanu"},{"$f":"March!C7","v":60},{"$nulls":31},{"$f":"CalcMar!$E6","v":0},{"$f":"CalcApr!$AH6","v":0},{"$f":"CalcMay!$AI6","v":0},{"$f":"CalcJun!$AH6","v":0},{"$f":"CalcJul!$AI6","v":0},{"$f":"CalcAug!$AI6","v":0},{"$f":"SUM(AI7:AN7)","v":0}]
[{"$f":"March!A8","v":3},{"$f":"March!B8","v":"Chandan Pooja on weekend"},{"$f":"March!C8","v":40},{"$nulls":31},{"$f":"CalcMar!$E7","v":0},{"$f":"CalcApr!$AH7","v":0},{"$f":"CalcMay!$AI7","v":0},{"$f":"CalcJun!$AH7","v":0},{"$f":"CalcJul!$AI7","v":0},{"$f":"CalcAug!$AI7","v":0},0]
[{"$f":"March!A9","v":4},{"$f":"March!B9","v":"Samayik/Pratikraman"},{"$f":"March!C9","v":50},{"$nulls":31},{"$f":"CalcMar!$E8","v":0},{"$f":"CalcApr!$AH8","v":0},{"$f":"CalcMay!$AI8","v":0},{"$f":"CalcJun!$AH8","v":0},{"$f":"CalcJul!$AI8","v":0},{"$f":"CalcAug!$AI8","v":0},0]
[{"$f":"March!A10","v":5},{"$f":"March!B10","v":"Learn Sutra/Stuti for 15 mins"},{"$f":"March!C10","v":30},{"$nulls":31},{"$f":"CalcMar!$E9","v":0},{"$f":"CalcApr!$AH9","v":0},{"$f":"CalcMay!$AI9","v":0},{"$f":"CalcJun!$AH9","v":0},{"$f":"CalcJul!$AI9","v":0},{"$f":"CalcAug!$AI9","v":0},0]
[{"$f":"March!A11","v":6},{"$f":"March!B11","v":"Chandan Pooja on Weekdays"},{"$f":"March!C11","v":25},{"$nulls":31},{"$f":"CalcMar!$E10","v":0},{"$f":"CalcApr!$AH10","v":0},{"$f":"CalcMay!$AI10","v":0},{"$f":"CalcJun!$AH10","v":0},{"$f":"CalcJul!$AI10","v":0},{"$f":"CalcAug!$AI10","v":0},0]
[{"$f":"March!A12","v":7},{"$f":"March!B12","v":"Vasakshep Pooja"},{"$f":"March!C12","v":10},{"$nulls":31},{"$f":"CalcMar!$E11","v":0},{"$f":"CalcApr!$AH11","v":0},{"$f":"CalcMay!$AI11","v":0},{"$f":"CalcJun!$AH11","v":0},{"$f":"CalcJul!$AI11","v":0},{"$f":"CalcAug!$AI11","v":0},0]
[{"$f":"March!A13","v":8},{"$f":"March!B13","v":"Aarti *"},{"$f":"March!C13","v":10},{"$nulls":31},{"$f":"CalcMar!$E12","v":0},{"$f":"CalcApr!$AH12","v":0},{"$f":"CalcMay!$AI12","v":0},{"$f":"CalcJun!$AH12","v":0},{"$f":"CalcJul!$AI12","v":0},{"$f":"CalcAug!$AI12","v":0},0]
[{"$f":"March!A14","v":9},{"$f":"March!B14","v":"Chauvihar/Tivihar ^"},{"$f":"March!C14","v":25},{"$nulls":31},{"$f":"CalcMar!$E13","v":0},{"$f":"CalcApr!$AH13","v":0},{"$f":"CalcMay!$AI13","v":0},{"$f":"CalcJun!$AH13","v":0},{"$f":"CalcJul!$AI13","v":0},{"$f":"CalcAug!$AI13","v":0},0]
[{"$f":"March!A15","v":10},{"$f":"March!B15","v":"Drink boiled water for a day ^"},{"$f":"March!C15","v":15},{"$nulls":31},{"$f":"CalcMar!$E14","v":0},{"$f":"CalcApr!$AH14","v":0},{"$f":"CalcMay!$AI14","v":0},{"$f":"CalcJun!$AH14","v":0},{"$f":"CalcJul!$AI14","v":0},{"$f":"CalcAug!$AI14","v":0},0]
[{"$f":"March!A16","v":11},{"$f":"March!B16","v":"Navkarshi ^"},{"$f":"March!C16","v":20},{"$nulls":31},{"$f":"CalcMar!$E15","v":0},{"$f":"CalcApr!$AH15","v":0},{"$f":"CalcMay!$AI15","v":0},{"$f":"CalcJun!$AH15","v":0},{"$f":"CalcJul!$AI15","v":0},{"$f":"CalcAug!$AI15","v":0},0]
[{"$f":"March!A17","v":12},{"$f":"March!B17","v":"Vadilo Ne Page Lagvu"},{"$f":"March!C17","v":10},{"$nulls":31},{"$f":"CalcMar!$E16","v":0},{"$f":"CalcApr!$AH16","v":0},{"$f":"CalcMay!$AI16","v":0},{"$f":"CalcJun!$AH16","v":0},{"$f":"CalcJul!$AI16","v":0},{"$f":"CalcAug!$AI16","v":0},0]
[{"$f":"March!A18","v":13},{"$f":"March!B18","v":"No use of mobile, TV #"},{"$f":"March!C18","v":10},{"$nulls":31},{"$f":"CalcMar!$E17","v":0},{"$f":"CalcApr!$AH17","v":0},{"$f":"CalcMay!$AI17","v":0},{"$f":"CalcJun!$AH17","v":0},{"$f":"CalcJul!$AI17","v":0},{"$f":"CalcAug!$AI17","v":0},0]
[{"$f":"March!A19","v":14},{"$f":"March!B19","v":"Uthata 8 Navkar and Suta 7 Navkar"},{"$f":"March!C19","v":10},{"$nulls":31},{"$f":"CalcMar!$E18","v":0},{"$f":"CalcApr!$AH18","v":0},{"$f":"CalcMay!$AI18","v":0},{"$f":"CalcJun!$AH18","v":0},{"$f":"CalcJul!$AI18","v":0},{"$f":"CalcAug!$AI18","v":0},0]
[{"$f":"March!A20","v":15},{"$f":"March!B20","v":"No chocolate, ice cream"},{"$f":"March!C20","v":10},{"$nulls":31},{"$f":"CalcMar!$E19","v":0},{"$f":"CalcApr!$AH19","v":0},{"$f":"CalcMay!$AI19","v":0},{"$f":"CalcJun!$AH19","v":0},{"$f":"CalcJul!$AI19","v":0},{"$f":"CalcAug!$AI19","v":0},0]
[{"$f":"March!A21","v":16},{"$f":"March!B21","v":"Thali Dhoine Pivi"},{"$f":"March!C21","v":20},{"$nulls":31},{"$f":"CalcMar!$E20","v":0},{"$f":"CalcApr!$AH20","v":0},{"$f":"CalcMay!$AI20","v":0},{"$f":"CalcJun!$AH20","v":0},{"$f":"CalcJul!$AI20","v":0},{"$f":"CalcAug!$AI20","v":0},0]
[{"$f":"March!A22","v":17},{"$f":"March!B22","v":"No Bread & No Butter"},{"$f":"March!C22","v":20},{"$nulls":31},{"$f":"CalcMar!$E21","v":0},{"$f":"CalcApr!$AH21","v":0},{"$f":"CalcMay!$AI21","v":0},{"$f":"CalcJun!$AH21","v":0},{"$f":"CalcJul!$AI21","v":0},{"$f":"CalcAug!$AI21","v":0},0]
[{"$f":"March!A23","v":18},{"$f":"March!B23","v":"No Root Vegetables"},{"$f":"March!C23","v":10},{"$nulls":31},{"$f":"CalcMar!$E22","v":0},{"$f":"CalcApr!$AH22","v":0},{"$f":"CalcMay!$AI22","v":0},{"$f":"CalcJun!$AH22","v":0},{"$f":"CalcJul!$AI22","v":0},{"$f":"CalcAug!$AI22","v":0},0]
[{"$f":"March!A24","v":19},{"$f":"March!B24","v":"Read/Listen Jain Bodh Katha"},{"$f":"March!C24","v":10},{"$nulls":31},{"$f":"CalcMar!$E23","v":0},{"$f":"CalcApr!$AH23","v":0},{"$f":"CalcMay!$AI23","v":0},{"$f":"CalcJun!$AH23","v":0},{"$f":"CalcJul!$AI23","v":0},{"$f":"CalcAug!$AI23","v":0},0]
[{"$f":"March!A25","v":20},{"$f":"March!B25","v":"Recite Gyan na 5 Duha & 5 Khamasana"},{"$f":"March!C25","v":10},{"$nulls":31},{"$f":"CalcMar!$E24","v":0},{"$f":"CalcApr!$AH24","v":0},{"$f":"CalcMay!$AI24","v":0},{"$f":"CalcJun!$AH24","v":0},{"$f":"CalcJul!$AI24","v":0},{"$f":"CalcAug!$AI24","v":0},0]
[{"$f":"March!A26","v":21},{"$f":"March!B26","v":"No fruits and vegetables on Tithi days"},{"$f":"March!C26","v":15},{"$nulls":31},{"$f":"CalcMar!$E25","v":0},{"$f":"CalcApr!$AH25","v":0},{"$f":"CalcMay!$AI25","v":0},{"$f":"CalcJun!$AH25","v":0},{"$f":"CalcJul!$AI25","v":0},{"$f":"CalcAug!$AI25","v":0},0]
[{"$f":"March!A27","v":22},{"$f":"March!B27","v":"Sva Dravya Akshat, Naivedya and Fal Pooja $"},{"$f":"March!C27","v":15},{"$nulls":31},{"$f":"CalcMar!$E26","v":0},{"$f":"CalcApr!$AH26","v":0},{"$f":"CalcMay!$AI26","v":0},{"$f":"CalcJun!$AH26","v":0},{"$f":"CalcJul!$AI26","v":0},{"$f":"CalcAug!$AI26","v":0},0]
[{"$f":"March!A28","v":23},{"$f":"March!B28","v":"Use of bucket instead of shower"},{"$f":"March!C28","v":10},{"$nulls":31},{"$f":"CalcMar!$E27","v":0},{"$f":"CalcApr!$AH27","v":0},{"$f":"CalcMay!$AI27","v":0},{"$f":"CalcJun!$AH27","v":0},{"$f":"CalcJul!$AI27","v":0},{"$f":"CalcAug!$AI27","v":0},0]
[{"$f":"March!A29","v":24},{"$f":"March!B29","v":"Recite Navkar Mantra Mala"},{"$f":"March!C29","v":10},{"$nulls":31},{"$f":"CalcMar!$E28","v":0},{"$f":"CalcApr!$AH28","v":0},{"$f":"CalcMay!$AI28","v":0},{"$f":"CalcJun!$AH28","v":0},{"$f":"CalcJul!$AI28","v":0},{"$f":"CalcAug!$AI28","v":0},0]
[null,"Total",null,{"$f":"CalcAug!D29","v":0},{"$f":"CalcAug!E29","v":0},{"$f":"CalcAug!F29","v":0},{"$f":"CalcAug!G29","v":0},{"$f":"CalcAug!H29","v":0},{"$f":"CalcAug!I29","v":0},{"$f":"CalcAug!J29","v":0},{"$f":"CalcAug!K29","v":0},{"$f":"CalcAug!L29","v":0},{"$f":"CalcAug!M29","v":0},{"$f":"CalcAug!N29","v":0},{"$f":"CalcAug!O29","v":0},{"$f":"CalcAug!P29","v":0},{"$f":"CalcAug!Q29","v":0},{"$f":"CalcAug!R29","v":0},{"$f":"CalcAug!S29","v":0},{"$f":"CalcAug!T29","v":0},{"$f":"CalcAug!U29","v":0},{"$f":"CalcAug!V29","v":0},{"$f":"CalcAug!W29","v":0},{"$f":"CalcAug!X29","v":0},{"$f":"CalcAug!Y29","v":0},{"$f":"CalcAug!Z29","v":0},{"$f":"CalcAug!AA29","v":0},{"$f":"CalcAug!AB29","v":0},{"$f":"CalcAug!AC29","v":0},{"$f":"CalcAug!AD29","v":0},{"$f":"CalcAug!AE29","v":0},{"$f":"CalcAug!AF29","v":0},{"$f":"CalcAug!AG29","v":0},{"$f":"CalcAug!AH29","v":0},{"$f":"CalcMar!$E29","v":0},{"$f":"CalcApr!$AH29","v":0},{"$f":"CalcMay!$AI29","v":0},{"$f":"CalcJun!$AH29","v":0},{"$f":"CalcJul!$AI29","v":0},{"$f":"CalcAug!$AI29","v":0},0]
[]
["Notes:"]
[{"$f":"March!A33","v":"*  Aarti can be done at home. Does not need to be at Derasar."}]
[{"$f":"March!A34","v":"# Includes any other electronic media like iPad etc."}]
[{"$f":"March!A35","v":"^ Non-tapasya day only"}]
[{"$f":"March!A36","v":"$ At Derasar "}]

{"sheet":"CalcMar","index":6,"n_rows":29,"n_cols":5,"rows_kept":29,"cut":false,"hidden":true,"merged":[]}
[]
[]
[]
["No","Niyam","Points",{"$f":"March!D4","v":"2020-03-31"},"Mar Total"]
[{"$f":"March!A6","v":1},{"$f":"March!B6","v":"Upvaas/Aayambil"},{"$f":"March!C6","v":70},{"$f":"IF(AND(March!D6=1,March!D7=1),0,IF(March!D6=1,$C5,0))","v":0},{"$f":"SUM(D5:D5)","v":0}]
[{"$f":"March!A7","v":2},{"$f":"March!B7","v":"Ekasanu/Biyasanu"},{"$f":"March!C7","v":60},{"$f":"IF(AND(March!D6=1,March!D7=1),0,IF(March!D7=1,$C6,0))","v":0},0]
[{"$f":"March!A8","v":3},{"$f":"March!B8","v":"Chandan Pooja on weekend"},{"$f":"March!C8","v":40},{"$f":"IF(WEEKDAY(D$4,2)>5,IF(March!D8=1,$C7,0),0)","v":0},0]
[{"$f":"March!A9","v":4},{"$f":"March!B9","v":"Samayik/Pratikraman"},{"$f":"March!C9","v":50},{"$f":"IF(March!D9=1,$C8,0)","v":0},0]
[{"$f":"March!A10","v":5},{"$f":"March!B10","v":"Learn Sutra/Stuti for 15 mins"},{"$f":"March!C10","v":30},{"$f":"IF(March!D10=1,$C9,0)","v":0},0]
[{"$f":"March!A11","v":6},{"$f":"March!B11","v":"Chandan Pooja on Weekdays"},{"$f":"March!C11","v":25},{"$f":"IF(WEEKDAY(D$4,2)<=5,IF(March!D11=1,$C10,0),0)","v":0},0]
[{"$f":"March!A12","v":7},{"$f":"March!B12","v":"Vasakshep Pooja"},{"$f":"March!C12","v":10},{"$f":"IF(March!D12=1,$C11,0)","v":0},0]
[{"$f":"March!A13","v":8},{"$f":"March!B13","v":"Aarti *"},{"$f":"March!C13","v":10},{"$f":"IF(March!D13=1,$C12,0)","v":0},0]
[{"$f":"March!A14","v":9},{"$f":"March!B14","v":"Chauvihar/Tivihar ^"},{"$f":"March!C14","v":25},{"$f":"IF(OR(March!D6=1,March!D7=1),0,IF(March!D14=1,$C13,0))","v":0},0]
[{"$f":"March!A15","v":10},{"$f":"March!B15","v":"Drink boiled water for a day ^"},{"$f":"March!C15","v":15},{"$f":"IF(OR(March!D6=1,March!D7=1),0,IF(March!D15=1,$C14,0))","v":0},0]
[{"$f":"March!A16","v":11},{"$f":"March!B16","v":"Navkarshi ^"},{"$f":"March!C16","v":20},{"$f":"IF(OR(March!D6=1,March!D7=1),0,IF(March!D16=1,$C15,0))","v":0},0]
[{"$f":"March!A17","v":12},{"$f":"March!B17","v":"Vadilo Ne Page Lagvu"},{"$f":"March!C17","v":10},{"$f":"IF(March!D17=1,$C16,0)","v":0},0]
[{"$f":"March!A18","v":13},{"$f":"March!B18","v":"No use of mobile, TV #"},{"$f":"March!C18","v":10},{"$f":"IF(March!D18=1,$C17,0)","v":0},0]
[{"$f":"March!A19","v":14},{"$f":"March!B19","v":"Uthata 8 Navkar and Suta 7 Navkar"},{"$f":"March!C19","v":10},{"$f":"IF(March!D19=1,$C18,0)","v":0},0]
[{"$f":"March!A20","v":15},{"$f":"March!B20","v":"No chocolate, ice cream"},{"$f":"March!C20","v":10},{"$f":"IF(March!D20=1,$C19,0)","v":0},0]
[{"$f":"March!A21","v":16},{"$f":"March!B21","v":"Thali Dhoine Pivi"},{"$f":"March!C21","v":20},{"$f":"IF(March!D21=1,$C20,0)","v":0},0]
[{"$f":"March!A22","v":17},{"$f":"March!B22","v":"No Bread & No Butter"},{"$f":"March!C22","v":20},{"$f":"IF(March!D22=1,$C21,0)","v":0},0]
[{"$f":"March!A23","v":18},{"$f":"March!B23","v":"No Root Vegetables"},{"$f":"March!C23","v":10},{"$f":"IF(March!D23=1,$C22,0)","v":0},0]
[{"$f":"March!A24","v":19},{"$f":"March!B24","v":"Read/Listen Jain Bodh Katha"},{"$f":"March!C24","v":10},{"$f":"IF(March!D24=1,$C23,0)","v":0},0]
[{"$f":"March!A25","v":20},{"$f":"March!B25","v":"Recite Gyan na 5 Duha & 5 Khamasana"},{"$f":"March!C25","v":10},{"$f":"IF(March!D25=1,$C24,0)","v":0},0]
[{"$f":"March!A26","v":21},{"$f":"March!B26","v":"No fruits and vegetables on Tithi days"},{"$f":"March!C26","v":15},{"$f":"IF(March!D26=1,$C25,0)","v":0},0]
[{"$f":"March!A27","v":22},{"$f":"March!B27","v":"Sva Dravya Akshat, Naivedya and Fal Pooja $"},{"$f":"March!C27","v":15},{"$f":"IF(March!D27=1,$C26,0)","v":0},0]
[{"$f":"March!A28","v":23},{"$f":"March!B28","v":"Use of bucket instead of shower"},{"$f":"March!C28","v":10},{"$f":"IF(March!D28=1,$C27,0)","v":0},0]
[{"$f":"March!A29","v":24},{"$f":"March!B29","v":"Recite Navkar Mantra Mala"},{"$f":"March!C29","v":10},{"$f":"IF(March!D29=1,$C28,0)","v":0},0]
[null,{"$f":"March!B30","v":"Total"},"Total",{"$f":"SUM(D5:D28)","v":0},{"$f":"SUM(E5:E28)","v":0}]

{"sheet":"CalcApr","index":7,"n_rows":29,"n_cols":34,"rows_kept":29,"cut":false,"hidden":true,"merged":[]}
[]
[]
[]
["No","Niyam","Points",{"$f":"April!D4","v":"2020-04-01"},{"$f":"April!E4","v":"2020-04-02"},{"$f":"April!F4","v":"2020-04-03"},{"$f":"April!G4","v":"2020-04-04"},{"$f":"April!H4","v":"2020-04-05"},{"$f":"April!I4","v":"2020-04-06"},{"$f":"April!J4","v":"2020-04-07"},{"$f":"April!K4","v":"2020-04-08"},{"$f":"April!L4","v":"2020-04-09"},{"$f":"April!M4","v":"2020-04-10"},{"$f":"April!N4","v":"2020-04-11"},{"$f":"April!O4","v":"2020-04-12"},{"$f":"April!P4","v":"2020-04-13"},{"$f":"April!Q4","v":"2020-04-14"},{"$f":"April!R4","v":"2020-04-15"},{"$f":"April!S4","v":"2020-04-16"},{"$f":"April!T4","v":"2020-04-17"},{"$f":"April!U4","v":"2020-04-18"},{"$f":"April!V4","v":"2020-04-19"},{"$f":"April!W4","v":"2020-04-20"},{"$f":"April!X4","v":"2020-04-21"},{"$f":"April!Y4","v":"2020-04-22"},{"$f":"April!Z4","v":"2020-04-23"},{"$f":"April!AA4","v":"2020-04-24"},{"$f":"April!AB4","v":"2020-04-25"},{"$f":"April!AC4","v":"2020-04-26"},{"$f":"April!AD4","v":"2020-04-27"},{"$f":"April!AE4","v":"2020-04-28"},{"$f":"April!AF4","v":"2020-04-29"},{"$f":"April!AG4","v":"2020-04-30"},"Apr Total"]
[{"$f":"April!A6","v":1},{"$f":"April!B6","v":"Upvaas/Aayambil"},{"$f":"April!C6","v":70},{"$f":"IF(AND(April!D6=1,April!D7=1),0,IF(April!D6=1,$C5,0))","v":0},{"$f":"IF(AND(April!E6=1,April!E7=1),0,IF(April!E6=1,$C5,0))","v":0},{"$f":"IF(AND(April!F6=1,April!F7=1),0,IF(April!F6=1,$C5,0))","v":0},{"$f":"IF(AND(April!G6=1,April!G7=1),0,IF(April!G6=1,$C5,0))","v":0},{"$f":"IF(AND(April!H6=1,April!H7=1),0,IF(April!H6=1,$C5,0))","v":0},{"$f":"IF(AND(April!I6=1,April!I7=1),0,IF(April!I6=1,$C5,0))","v":0},{"$f":"IF(AND(April!J6=1,April!J7=1),0,IF(April!J6=1,$C5,0))","v":0},{"$f":"IF(AND(April!K6=1,April!K7=1),0,IF(April!K6=1,$C5,0))","v":0},{"$f":"IF(AND(April!L6=1,April!L7=1),0,IF(April!L6=1,$C5,0))","v":0},{"$f":"IF(AND(April!M6=1,April!M7=1),0,IF(April!M6=1,$C5,0))","v":0},{"$f":"IF(AND(April!N6=1,April!N7=1),0,IF(April!N6=1,$C5,0))","v":0},{"$f":"IF(AND(April!O6=1,April!O7=1),0,IF(April!O6=1,$C5,0))","v":0},{"$f":"IF(AND(April!P6=1,April!P7=1),0,IF(April!P6=1,$C5,0))","v":0},{"$f":"IF(AND(April!Q6=1,April!Q7=1),0,IF(April!Q6=1,$C5,0))","v":0},{"$f":"IF(AND(April!R6=1,April!R7=1),0,IF(April!R6=1,$C5,0))","v":0},{"$f":"IF(AND(April!S6=1,April!S7=1),0,IF(April!S6=1,$C5,0))","v":0},{"$f":"IF(AND(April!T6=1,April!T7=1),0,IF(April!T6=1,$C5,0))","v":0},{"$f":"IF(AND(April!U6=1,April!U7=1),0,IF(April!U6=1,$C5,0))","v":0},{"$f":"IF(AND(April!V6=1,April!V7=1),0,IF(April!V6=1,$C5,0))","v":0},{"$f":"IF(AND(April!W6=1,April!W7=1),0,IF(April!W6=1,$C5,0))","v":0},{"$f":"IF(AND(April!X6=1,April!X7=1),0,IF(April!X6=1,$C5,0))","v":0},{"$f":"IF(AND(April!Y6=1,April!Y7=1),0,IF(April!Y6=1,$C5,0))","v":0},{"$f":"IF(AND(April!Z6=1,April!Z7=1),0,IF(April!Z6=1,$C5,0))","v":0},{"$f":"IF(AND(April!AA6=1,April!AA7=1),0,IF(April!AA6=1,$C5,0))","v":0},{"$f":"IF(AND(April!AB6=1,April!AB7=1),0,IF(April!AB6=1,$C5,0))","v":0},{"$f":"IF(AND(April!AC6=1,April!AC7=1),0,IF(April!AC6=1,$C5,0))","v":0},{"$f":"IF(AND(April!AD6=1,April!AD7=1),0,IF(April!AD6=1,$C5,0))","v":0},{"$f":"IF(AND(April!AE6=1,April!AE7=1),0,IF(April!AE6=1,$C5,0))","v":0},{"$f":"IF(AND(April!AF6=1,April!AF7=1),0,IF(April!AF6=1,$C5,0))","v":0},{"$f":"IF(AND(April!AG6=1,April!AG7=1),0,IF(April!AG6=1,$C5,0))","v":0},{"$f":"SUM(D5:AG5)","v":0}]
[{"$f":"April!A7","v":2},{"$f":"April!B7","v":"Ekasanu/Biyasanu"},{"$f":"April!C7","v":60},{"$f":"IF(AND(April!D6=1,April!D7=1),0,IF(April!D7=1,$C6,0))","v":0},{"$f":"IF(AND(April!E6=1,April!E7=1),0,IF(April!E7=1,$C6,0))","v":0},{"$f":"IF(AND(April!F6=1,April!F7=1),0,IF(April!F7=1,$C6,0))","v":0},{"$f":"IF(AND(April!G6=1,April!G7=1),0,IF(April!G7=1,$C6,0))","v":0},{"$f":"IF(AND(April!H6=1,April!H7=1),0,IF(April!H7=1,$C6,0))","v":0},{"$f":"IF(AND(April!I6=1,April!I7=1),0,IF(April!I7=1,$C6,0))","v":0},{"$f":"IF(AND(April!J6=1,April!J7=1),0,IF(April!J7=1,$C6,0))","v":0},{"$f":"IF(AND(April!K6=1,April!K7=1),0,IF(April!K7=1,$C6,0))","v":0},{"$f":"IF(AND(April!L6=1,April!L7=1),0,IF(April!L7=1,$C6,0))","v":0},{"$f":"IF(AND(April!M6=1,April!M7=1),0,IF(April!M7=1,$C6,0))","v":0},{"$f":"IF(AND(April!N6=1,April!N7=1),0,IF(April!N7=1,$C6,0))","v":0},{"$f":"IF(AND(April!O6=1,April!O7=1),0,IF(April!O7=1,$C6,0))","v":0},{"$f":"IF(AND(April!P6=1,April!P7=1),0,IF(April!P7=1,$C6,0))","v":0},{"$f":"IF(AND(April!Q6=1,April!Q7=1),0,IF(April!Q7=1,$C6,0))","v":0},{"$f":"IF(AND(April!R6=1,April!R7=1),0,IF(April!R7=1,$C6,0))","v":0},{"$f":"IF(AND(April!S6=1,April!S7=1),0,IF(April!S7=1,$C6,0))","v":0},{"$f":"IF(AND(April!T6=1,April!T7=1),0,IF(April!T7=1,$C6,0))","v":0},{"$f":"IF(AND(April!U6=1,April!U7=1),0,IF(April!U7=1,$C6,0))","v":0},{"$f":"IF(AND(April!V6=1,April!V7=1),0,IF(April!V7=1,$C6,0))","v":0},{"$f":"IF(AND(April!W6=1,April!W7=1),0,IF(April!W7=1,$C6,0))","v":0},{"$f":"IF(AND(April!X6=1,April!X7=1),0,IF(April!X7=1,$C6,0))","v":0},{"$f":"IF(AND(April!Y6=1,April!Y7=1),0,IF(April!Y7=1,$C6,0))","v":0},{"$f":"IF(AND(April!Z6=1,April!Z7=1),0,IF(April!Z7=1,$C6,0))","v":0},{"$f":"IF(AND(April!AA6=1,April!AA7=1),0,IF(April!AA7=1,$C6,0))","v":0},{"$f":"IF(AND(April!AB6=1,April!AB7=1),0,IF(April!AB7=1,$C6,0))","v":0},{"$f":"IF(AND(April!AC6=1,April!AC7=1),0,IF(April!AC7=1,$C6,0))","v":0},{"$f":"IF(AND(April!AD6=1,April!AD7=1),0,IF(April!AD7=1,$C6,0))","v":0},{"$f":"IF(AND(April!AE6=1,April!AE7=1),0,IF(April!AE7=1,$C6,0))","v":0},{"$f":"IF(AND(April!AF6=1,April!AF7=1),0,IF(April!AF7=1,$C6,0))","v":0},{"$f":"IF(AND(April!AG6=1,April!AG7=1),0,IF(April!AG7=1,$C6,0))","v":0},{"$f":"SUM(D6:AG6)","v":0}]
[{"$f":"April!A8","v":3},{"$f":"April!B8","v":"Chandan Pooja on weekend"},{"$f":"April!C8","v":40},{"$f":"IF(WEEKDAY(D$4,2)>5,IF(April!D8=1,$C7,0),0)","v":0},{"$f":"IF(WEEKDAY(E$4,2)>5,IF(April!E8=1,$C7,0),0)","v":0},{"$f":"IF(WEEKDAY(F$4,2)>5,IF(April!F8=1,$C7,0),0)","v":0},{"$f":"IF(WEEKDAY(G$4,2)>5,IF(April!G8=1,$C7,0),0)","v":0},{"$f":"IF(WEEKDAY(H$4,2)>5,IF(April!H8=1,$C7,0),0)","v":0},{"$f":"IF(WEEKDAY(I$4,2)>5,IF(April!I8=1,$C7,0),0)","v":0},{"$f":"IF(WEEKDAY(J$4,2)>5,IF(April!J8=1,$C7,0),0)","v":0},{"$f":"IF(WEEKDAY(K$4,2)>5,IF(April!K8=1,$C7,0),0)","v":0},{"$f":"IF(WEEKDAY(L$4,2)>5,IF(April!L8=1,$C7,0),0)","v":0},{"$f":"IF(WEEKDAY(M$4,2)>5,IF(April!M8=1,$C7,0),0)","v":0},{"$f":"IF(WEEKDAY(N$4,2)>5,IF(April!N8=1,$C7,0),0)","v":0},{"$f":"IF(WEEKDAY(O$4,2)>5,IF(April!O8=1,$C7,0),0)","v":0},{"$f":"IF(WEEKDAY(P$4,2)>5,IF(April!P8=1,$C7,0),0)","v":0},{"$f":"IF(WEEKDAY(Q$4,2)>5,IF(April!Q8=1,$C7,0),0)","v":0},{"$f":"IF(WEEKDAY(R$4,2)>5,IF(April!R8=1,$C7,0),0)","v":0},{"$f":"IF(WEEKDAY(S$4,2)>5,IF(April!S8=1,$C7,0),0)","v":0},{"$f":"IF(WEEKDAY(T$4,2)>5,IF(April!T8=1,$C7,0),0)","v":0},{"$f":"IF(WEEKDAY(U$4,2)>5,IF(April!U8=1,$C7,0),0)","v":0},{"$f":"IF(WEEKDAY(V$4,2)>5,IF(April!V8=1,$C7,0),0)","v":0},{"$f":"IF(WEEKDAY(W$4,2)>5,IF(April!W8=1,$C7,0),0)","v":0},{"$f":"IF(WEEKDAY(X$4,2)>5,IF(April!X8=1,$C7,0),0)","v":0},{"$f":"IF(WEEKDAY(Y$4,2)>5,IF(April!Y8=1,$C7,0),0)","v":0},{"$f":"IF(WEEKDAY(Z$4,2)>5,IF(April!Z8=1,$C7,0),0)","v":0},{"$f":"IF(WEEKDAY(AA$4,2)>5,IF(April!AA8=1,$C7,0),0)","v":0},{"$f":"IF(WEEKDAY(AB$4,2)>5,IF(April!AB8=1,$C7,0),0)","v":0},{"$f":"IF(WEEKDAY(AC$4,2)>5,IF(April!AC8=1,$C7,0),0)","v":0},{"$f":"IF(WEEKDAY(AD$4,2)>5,IF(April!AD8=1,$C7,0),0)","v":0},{"$f":"IF(WEEKDAY(AE$4,2)>5,IF(April!AE8=1,$C7,0),0)","v":0},{"$f":"IF(WEEKDAY(AF$4,2)>5,IF(April!AF8=1,$C7,0),0)","v":0},{"$f":"IF(WEEKDAY(AG$4,2)>5,IF(April!AG8=1,$C7,0),0)","v":0},0]
[{"$f":"April!A9","v":4},{"$f":"April!B9","v":"Samayik/Pratikraman"},{"$f":"April!C9","v":50},{"$f":"IF(April!D9=1,$C8,0)","v":0},{"$f":"IF(April!E9=1,$C8,0)","v":0},{"$f":"IF(April!F9=1,$C8,0)","v":0},{"$f":"IF(April!G9=1,$C8,0)","v":0},{"$f":"IF(April!H9=1,$C8,0)","v":0},{"$f":"IF(April!I9=1,$C8,0)","v":0},{"$f":"IF(April!J9=1,$C8,0)","v":0},{"$f":"IF(April!K9=1,$C8,0)","v":0},{"$f":"IF(April!L9=1,$C8,0)","v":0},{"$f":"IF(April!M9=1,$C8,0)","v":0},{"$f":"IF(April!N9=1,$C8,0)","v":0},{"$f":"IF(April!O9=1,$C8,0)","v":0},{"$f":"IF(April!P9=1,$C8,0)","v":0},{"$f":"IF(April!Q9=1,$C8,0)","v":0},{"$f":"IF(April!R9=1,$C8,0)","v":0},{"$f":"IF(April!S9=1,$C8,0)","v":0},{"$f":"IF(April!T9=1,$C8,0)","v":0},{"$f":"IF(April!U9=1,$C8,0)","v":0},{"$f":"IF(April!V9=1,$C8,0)","v":0},{"$f":"IF(April!W9=1,$C8,0)","v":0},{"$f":"IF(April!X9=1,$C8,0)","v":0},{"$f":"IF(April!Y9=1,$C8,0)","v":0},{"$f":"IF(April!Z9=1,$C8,0)","v":0},{"$f":"IF(April!AA9=1,$C8,0)","v":0},{"$f":"IF(April!AB9=1,$C8,0)","v":0},{"$f":"IF(April!AC9=1,$C8,0)","v":0},{"$f":"IF(April!AD9=1,$C8,0)","v":0},{"$f":"IF(April!AE9=1,$C8,0)","v":0},{"$f":"IF(April!AF9=1,$C8,0)","v":0},{"$f":"IF(April!AG9=1,$C8,0)","v":0},0]
[{"$f":"April!A10","v":5},{"$f":"April!B10","v":"Learn Sutra/Stuti for 15 mins"},{"$f":"April!C10","v":30},{"$f":"IF(April!D10=1,$C9,0)","v":0},{"$f":"IF(April!E10=1,$C9,0)","v":0},{"$f":"IF(April!F10=1,$C9,0)","v":0},{"$f":"IF(April!G10=1,$C9,0)","v":0},{"$f":"IF(April!H10=1,$C9,0)","v":0},{"$f":"IF(April!I10=1,$C9,0)","v":0},{"$f":"IF(April!J10=1,$C9,0)","v":0},{"$f":"IF(April!K10=1,$C9,0)","v":0},{"$f":"IF(April!L10=1,$C9,0)","v":0},{"$f":"IF(April!M10=1,$C9,0)","v":0},{"$f":"IF(April!N10=1,$C9,0)","v":0},{"$f":"IF(April!O10=1,$C9,0)","v":0},{"$f":"IF(April!P10=1,$C9,0)","v":0},{"$f":"IF(April!Q10=1,$C9,0)","v":0},{"$f":"IF(April!R10=1,$C9,0)","v":0},{"$f":"IF(April!S10=1,$C9,0)","v":0},{"$f":"IF(April!T10=1,$C9,0)","v":0},{"$f":"IF(April!U10=1,$C9,0)","v":0},{"$f":"IF(April!V10=1,$C9,0)","v":0},{"$f":"IF(April!W10=1,$C9,0)","v":0},{"$f":"IF(April!X10=1,$C9,0)","v":0},{"$f":"IF(April!Y10=1,$C9,0)","v":0},{"$f":"IF(April!Z10=1,$C9,0)","v":0},{"$f":"IF(April!AA10=1,$C9,0)","v":0},{"$f":"IF(April!AB10=1,$C9,0)","v":0},{"$f":"IF(April!AC10=1,$C9,0)","v":0},{"$f":"IF(April!AD10=1,$C9,0)","v":0},{"$f":"IF(April!AE10=1,$C9,0)","v":0},{"$f":"IF(April!AF10=1,$C9,0)","v":0},{"$f":"IF(April!AG10=1,$C9,0)","v":0},0]
[{"$f":"April!A11","v":6},{"$f":"April!B11","v":"Chandan Pooja on Weekdays"},{"$f":"April!C11","v":25},{"$f":"IF(WEEKDAY(D$4,2)<=5,IF(April!D11=1,$C10,0),0)","v":0},{"$f":"IF(WEEKDAY(E$4,2)<=5,IF(April!E11=1,$C10,0),0)","v":0},{"$f":"IF(WEEKDAY(F$4,2)<=5,IF(April!F11=1,$C10,0),0)","v":0},{"$f":"IF(WEEKDAY(G$4,2)<=5,IF(April!G11=1,$C10,0),0)","v":0},{"$f":"IF(WEEKDAY(H$4,2)<=5,IF(April!H11=1,$C10,0),0)","v":0},{"$f":"IF(WEEKDAY(I$4,2)<=5,IF(April!I11=1,$C10,0),0)","v":0},{"$f":"IF(WEEKDAY(J$4,2)<=5,IF(April!J11=1,$C10,0),0)","v":0},{"$f":"IF(WEEKDAY(K$4,2)<=5,IF(April!K11=1,$C10,0),0)","v":0},{"$f":"IF(WEEKDAY(L$4,2)<=5,IF(April!L11=1,$C10,0),0)","v":0},{"$f":"IF(WEEKDAY(M$4,2)<=5,IF(April!M11=1,$C10,0),0)","v":0},{"$f":"IF(WEEKDAY(N$4,2)<=5,IF(April!N11=1,$C10,0),0)","v":0},{"$f":"IF(WEEKDAY(O$4,2)<=5,IF(April!O11=1,$C10,0),0)","v":0},{"$f":"IF(WEEKDAY(P$4,2)<=5,IF(April!P11=1,$C10,0),0)","v":0},{"$f":"IF(WEEKDAY(Q$4,2)<=5,IF(April!Q11=1,$C10,0),0)","v":0},{"$f":"IF(WEEKDAY(R$4,2)<=5,IF(April!R11=1,$C10,0),0)","v":0},{"$f":"IF(WEEKDAY(S$4,2)<=5,IF(April!S11=1,$C10,0),0)","v":0},{"$f":"IF(WEEKDAY(T$4,2)<=5,IF(April!T11=1,$C10,0),0)","v":0},{"$f":"IF(WEEKDAY(U$4,2)<=5,IF(April!U11=1,$C10,0),0)","v":0},{"$f":"IF(WEEKDAY(V$4,2)<=5,IF(April!V11=1,$C10,0),0)","v":0},{"$f":"IF(WEEKDAY(W$4,2)<=5,IF(April!W11=1,$C10,0),0)","v":0},{"$f":"IF(WEEKDAY(X$4,2)<=5,IF(April!X11=1,$C10,0),0)","v":0},{"$f":"IF(WEEKDAY(Y$4,2)<=5,IF(April!Y11=1,$C10,0),0)","v":0},{"$f":"IF(WEEKDAY(Z$4,2)<=5,IF(April!Z11=1,$C10,0),0)","v":0},{"$f":"IF(WEEKDAY(AA$4,2)<=5,IF(April!AA11=1,$C10,0),0)","v":0},{"$f":"IF(WEEKDAY(AB$4,2)<=5,IF(April!AB11=1,$C10,0),0)","v":0},{"$f":"IF(WEEKDAY(AC$4,2)<=5,IF(April!AC11=1,$C10,0),0)","v":0},{"$f":"IF(WEEKDAY(AD$4,2)<=5,IF(April!AD11=1,$C10,0),0)","v":0},{"$f":"IF(WEEKDAY(AE$4,2)<=5,IF(April!AE11=1,$C10,0),0)","v":0},{"$f":"IF(WEEKDAY(AF$4,2)<=5,IF(April!AF11=1,$C10,0),0)","v":0},{"$f":"IF(WEEKDAY(AG$4,2)<=5,IF(April!AG11=1,$C10,0),0)","v":0},0]
[{"$f":"April!A12","v":7},{"$f":"April!B12","v":"Vasakshep Pooja"},{"$f":"April!C12","v":10},{"$f":"IF(April!D12=1,$C11,0)","v":0},{"$f":"IF(April!E12=1,$C11,0)","v":0},{"$f":"IF(April!F12=1,$C11,0)","v":0},{"$f":"IF(April!G12=1,$C11,0)","v":0},{"$f":"IF(April!H12=1,$C11,0)","v":0},{"$f":"IF(April!I12=1,$C11,0)","v":0},{"$f":"IF(April!J12=1,$C11,0)","v":0},{"$f":"IF(April!K12=1,$C11,0)","v":0},{"$f":"IF(April!L12=1,$C11,0)","v":0},{"$f":"IF(April!M12=1,$C11,0)","v":0},{"$f":"IF(April!N12=1,$C11,0)","v":0},{"$f":"IF(April!O12=1,$C11,0)","v":0},{"$f":"IF(April!P12=1,$C11,0)","v":0},{"$f":"IF(April!Q12=1,$C11,0)","v":0},{"$f":"IF(April!R12=1,$C11,0)","v":0},{"$f":"IF(April!S12=1,$C11,0)","v":0},{"$f":"IF(April!T12=1,$C11,0)","v":0},{"$f":"IF(April!U12=1,$C11,0)","v":0},{"$f":"IF(April!V12=1,$C11,0)","v":0},{"$f":"IF(April!W12=1,$C11,0)","v":0},{"$f":"IF(April!X12=1,$C11,0)","v":0},{"$f":"IF(April!Y12=1,$C11,0)","v":0},{"$f":"IF(April!Z12=1,$C11,0)","v":0},{"$f":"IF(April!AA12=1,$C11,0)","v":0},{"$f":"IF(April!AB12=1,$C11,0)","v":0},{"$f":"IF(April!AC12=1,$C11,0)","v":0},{"$f":"IF(April!AD12=1,$C11,0)","v":0},{"$f":"IF(April!AE12=1,$C11,0)","v":0},{"$f":"IF(April!AF12=1,$C11,0)","v":0},{"$f":"IF(April!AG12=1,$C11,0)","v":0},0]
[{"$f":"April!A13","v":8},{"$f":"April!B13","v":"Aarti *"},{"$f":"April!C13","v":10},{"$f":"IF(April!D13=1,$C12,0)","v":0},{"$f":"IF(April!E13=1,$C12,0)","v":0},{"$f":"IF(April!F13=1,$C12,0)","v":0},{"$f":"IF(April!G13=1,$C12,0)","v":0},{"$f":"IF(April!H13=1,$C12,0)","v":0},{"$f":"IF(April!I13=1,$C12,0)","v":0},{"$f":"IF(April!J13=1,$C12,0)","v":0},{"$f":"IF(April!K13=1,$C12,0)","v":0},{"$f":"IF(April!L13=1,$C12,0)","v":0},{"$f":"IF(April!M13=1,$C12,0)","v":0},{"$f":"IF(April!N13=1,$C12,0)","v":0},{"$f":"IF(April!O13=1,$C12,0)","v":0},{"$f":"IF(April!P13=1,$C12,0)","v":0},{"$f":"IF(April!Q13=1,$C12,0)","v":0},{"$f":"IF(April!R13=1,$C12,0)","v":0},{"$f":"IF(April!S13=1,$C12,0)","v":0},{"$f":"IF(April!T13=1,$C12,0)","v":0},{"$f":"IF(April!U13=1,$C12,0)","v":0},{"$f":"IF(April!V13=1,$C12,0)","v":0},{"$f":"IF(April!W13=1,$C12,0)","v":0},{"$f":"IF(April!X13=1,$C12,0)","v":0},{"$f":"IF(April!Y13=1,$C12,0)","v":0},{"$f":"IF(April!Z13=1,$C12,0)","v":0},{"$f":"IF(April!AA13=1,$C12,0)","v":0},{"$f":"IF(April!AB13=1,$C12,0)","v":0},{"$f":"IF(April!AC13=1,$C12,0)","v":0},{"$f":"IF(April!AD13=1,$C12,0)","v":0},{"$f":"IF(April!AE13=1,$C12,0)","v":0},{"$f":"IF(April!AF13=1,$C12,0)","v":0},{"$f":"IF(April!AG13=1,$C12,0)","v":0},0]
[{"$f":"April!A14","v":9},{"$f":"April!B14","v":"Chauvihar/Tivihar ^"},{"$f":"April!C14","v":25},{"$f":"IF(OR(April!D6=1,April!D7=1),0,IF(April!D14=1,$C13,0))","v":0},{"$f":"IF(OR(April!E6=1,April!E7=1),0,IF(April!E14=1,$C13,0))","v":0},{"$f":"IF(OR(April!F6=1,April!F7=1),0,IF(April!F14=1,$C13,0))","v":0},{"$f":"IF(OR(April!G6=1,April!G7=1),0,IF(April!G14=1,$C13,0))","v":0},{"$f":"IF(OR(April!H6=1,April!H7=1),0,IF(April!H14=1,$C13,0))","v":0},{"$f":"IF(OR(April!I6=1,April!I7=1),0,IF(April!I14=1,$C13,0))","v":0},{"$f":"IF(OR(April!J6=1,April!J7=1),0,IF(April!J14=1,$C13,0))","v":0},{"$f":"IF(OR(April!K6=1,April!K7=1),0,IF(April!K14=1,$C13,0))","v":0},{"$f":"IF(OR(April!L6=1,April!L7=1),0,IF(April!L14=1,$C13,0))","v":0},{"$f":"IF(OR(April!M6=1,April!M7=1),0,IF(April!M14=1,$C13,0))","v":0},{"$f":"IF(OR(April!N6=1,April!N7=1),0,IF(April!N14=1,$C13,0))","v":0},{"$f":"IF(OR(April!O6=1,April!O7=1),0,IF(April!O14=1,$C13,0))","v":0},{"$f":"IF(OR(April!P6=1,April!P7=1),0,IF(April!P14=1,$C13,0))","v":0},{"$f":"IF(OR(April!Q6=1,April!Q7=1),0,IF(April!Q14=1,$C13,0))","v":0},{"$f":"IF(OR(April!R6=1,April!R7=1),0,IF(April!R14=1,$C13,0))","v":0},{"$f":"IF(OR(April!S6=1,April!S7=1),0,IF(April!S14=1,$C13,0))","v":0},{"$f":"IF(OR(April!T6=1,April!T7=1),0,IF(April!T14=1,$C13,0))","v":0},{"$f":"IF(OR(April!U6=1,April!U7=1),0,IF(April!U14=1,$C13,0))","v":0},{"$f":"IF(OR(April!V6=1,April!V7=1),0,IF(April!V14=1,$C13,0))","v":0},{"$f":"IF(OR(April!W6=1,April!W7=1),0,IF(April!W14=1,$C13,0))","v":0},{"$f":"IF(OR(April!X6=1,April!X7=1),0,IF(April!X14=1,$C13,0))","v":0},{"$f":"IF(OR(April!Y6=1,April!Y7=1),0,IF(April!Y14=1,$C13,0))","v":0},{"$f":"IF(OR(April!Z6=1,April!Z7=1),0,IF(April!Z14=1,$C13,0))","v":0},{"$f":"IF(OR(April!AA6=1,April!AA7=1),0,IF(April!AA14=1,$C13,0))","v":0},{"$f":"IF(OR(April!AB6=1,April!AB7=1),0,IF(April!AB14=1,$C13,0))","v":0},{"$f":"IF(OR(April!AC6=1,April!AC7=1),0,IF(April!AC14=1,$C13,0))","v":0},{"$f":"IF(OR(April!AD6=1,April!AD7=1),0,IF(April!AD14=1,$C13,0))","v":0},{"$f":"IF(OR(April!AE6=1,April!AE7=1),0,IF(April!AE14=1,$C13,0))","v":0},{"$f":"IF(OR(April!AF6=1,April!AF7=1),0,IF(April!AF14=1,$C13,0))","v":0},{"$f":"IF(OR(April!AG6=1,April!AG7=1),0,IF(April!AG14=1,$C13,0))","v":0},0]
[{"$f":"April!A15","v":10},{"$f":"April!B15","v":"Drink boiled water for a day ^"},{"$f":"April!C15","v":15},{"$f":"IF(OR(April!D6=1,April!D7=1),0,IF(April!D15=1,$C14,0))","v":0},{"$f":"IF(OR(April!E6=1,April!E7=1),0,IF(April!E15=1,$C14,0))","v":0},{"$f":"IF(OR(April!F6=1,April!F7=1),0,IF(April!F15=1,$C14,0))","v":0},{"$f":"IF(OR(April!G6=1,April!G7=1),0,IF(April!G15=1,$C14,0))","v":0},{"$f":"IF(OR(April!H6=1,April!H7=1),0,IF(April!H15=1,$C14,0))","v":0},{"$f":"IF(OR(April!I6=1,April!I7=1),0,IF(April!I15=1,$C14,0))","v":0},{"$f":"IF(OR(April!J6=1,April!J7=1),0,IF(April!J15=1,$C14,0))","v":0},{"$f":"IF(OR(April!K6=1,April!K7=1),0,IF(April!K15=1,$C14,0))","v":0},{"$f":"IF(OR(April!L6=1,April!L7=1),0,IF(April!L15=1,$C14,0))","v":0},{"$f":"IF(OR(April!M6=1,April!M7=1),0,IF(April!M15=1,$C14,0))","v":0},{"$f":"IF(OR(April!N6=1,April!N7=1),0,IF(April!N15=1,$C14,0))","v":0},{"$f":"IF(OR(April!O6=1,April!O7=1),0,IF(April!O15=1,$C14,0))","v":0},{"$f":"IF(OR(April!P6=1,April!P7=1),0,IF(April!P15=1,$C14,0))","v":0},{"$f":"IF(OR(April!Q6=1,April!Q7=1),0,IF(April!Q15=1,$C14,0))","v":0},{"$f":"IF(OR(April!R6=1,April!R7=1),0,IF(April!R15=1,$C14,0))","v":0},{"$f":"IF(OR(April!S6=1,April!S7=1),0,IF(April!S15=1,$C14,0))","v":0},{"$f":"IF(OR(April!T6=1,April!T7=1),0,IF(April!T15=1,$C14,0))","v":0},{"$f":"IF(OR(April!U6=1,April!U7=1),0,IF(April!U15=1,$C14,0))","v":0},{"$f":"IF(OR(April!V6=1,April!V7=1),0,IF(April!V15=1,$C14,0))","v":0},{"$f":"IF(OR(April!W6=1,April!W7=1),0,IF(April!W15=1,$C14,0))","v":0},{"$f":"IF(OR(April!X6=1,April!X7=1),0,IF(April!X15=1,$C14,0))","v":0},{"$f":"IF(OR(April!Y6=1,April!Y7=1),0,IF(April!Y15=1,$C14,0))","v":0},{"$f":"IF(OR(April!Z6=1,April!Z7=1),0,IF(April!Z15=1,$C14,0))","v":0},{"$f":"IF(OR(April!AA6=1,April!AA7=1),0,IF(April!AA15=1,$C14,0))","v":0},{"$f":"IF(OR(April!AB6=1,April!AB7=1),0,IF(April!AB15=1,$C14,0))","v":0},{"$f":"IF(OR(April!AC6=1,April!AC7=1),0,IF(April!AC15=1,$C14,0))","v":0},{"$f":"IF(OR(April!AD6=1,April!AD7=1),0,IF(April!AD15=1,$C14,0))","v":0},{"$f":"IF(OR(April!AE6=1,April!AE7=1),0,IF(April!AE15=1,$C14,0))","v":0},{"$f":"IF(OR(April!AF6=1,April!AF7=1),0,IF(April!AF15=1,$C14,0))","v":0},{"$f":"IF(OR(April!AG6=1,April!AG7=1),0,IF(April!AG15=1,$C14,0))","v":0},0]
[{"$f":"April!A16","v":11},{"$f":"April!B16","v":"Navkarshi ^"},{"$f":"April!C16","v":20},{"$f":"IF(OR(April!D6=1,April!D7=1),0,IF(April!D16=1,$C15,0))","v":0},{"$f":"IF(OR(April!E6=1,April!E7=1),0,IF(April!E16=1,$C15,0))","v":0},{"$f":"IF(OR(April!F6=1,April!F7=1),0,IF(April!F16=1,$C15,0))","v":0},{"$f":"IF(OR(April!G6=1,April!G7=1),0,IF(April!G16=1,$C15,0))","v":0},{"$f":"IF(OR(April!H6=1,April!H7=1),0,IF(April!H16=1,$C15,0))","v":0},{"$f":"IF(OR(April!I6=1,April!I7=1),0,IF(April!I16=1,$C15,0))","v":0},{"$f":"IF(OR(April!J6=1,April!J7=1),0,IF(April!J16=1,$C15,0))","v":0},{"$f":"IF(OR(April!K6=1,April!K7=1),0,IF(April!K16=1,$C15,0))","v":0},{"$f":"IF(OR(April!L6=1,April!L7=1),0,IF(April!L16=1,$C15,0))","v":0},{"$f":"IF(OR(April!M6=1,April!M7=1),0,IF(April!M16=1,$C15,0))","v":0},{"$f":"IF(OR(April!N6=1,April!N7=1),0,IF(April!N16=1,$C15,0))","v":0},{"$f":"IF(OR(April!O6=1,April!O7=1),0,IF(April!O16=1,$C15,0))","v":0},{"$f":"IF(OR(April!P6=1,April!P7=1),0,IF(April!P16=1,$C15,0))","v":0},{"$f":"IF(OR(April!Q6=1,April!Q7=1),0,IF(April!Q16=1,$C15,0))","v":0},{"$f":"IF(OR(April!R6=1,April!R7=1),0,IF(April!R16=1,$C15,0))","v":0},{"$f":"IF(OR(April!S6=1,April!S7=1),0,IF(April!S16=1,$C15,0))","v":0},{"$f":"IF(OR(April!T6=1,April!T7=1),0,IF(April!T16=1,$C15,0))","v":0},{"$f":"IF(OR(April!U6=1,April!U7=1),0,IF(April!U16=1,$C15,0))","v":0},{"$f":"IF(OR(April!V6=1,April!V7=1),0,IF(April!V16=1,$C15,0))","v":0},{"$f":"IF(OR(April!W6=1,April!W7=1),0,IF(April!W16=1,$C15,0))","v":0},{"$f":"IF(OR(April!X6=1,April!X7=1),0,IF(April!X16=1,$C15,0))","v":0},{"$f":"IF(OR(April!Y6=1,April!Y7=1),0,IF(April!Y16=1,$C15,0))","v":0},{"$f":"IF(OR(April!Z6=1,April!Z7=1),0,IF(April!Z16=1,$C15,0))","v":0},{"$f":"IF(OR(April!AA6=1,April!AA7=1),0,IF(April!AA16=1,$C15,0))","v":0},{"$f":"IF(OR(April!AB6=1,April!AB7=1),0,IF(April!AB16=1,$C15,0))","v":0},{"$f":"IF(OR(April!AC6=1,April!AC7=1),0,IF(April!AC16=1,$C15,0))","v":0},{"$f":"IF(OR(April!AD6=1,April!AD7=1),0,IF(April!AD16=1,$C15,0))","v":0},{"$f":"IF(OR(April!AE6=1,April!AE7=1),0,IF(April!AE16=1,$C15,0))","v":0},{"$f":"IF(OR(April!AF6=1,April!AF7=1),0,IF(April!AF16=1,$C15,0))","v":0},{"$f":"IF(OR(April!AG6=1,April!AG7=1),0,IF(April!AG16=1,$C15,0))","v":0},0]
[{"$f":"April!A17","v":12},{"$f":"April!B17","v":"Vadilo Ne Page Lagvu"},{"$f":"April!C17","v":10},{"$f":"IF(April!D17=1,$C16,0)","v":0},{"$f":"IF(April!E17=1,$C16,0)","v":0},{"$f":"IF(April!F17=1,$C16,0)","v":0},{"$f":"IF(April!G17=1,$C16,0)","v":0},{"$f":"IF(April!H17=1,$C16,0)","v":0},{"$f":"IF(April!I17=1,$C16,0)","v":0},{"$f":"IF(April!J17=1,$C16,0)","v":0},{"$f":"IF(April!K17=1,$C16,0)","v":0},{"$f":"IF(April!L17=1,$C16,0)","v":0},{"$f":"IF(April!M17=1,$C16,0)","v":0},{"$f":"IF(April!N17=1,$C16,0)","v":0},{"$f":"IF(April!O17=1,$C16,0)","v":0},{"$f":"IF(April!P17=1,$C16,0)","v":0},{"$f":"IF(April!Q17=1,$C16,0)","v":0},{"$f":"IF(April!R17=1,$C16,0)","v":0},{"$f":"IF(April!S17=1,$C16,0)","v":0},{"$f":"IF(April!T17=1,$C16,0)","v":0},{"$f":"IF(April!U17=1,$C16,0)","v":0},{"$f":"IF(April!V17=1,$C16,0)","v":0},{"$f":"IF(April!W17=1,$C16,0)","v":0},{"$f":"IF(April!X17=1,$C16,0)","v":0},{"$f":"IF(April!Y17=1,$C16,0)","v":0},{"$f":"IF(April!Z17=1,$C16,0)","v":0},{"$f":"IF(April!AA17=1,$C16,0)","v":0},{"$f":"IF(April!AB17=1,$C16,0)","v":0},{"$f":"IF(April!AC17=1,$C16,0)","v":0},{"$f":"IF(April!AD17=1,$C16,0)","v":0},{"$f":"IF(April!AE17=1,$C16,0)","v":0},{"$f":"IF(April!AF17=1,$C16,0)","v":0},{"$f":"IF(April!AG17=1,$C16,0)","v":0},0]
[{"$f":"April!A18","v":13},{"$f":"April!B18","v":"No use of mobile, TV #"},{"$f":"April!C18","v":10},{"$f":"IF(April!D18=1,$C17,0)","v":0},{"$f":"IF(April!E18=1,$C17,0)","v":0},{"$f":"IF(April!F18=1,$C17,0)","v":0},{"$f":"IF(April!G18=1,$C17,0)","v":0},{"$f":"IF(April!H18=1,$C17,0)","v":0},{"$f":"IF(April!I18=1,$C17,0)","v":0},{"$f":"IF(April!J18=1,$C17,0)","v":0},{"$f":"IF(April!K18=1,$C17,0)","v":0},{"$f":"IF(April!L18=1,$C17,0)","v":0},{"$f":"IF(April!M18=1,$C17,0)","v":0},{"$f":"IF(April!N18=1,$C17,0)","v":0},{"$f":"IF(April!O18=1,$C17,0)","v":0},{"$f":"IF(April!P18=1,$C17,0)","v":0},{"$f":"IF(April!Q18=1,$C17,0)","v":0},{"$f":"IF(April!R18=1,$C17,0)","v":0},{"$f":"IF(April!S18=1,$C17,0)","v":0},{"$f":"IF(April!T18=1,$C17,0)","v":0},{"$f":"IF(April!U18=1,$C17,0)","v":0},{"$f":"IF(April!V18=1,$C17,0)","v":0},{"$f":"IF(April!W18=1,$C17,0)","v":0},{"$f":"IF(April!X18=1,$C17,0)","v":0},{"$f":"IF(April!Y18=1,$C17,0)","v":0},{"$f":"IF(April!Z18=1,$C17,0)","v":0},{"$f":"IF(April!AA18=1,$C17,0)","v":0},{"$f":"IF(April!AB18=1,$C17,0)","v":0},{"$f":"IF(April!AC18=1,$C17,0)","v":0},{"$f":"IF(April!AD18=1,$C17,0)","v":0},{"$f":"IF(April!AE18=1,$C17,0)","v":0},{"$f":"IF(April!AF18=1,$C17,0)","v":0},{"$f":"IF(April!AG18=1,$C17,0)","v":0},0]
[{"$f":"April!A19","v":14},{"$f":"April!B19","v":"Uthata 8 Navkar and Suta 7 Navkar"},{"$f":"April!C19","v":10},{"$f":"IF(April!D19=1,$C18,0)","v":0},{"$f":"IF(April!E19=1,$C18,0)","v":0},{"$f":"IF(April!F19=1,$C18,0)","v":0},{"$f":"IF(April!G19=1,$C18,0)","v":0},{"$f":"IF(April!H19=1,$C18,0)","v":0},{"$f":"IF(April!I19=1,$C18,0)","v":0},{"$f":"IF(April!J19=1,$C18,0)","v":0},{"$f":"IF(April!K19=1,$C18,0)","v":0},{"$f":"IF(April!L19=1,$C18,0)","v":0},{"$f":"IF(April!M19=1,$C18,0)","v":0},{"$f":"IF(April!N19=1,$C18,0)","v":0},{"$f":"IF(April!O19=1,$C18,0)","v":0},{"$f":"IF(April!P19=1,$C18,0)","v":0},{"$f":"IF(April!Q19=1,$C18,0)","v":0},{"$f":"IF(April!R19=1,$C18,0)","v":0},{"$f":"IF(April!S19=1,$C18,0)","v":0},{"$f":"IF(April!T19=1,$C18,0)","v":0},{"$f":"IF(April!U19=1,$C18,0)","v":0},{"$f":"IF(April!V19=1,$C18,0)","v":0},{"$f":"IF(April!W19=1,$C18,0)","v":0},{"$f":"IF(April!X19=1,$C18,0)","v":0},{"$f":"IF(April!Y19=1,$C18,0)","v":0},{"$f":"IF(April!Z19=1,$C18,0)","v":0},{"$f":"IF(April!AA19=1,$C18,0)","v":0},{"$f":"IF(April!AB19=1,$C18,0)","v":0},{"$f":"IF(April!AC19=1,$C18,0)","v":0},{"$f":"IF(April!AD19=1,$C18,0)","v":0},{"$f":"IF(April!AE19=1,$C18,0)","v":0},{"$f":"IF(April!AF19=1,$C18,0)","v":0},{"$f":"IF(April!AG19=1,$C18,0)","v":0},0]
[{"$f":"April!A20","v":15},{"$f":"April!B20","v":"No chocolate, ice cream"},{"$f":"April!C20","v":10},{"$f":"IF(April!D20=1,$C19,0)","v":0},{"$f":"IF(April!E20=1,$C19,0)","v":0},{"$f":"IF(April!F20=1,$C19,0)","v":0},{"$f":"IF(April!G20=1,$C19,0)","v":0},{"$f":"IF(April!H20=1,$C19,0)","v":0},{"$f":"IF(April!I20=1,$C19,0)","v":0},{"$f":"IF(April!J20=1,$C19,0)","v":0},{"$f":"IF(April!K20=1,$C19,0)","v":0},{"$f":"IF(April!L20=1,$C19,0)","v":0},{"$f":"IF(April!M20=1,$C19,0)","v":0},{"$f":"IF(April!N20=1,$C19,0)","v":0},{"$f":"IF(April!O20=1,$C19,0)","v":0},{"$f":"IF(April!P20=1,$C19,0)","v":0},{"$f":"IF(April!Q20=1,$C19,0)","v":0},{"$f":"IF(April!R20=1,$C19,0)","v":0},{"$f":"IF(April!S20=1,$C19,0)","v":0},{"$f":"IF(April!T20=1,$C19,0)","v":0},{"$f":"IF(April!U20=1,$C19,0)","v":0},{"$f":"IF(April!V20=1,$C19,0)","v":0},{"$f":"IF(April!W20=1,$C19,0)","v":0},{"$f":"IF(April!X20=1,$C19,0)","v":0},{"$f":"IF(April!Y20=1,$C19,0)","v":0},{"$f":"IF(April!Z20=1,$C19,0)","v":0},{"$f":"IF(April!AA20=1,$C19,0)","v":0},{"$f":"IF(April!AB20=1,$C19,0)","v":0},{"$f":"IF(April!AC20=1,$C19,0)","v":0},{"$f":"IF(April!AD20=1,$C19,0)","v":0},{"$f":"IF(April!AE20=1,$C19,0)","v":0},{"$f":"IF(April!AF20=1,$C19,0)","v":0},{"$f":"IF(April!AG20=1,$C19,0)","v":0},0]
[{"$f":"April!A21","v":16},{"$f":"April!B21","v":"Thali Dhoine Pivi"},{"$f":"April!C21","v":20},{"$f":"IF(April!D21=1,$C20,0)","v":0},{"$f":"IF(April!E21=1,$C20,0)","v":0},{"$f":"IF(April!F21=1,$C20,0)","v":0},{"$f":"IF(April!G21=1,$C20,0)","v":0},{"$f":"IF(April!H21=1,$C20,0)","v":0},{"$f":"IF(April!I21=1,$C20,0)","v":0},{"$f":"IF(April!J21=1,$C20,0)","v":0},{"$f":"IF(April!K21=1,$C20,0)","v":0},{"$f":"IF(April!L21=1,$C20,0)","v":0},{"$f":"IF(April!M21=1,$C20,0)","v":0},{"$f":"IF(April!N21=1,$C20,0)","v":0},{"$f":"IF(April!O21=1,$C20,0)","v":0},{"$f":"IF(April!P21=1,$C20,0)","v":0},{"$f":"IF(April!Q21=1,$C20,0)","v":0},{"$f":"IF(April!R21=1,$C20,0)","v":0},{"$f":"IF(April!S21=1,$C20,0)","v":0},{"$f":"IF(April!T21=1,$C20,0)","v":0},{"$f":"IF(April!U21=1,$C20,0)","v":0},{"$f":"IF(April!V21=1,$C20,0)","v":0},{"$f":"IF(April!W21=1,$C20,0)","v":0},{"$f":"IF(April!X21=1,$C20,0)","v":0},{"$f":"IF(April!Y21=1,$C20,0)","v":0},{"$f":"IF(April!Z21=1,$C20,0)","v":0},{"$f":"IF(April!AA21=1,$C20,0)","v":0},{"$f":"IF(April!AB21=1,$C20,0)","v":0},{"$f":"IF(April!AC21=1,$C20,0)","v":0},{"$f":"IF(April!AD21=1,$C20,0)","v":0},{"$f":"IF(April!AE21=1,$C20,0)","v":0},{"$f":"IF(April!AF21=1,$C20,0)","v":0},{"$f":"IF(April!AG21=1,$C20,0)","v":0},0]
[{"$f":"April!A22","v":17},{"$f":"April!B22","v":"No Bread & No Butter"},{"$f":"April!C22","v":20},{"$f":"IF(April!D22=1,$C21,0)","v":0},{"$f":"IF(April!E22=1,$C21,0)","v":0},{"$f":"IF(April!F22=1,$C21,0)","v":0},{"$f":"IF(April!G22=1,$C21,0)","v":0},{"$f":"IF(April!H22=1,$C21,0)","v":0},{"$f":"IF(April!I22=1,$C21,0)","v":0},{"$f":"IF(April!J22=1,$C21,0)","v":0},{"$f":"IF(April!K22=1,$C21,0)","v":0},{"$f":"IF(April!L22=1,$C21,0)","v":0},{"$f":"IF(April!M22=1,$C21,0)","v":0},{"$f":"IF(April!N22=1,$C21,0)","v":0},{"$f":"IF(April!O22=1,$C21,0)","v":0},{"$f":"IF(April!P22=1,$C21,0)","v":0},{"$f":"IF(April!Q22=1,$C21,0)","v":0},{"$f":"IF(April!R22=1,$C21,0)","v":0},{"$f":"IF(April!S22=1,$C21,0)","v":0},{"$f":"IF(April!T22=1,$C21,0)","v":0},{"$f":"IF(April!U22=1,$C21,0)","v":0},{"$f":"IF(April!V22=1,$C21,0)","v":0},{"$f":"IF(April!W22=1,$C21,0)","v":0},{"$f":"IF(April!X22=1,$C21,0)","v":0},{"$f":"IF(April!Y22=1,$C21,0)","v":0},{"$f":"IF(April!Z22=1,$C21,0)","v":0},{"$f":"IF(April!AA22=1,$C21,0)","v":0},{"$f":"IF(April!AB22=1,$C21,0)","v":0},{"$f":"IF(April!AC22=1,$C21,0)","v":0},{"$f":"IF(April!AD22=1,$C21,0)","v":0},{"$f":"IF(April!AE22=1,$C21,0)","v":0},{"$f":"IF(April!AF22=1,$C21,0)","v":0},{"$f":"IF(April!AG22=1,$C21,0)","v":0},0]
[{"$f":"April!A23","v":18},{"$f":"April!B23","v":"No Root Vegetables"},{"$f":"April!C23","v":10},{"$f":"IF(April!D23=1,$C22,0)","v":0},{"$f":"IF(April!E23=1,$C22,0)","v":0},{"$f":"IF(April!F23=1,$C22,0)","v":0},{"$f":"IF(April!G23=1,$C22,0)","v":0},{"$f":"IF(April!H23=1,$C22,0)","v":0},{"$f":"IF(April!I23=1,$C22,0)","v":0},{"$f":"IF(April!J23=1,$C22,0)","v":0},{"$f":"IF(April!K23=1,$C22,0)","v":0},{"$f":"IF(April!L23=1,$C22,0)","v":0},{"$f":"IF(April!M23=1,$C22,0)","v":0},{"$f":"IF(April!N23=1,$C22,0)","v":0},{"$f":"IF(April!O23=1,$C22,0)","v":0},{"$f":"IF(April!P23=1,$C22,0)","v":0},{"$f":"IF(April!Q23=1,$C22,0)","v":0},{"$f":"IF(April!R23=1,$C22,0)","v":0},{"$f":"IF(April!S23=1,$C22,0)","v":0},{"$f":"IF(April!T23=1,$C22,0)","v":0},{"$f":"IF(April!U23=1,$C22,0)","v":0},{"$f":"IF(April!V23=1,$C22,0)","v":0},{"$f":"IF(April!W23=1,$C22,0)","v":0},{"$f":"IF(April!X23=1,$C22,0)","v":0},{"$f":"IF(April!Y23=1,$C22,0)","v":0},{"$f":"IF(April!Z23=1,$C22,0)","v":0},{"$f":"IF(April!AA23=1,$C22,0)","v":0},{"$f":"IF(April!AB23=1,$C22,0)","v":0},{"$f":"IF(April!AC23=1,$C22,0)","v":0},{"$f":"IF(April!AD23=1,$C22,0)","v":0},{"$f":"IF(April!AE23=1,$C22,0)","v":0},{"$f":"IF(April!AF23=1,$C22,0)","v":0},{"$f":"IF(April!AG23=1,$C22,0)","v":0},0]
[{"$f":"April!A24","v":19},{"$f":"April!B24","v":"Read/Listen Jain Bodh Katha"},{"$f":"April!C24","v":10},{"$f":"IF(April!D24=1,$C23,0)","v":0},{"$f":"IF(April!E24=1,$C23,0)","v":0},{"$f":"IF(April!F24=1,$C23,0)","v":0},{"$f":"IF(April!G24=1,$C23,0)","v":0},{"$f":"IF(April!H24=1,$C23,0)","v":0},{"$f":"IF(April!I24=1,$C23,0)","v":0},{"$f":"IF(April!J24=1,$C23,0)","v":0},{"$f":"IF(April!K24=1,$C23,0)","v":0},{"$f":"IF(April!L24=1,$C23,0)","v":0},{"$f":"IF(April!M24=1,$C23,0)","v":0},{"$f":"IF(April!N24=1,$C23,0)","v":0},{"$f":"IF(April!O24=1,$C23,0)","v":0},{"$f":"IF(April!P24=1,$C23,0)","v":0},{"$f":"IF(April!Q24=1,$C23,0)","v":0},{"$f":"IF(April!R24=1,$C23,0)","v":0},{"$f":"IF(April!S24=1,$C23,0)","v":0},{"$f":"IF(April!T24=1,$C23,0)","v":0},{"$f":"IF(April!U24=1,$C23,0)","v":0},{"$f":"IF(April!V24=1,$C23,0)","v":0},{"$f":"IF(April!W24=1,$C23,0)","v":0},{"$f":"IF(April!X24=1,$C23,0)","v":0},{"$f":"IF(April!Y24=1,$C23,0)","v":0},{"$f":"IF(April!Z24=1,$C23,0)","v":0},{"$f":"IF(April!AA24=1,$C23,0)","v":0},{"$f":"IF(April!AB24=1,$C23,0)","v":0},{"$f":"IF(April!AC24=1,$C23,0)","v":0},{"$f":"IF(April!AD24=1,$C23,0)","v":0},{"$f":"IF(April!AE24=1,$C23,0)","v":0},{"$f":"IF(April!AF24=1,$C23,0)","v":0},{"$f":"IF(April!AG24=1,$C23,0)","v":0},0]
[{"$f":"April!A25","v":20},{"$f":"April!B25","v":"Recite Gyan na 5 Duha & 5 Khamasana"},{"$f":"April!C25","v":10},{"$f":"IF(April!D25=1,$C24,0)","v":0},{"$f":"IF(April!E25=1,$C24,0)","v":0},{"$f":"IF(April!F25=1,$C24,0)","v":0},{"$f":"IF(April!G25=1,$C24,0)","v":0},{"$f":"IF(April!H25=1,$C24,0)","v":0},{"$f":"IF(April!I25=1,$C24,0)","v":0},{"$f":"IF(April!J25=1,$C24,0)","v":0},{"$f":"IF(April!K25=1,$C24,0)","v":0},{"$f":"IF(April!L25=1,$C24,0)","v":0},{"$f":"IF(April!M25=1,$C24,0)","v":0},{"$f":"IF(April!N25=1,$C24,0)","v":0},{"$f":"IF(April!O25=1,$C24,0)","v":0},{"$f":"IF(April!P25=1,$C24,0)","v":0},{"$f":"IF(April!Q25=1,$C24,0)","v":0},{"$f":"IF(April!R25=1,$C24,0)","v":0},{"$f":"IF(April!S25=1,$C24,0)","v":0},{"$f":"IF(April!T25=1,$C24,0)","v":0},{"$f":"IF(April!U25=1,$C24,0)","v":0},{"$f":"IF(April!V25=1,$C24,0)","v":0},{"$f":"IF(April!W25=1,$C24,0)","v":0},{"$f":"IF(April!X25=1,$C24,0)","v":0},{"$f":"IF(April!Y25=1,$C24,0)","v":0},{"$f":"IF(April!Z25=1,$C24,0)","v":0},{"$f":"IF(April!AA25=1,$C24,0)","v":0},{"$f":"IF(April!AB25=1,$C24,0)","v":0},{"$f":"IF(April!AC25=1,$C24,0)","v":0},{"$f":"IF(April!AD25=1,$C24,0)","v":0},{"$f":"IF(April!AE25=1,$C24,0)","v":0},{"$f":"IF(April!AF25=1,$C24,0)","v":0},{"$f":"IF(April!AG25=1,$C24,0)","v":0},0]
[{"$f":"April!A26","v":21},{"$f":"April!B26","v":"No fruits and vegetables on Tithi days"},{"$f":"April!C26","v":15},{"$f":"IF(April!D26=1,$C25,0)","v":0},{"$f":"IF(April!E26=1,$C25,0)","v":0},{"$f":"IF(April!F26=1,$C25,0)","v":0},{"$f":"IF(April!G26=1,$C25,0)","v":0},{"$f":"IF(April!H26=1,$C25,0)","v":0},{"$f":"IF(April!I26=1,$C25,0)","v":0},{"$f":"IF(April!J26=1,$C25,0)","v":0},{"$f":"IF(April!K26=1,$C25,0)","v":0},{"$f":"IF(April!L26=1,$C25,0)","v":0},{"$f":"IF(April!M26=1,$C25,0)","v":0},{"$f":"IF(April!N26=1,$C25,0)","v":0},{"$f":"IF(April!O26=1,$C25,0)","v":0},{"$f":"IF(April!P26=1,$C25,0)","v":0},{"$f":"IF(April!Q26=1,$C25,0)","v":0},{"$f":"IF(April!R26=1,$C25,0)","v":0},{"$f":"IF(April!S26=1,$C25,0)","v":0},{"$f":"IF(April!T26=1,$C25,0)","v":0},{"$f":"IF(April!U26=1,$C25,0)","v":0},{"$f":"IF(April!V26=1,$C25,0)","v":0},{"$f":"IF(April!W26=1,$C25,0)","v":0},{"$f":"IF(April!X26=1,$C25,0)","v":0},{"$f":"IF(April!Y26=1,$C25,0)","v":0},{"$f":"IF(April!Z26=1,$C25,0)","v":0},{"$f":"IF(April!AA26=1,$C25,0)","v":0},{"$f":"IF(April!AB26=1,$C25,0)","v":0},{"$f":"IF(April!AC26=1,$C25,0)","v":0},{"$f":"IF(April!AD26=1,$C25,0)","v":0},{"$f":"IF(April!AE26=1,$C25,0)","v":0},{"$f":"IF(April!AF26=1,$C25,0)","v":0},{"$f":"IF(April!AG26=1,$C25,0)","v":0},0]
[{"$f":"April!A27","v":22},{"$f":"April!B27","v":"Sva Dravya Akshat, Naivedya and Fal Pooja $"},{"$f":"April!C27","v":15},{"$f":"IF(April!D27=1,$C26,0)","v":0},{"$f":"IF(April!E27=1,$C26,0)","v":0},{"$f":"IF(April!F27=1,$C26,0)","v":0},{"$f":"IF(April!G27=1,$C26,0)","v":0},{"$f":"IF(April!H27=1,$C26,0)","v":0},{"$f":"IF(April!I27=1,$C26,0)","v":0},{"$f":"IF(April!J27=1,$C26,0)","v":0},{"$f":"IF(April!K27=1,$C26,0)","v":0},{"$f":"IF(April!L27=1,$C26,0)","v":0},{"$f":"IF(April!M27=1,$C26,0)","v":0},{"$f":"IF(April!N27=1,$C26,0)","v":0},{"$f":"IF(April!O27=1,$C26,0)","v":0},{"$f":"IF(April!P27=1,$C26,0)","v":0},{"$f":"IF(April!Q27=1,$C26,0)","v":0},{"$f":"IF(April!R27=1,$C26,0)","v":0},{"$f":"IF(April!S27=1,$C26,0)","v":0},{"$f":"IF(April!T27=1,$C26,0)","v":0},{"$f":"IF(April!U27=1,$C26,0)","v":0},{"$f":"IF(April!V27=1,$C26,0)","v":0},{"$f":"IF(April!W27=1,$C26,0)","v":0},{"$f":"IF(April!X27=1,$C26,0)","v":0},{"$f":"IF(April!Y27=1,$C26,0)","v":0},{"$f":"IF(April!Z27=1,$C26,0)","v":0},{"$f":"IF(April!AA27=1,$C26,0)","v":0},{"$f":"IF(April!AB27=1,$C26,0)","v":0},{"$f":"IF(April!AC27=1,$C26,0)","v":0},{"$f":"IF(April!AD27=1,$C26,0)","v":0},{"$f":"IF(April!AE27=1,$C26,0)","v":0},{"$f":"IF(April!AF27=1,$C26,0)","v":0},{"$f":"IF(April!AG27=1,$C26,0)","v":0},0]
[{"$f":"April!A28","v":23},{"$f":"April!B28","v":"Use of bucket instead of shower"},{"$f":"April!C28","v":10},{"$f":"IF(April!D28=1,$C27,0)","v":0},{"$f":"IF(April!E28=1,$C27,0)","v":0},{"$f":"IF(April!F28=1,$C27,0)","v":0},{"$f":"IF(April!G28=1,$C27,0)","v":0},{"$f":"IF(April!H28=1,$C27,0)","v":0},{"$f":"IF(April!I28=1,$C27,0)","v":0},{"$f":"IF(April!J28=1,$C27,0)","v":0},{"$f":"IF(April!K28=1,$C27,0)","v":0},{"$f":"IF(April!L28=1,$C27,0)","v":0},{"$f":"IF(April!M28=1,$C27,0)","v":0},{"$f":"IF(April!N28=1,$C27,0)","v":0},{"$f":"IF(April!O28=1,$C27,0)","v":0},{"$f":"IF(April!P28=1,$C27,0)","v":0},{"$f":"IF(April!Q28=1,$C27,0)","v":0},{"$f":"IF(April!R28=1,$C27,0)","v":0},{"$f":"IF(April!S28=1,$C27,0)","v":0},{"$f":"IF(April!T28=1,$C27,0)","v":0},{"$f":"IF(April!U28=1,$C27,0)","v":0},{"$f":"IF(April!V28=1,$C27,0)","v":0},{"$f":"IF(April!W28=1,$C27,0)","v":0},{"$f":"IF(April!X28=1,$C27,0)","v":0},{"$f":"IF(April!Y28=1,$C27,0)","v":0},{"$f":"IF(April!Z28=1,$C27,0)","v":0},{"$f":"IF(April!AA28=1,$C27,0)","v":0},{"$f":"IF(April!AB28=1,$C27,0)","v":0},{"$f":"IF(April!AC28=1,$C27,0)","v":0},{"$f":"IF(April!AD28=1,$C27,0)","v":0},{"$f":"IF(April!AE28=1,$C27,0)","v":0},{"$f":"IF(April!AF28=1,$C27,0)","v":0},{"$f":"IF(April!AG28=1,$C27,0)","v":0},0]
[{"$f":"April!A29","v":24},{"$f":"April!B29","v":"Recite Navkar Mantra Mala"},{"$f":"April!C29","v":10},{"$f":"IF(April!D29=1,$C28,0)","v":0},{"$f":"IF(April!E29=1,$C28,0)","v":0},{"$f":"IF(April!F29=1,$C28,0)","v":0},{"$f":"IF(April!G29=1,$C28,0)","v":0},{"$f":"IF(April!H29=1,$C28,0)","v":0},{"$f":"IF(April!I29=1,$C28,0)","v":0},{"$f":"IF(April!J29=1,$C28,0)","v":0},{"$f":"IF(April!K29=1,$C28,0)","v":0},{"$f":"IF(April!L29=1,$C28,0)","v":0},{"$f":"IF(April!M29=1,$C28,0)","v":0},{"$f":"IF(April!N29=1,$C28,0)","v":0},{"$f":"IF(April!O29=1,$C28,0)","v":0},{"$f":"IF(April!P29=1,$C28,0)","v":0},{"$f":"IF(April!Q29=1,$C28,0)","v":0},{"$f":"IF(April!R29=1,$C28,0)","v":0},{"$f":"IF(April!S29=1,$C28,0)","v":0},{"$f":"IF(April!T29=1,$C28,0)","v":0},{"$f":"IF(April!U29=1,$C28,0)","v":0},{"$f":"IF(April!V29=1,$C28,0)","v":0},{"$f":"IF(April!W29=1,$C28,0)","v":0},{"$f":"IF(April!X29=1,$C28,0)","v":0},{"$f":"IF(April!Y29=1,$C28,0)","v":0},{"$f":"IF(April!Z29=1,$C28,0)","v":0},{"$f":"IF(April!AA29=1,$C28,0)","v":0},{"$f":"IF(April!AB29=1,$C28,0)","v":0},{"$f":"IF(April!AC29=1,$C28,0)","v":0},{"$f":"IF(April!AD29=1,$C28,0)","v":0},{"$f":"IF(April!AE29=1,$C28,0)","v":0},{"$f":"IF(April!AF29=1,$C28,0)","v":0},{"$f":"IF(April!AG29=1,$C28,0)","v":0},0]
[{"$f":"April!A30","v":0},{"$f":"April!B30","v":"Total"},{"$f":"April!C30","v":0},{"$f":"SUM(D5:D28)","v":0},{"$f":"SUM(E5:E28)","v":0},0,0,0,0,0,0,0,0,0,0,0,0,0,0,0,0,0,0,0,0,0,0,0,0,0,0,0,0,{"$f":"SUM(AH5:AH28)","v":0}]

{"sheet":"CalcMay","index":8,"n_rows":29,"n_cols":35,"rows_kept":29,"cut":false,"hidden":true,"merged":[]}
[]
[]
[]
["No","Niyam","Points",{"$f":"May!D4","v":"2020-05-01"},{"$f":"May!E4","v":"2020-05-02"},{"$f":"May!F4","v":"2020-05-03"},{"$f":"May!G4","v":"2020-05-04"},{"$f":"May!H4","v":"2020-05-05"},{"$f":"May!I4","v":"2020-05-06"},{"$f":"May!J4","v":"2020-05-07"},{"$f":"May!K4","v":"2020-05-08"},{"$f":"May!L4","v":"2020-05-09"},{"$f":"May!M4","v":"2020-05-10"},{"$f":"May!N4","v":"2020-05-11"},{"$f":"May!O4","v":"2020-05-12"},{"$f":"May!P4","v":"2020-05-13"},{"$f":"May!Q4","v":"2020-05-14"},{"$f":"May!R4","v":"2020-05-15"},{"$f":"May!S4","v":"2020-05-16"},{"$f":"May!T4","v":"2020-05-17"},{"$f":"May!U4","v":"2020-05-18"},{"$f":"May!V4","v":"2020-05-19"},{"$f":"May!W4","v":"2020-05-20"},{"$f":"May!X4","v":"2020-05-21"},{"$f":"May!Y4","v":"2020-05-22"},{"$f":"May!Z4","v":"2020-05-23"},{"$f":"May!AA4","v":"2020-05-24"},{"$f":"May!AB4","v":"2020-05-25"},{"$f":"May!AC4","v":"2020-05-26"},{"$f":"May!AD4","v":"2020-05-27"},{"$f":"May!AE4","v":"2020-05-28"},{"$f":"May!AF4","v":"2020-05-29"},{"$f":"May!AG4","v":"2020-05-30"},{"$f":"May!AH4","v":"2020-05-31"},"May Total"]
[{"$f":"May!A6","v":1},{"$f":"May!B6","v":"Upvaas/Aayambil"},{"$f":"May!C6","v":70},{"$f":"IF(AND(May!D6=1,May!D7=1),0,IF(May!D6=1,$C5,0))","v":0},{"$f":"IF(AND(May!E6=1,May!E7=1),0,IF(May!E6=1,$C5,0))","v":0},{"$f":"IF(AND(May!F6=1,May!F7=1),0,IF(May!F6=1,$C5,0))","v":0},{"$f":"IF(AND(May!G6=1,May!G7=1),0,IF(May!G6=1,$C5,0))","v":0},{"$f":"IF(AND(May!H6=1,May!H7=1),0,IF(May!H6=1,$C5,0))","v":0},{"$f":"IF(AND(May!I6=1,May!I7=1),0,IF(May!I6=1,$C5,0))","v":0},{"$f":"IF(AND(May!J6=1,May!J7=1),0,IF(May!J6=1,$C5,0))","v":0},{"$f":"IF(AND(May!K6=1,May!K7=1),0,IF(May!K6=1,$C5,0))","v":0},{"$f":"IF(AND(May!L6=1,May!L7=1),0,IF(May!L6=1,$C5,0))","v":0},{"$f":"IF(AND(May!M6=1,May!M7=1),0,IF(May!M6=1,$C5,0))","v":0},{"$f":"IF(AND(May!N6=1,May!N7=1),0,IF(May!N6=1,$C5,0))","v":0},{"$f":"IF(AND(May!O6=1,May!O7=1),0,IF(May!O6=1,$C5,0))","v":0},{"$f":"IF(AND(May!P6=1,May!P7=1),0,IF(May!P6=1,$C5,0))","v":0},{"$f":"IF(AND(May!Q6=1,May!Q7=1),0,IF(May!Q6=1,$C5,0))","v":0},{"$f":"IF(AND(May!R6=1,May!R7=1),0,IF(May!R6=1,$C5,0))","v":0},{"$f":"IF(AND(May!S6=1,May!S7=1),0,IF(May!S6=1,$C5,0))","v":0},{"$f":"IF(AND(May!T6=1,May!T7=1),0,IF(May!T6=1,$C5,0))","v":0},{"$f":"IF(AND(May!U6=1,May!U7=1),0,IF(May!U6=1,$C5,0))","v":0},{"$f":"IF(AND(May!V6=1,May!V7=1),0,IF(May!V6=1,$C5,0))","v":0},{"$f":"IF(AND(May!W6=1,May!W7=1),0,IF(May!W6=1,$C5,0))","v":0},{"$f":"IF(AND(May!X6=1,May!X7=1),0,IF(May!X6=1,$C5,0))","v":0},{"$f":"IF(AND(May!Y6=1,May!Y7=1),0,IF(May!Y6=1,$C5,0))","v":0},{"$f":"IF(AND(May!Z6=1,May!Z7=1),0,IF(May!Z6=1,$C5,0))","v":0},{"$f":"IF(AND(May!AA6=1,May!AA7=1),0,IF(May!AA6=1,$C5,0))","v":0},{"$f":"IF(AND(May!AB6=1,May!AB7=1),0,IF(May!AB6=1,$C5,0))","v":0},{"$f":"IF(AND(May!AC6=1,May!AC7=1),0,IF(May!AC6=1,$C5,0))","v":0},{"$f":"IF(AND(May!AD6=1,May!AD7=1),0,IF(May!AD6=1,$C5,0))","v":0},{"$f":"IF(AND(May!AE6=1,May!AE7=1),0,IF(May!AE6=1,$C5,0))","v":0},{"$f":"IF(AND(May!AF6=1,May!AF7=1),0,IF(May!AF6=1,$C5,0))","v":0},{"$f":"IF(AND(May!AG6=1,May!AG7=1),0,IF(May!AG6=1,$C5,0))","v":0},{"$f":"IF(AND(May!AH6=1,May!AH7=1),0,IF(May!AH6=1,$C5,0))","v":0},{"$f":"SUM(D5:AH5)","v":0}]
[{"$f":"May!A7","v":2},{"$f":"May!B7","v":"Ekasanu/Biyasanu"},{"$f":"May!C7","v":60},{"$f":"IF(AND(May!D6=1,May!D7=1),0,IF(May!D7=1,$C6,0))","v":0},{"$f":"IF(AND(May!E6=1,May!E7=1),0,IF(May!E7=1,$C6,0))","v":0},{"$f":"IF(AND(May!F6=1,May!F7=1),0,IF(May!F7=1,$C6,0))","v":0},{"$f":"IF(AND(May!G6=1,May!G7=1),0,IF(May!G7=1,$C6,0))","v":0},{"$f":"IF(AND(May!H6=1,May!H7=1),0,IF(May!H7=1,$C6,0))","v":0},{"$f":"IF(AND(May!I6=1,May!I7=1),0,IF(May!I7=1,$C6,0))","v":0},{"$f":"IF(AND(May!J6=1,May!J7=1),0,IF(May!J7=1,$C6,0))","v":0},{"$f":"IF(AND(May!K6=1,May!K7=1),0,IF(May!K7=1,$C6,0))","v":0},{"$f":"IF(AND(May!L6=1,May!L7=1),0,IF(May!L7=1,$C6,0))","v":0},{"$f":"IF(AND(May!M6=1,May!M7=1),0,IF(May!M7=1,$C6,0))","v":0},{"$f":"IF(AND(May!N6=1,May!N7=1),0,IF(May!N7=1,$C6,0))","v":0},{"$f":"IF(AND(May!O6=1,May!O7=1),0,IF(May!O7=1,$C6,0))","v":0},{"$f":"IF(AND(May!P6=1,May!P7=1),0,IF(May!P7=1,$C6,0))","v":0},{"$f":"IF(AND(May!Q6=1,May!Q7=1),0,IF(May!Q7=1,$C6,0))","v":0},{"$f":"IF(AND(May!R6=1,May!R7=1),0,IF(May!R7=1,$C6,0))","v":0},{"$f":"IF(AND(May!S6=1,May!S7=1),0,IF(May!S7=1,$C6,0))","v":0},{"$f":"IF(AND(May!T6=1,May!T7=1),0,IF(May!T7=1,$C6,0))","v":0},{"$f":"IF(AND(May!U6=1,May!U7=1),0,IF(May!U7=1,$C6,0))","v":0},{"$f":"IF(AND(May!V6=1,May!V7=1),0,IF(May!V7=1,$C6,0))","v":0},{"$f":"IF(AND(May!W6=1,May!W7=1),0,IF(May!W7=1,$C6,0))","v":0},{"$f":"IF(AND(May!X6=1,May!X7=1),0,IF(May!X7=1,$C6,0))","v":0},{"$f":"IF(AND(May!Y6=1,May!Y7=1),0,IF(May!Y7=1,$C6,0))","v":0},{"$f":"IF(AND(May!Z6=1,May!Z7=1),0,IF(May!Z7=1,$C6,0))","v":0},{"$f":"IF(AND(May!AA6=1,May!AA7=1),0,IF(May!AA7=1,$C6,0))","v":0},{"$f":"IF(AND(May!AB6=1,May!AB7=1),0,IF(May!AB7=1,$C6,0))","v":0},{"$f":"IF(AND(May!AC6=1,May!AC7=1),0,IF(May!AC7=1,$C6,0))","v":0},{"$f":"IF(AND(May!AD6=1,May!AD7=1),0,IF(May!AD7=1,$C6,0))","v":0},{"$f":"IF(AND(May!AE6=1,May!AE7=1),0,IF(May!AE7=1,$C6,0))","v":0},{"$f":"IF(AND(May!AF6=1,May!AF7=1),0,IF(May!AF7=1,$C6,0))","v":0},{"$f":"IF(AND(May!AG6=1,May!AG7=1),0,IF(May!AG7=1,$C6,0))","v":0},{"$f":"IF(AND(May!AH6=1,May!AH7=1),0,IF(May!AH7=1,$C6,0))","v":0},0]
[{"$f":"May!A8","v":3},{"$f":"May!B8","v":"Chandan Pooja on weekend"},{"$f":"May!C8","v":40},{"$f":"IF(WEEKDAY(D$4,2)>5,IF(May!D8=1,$C7,0),0)","v":0},{"$f":"IF(WEEKDAY(E$4,2)>5,IF(May!E8=1,$C7,0),0)","v":0},{"$f":"IF(WEEKDAY(F$4,2)>5,IF(May!F8=1,$C7,0),0)","v":0},{"$f":"IF(WEEKDAY(G$4,2)>5,IF(May!G8=1,$C7,0),0)","v":0},{"$f":"IF(WEEKDAY(H$4,2)>5,IF(May!H8=1,$C7,0),0)","v":0},{"$f":"IF(WEEKDAY(I$4,2)>5,IF(May!I8=1,$C7,0),0)","v":0},{"$f":"IF(WEEKDAY(J$4,2)>5,IF(May!J8=1,$C7,0),0)","v":0},{"$f":"IF(WEEKDAY(K$4,2)>5,IF(May!K8=1,$C7,0),0)","v":0},{"$f":"IF(WEEKDAY(L$4,2)>5,IF(May!L8=1,$C7,0),0)","v":0},{"$f":"IF(WEEKDAY(M$4,2)>5,IF(May!M8=1,$C7,0),0)","v":0},{"$f":"IF(WEEKDAY(N$4,2)>5,IF(May!N8=1,$C7,0),0)","v":0},{"$f":"IF(WEEKDAY(O$4,2)>5,IF(May!O8=1,$C7,0),0)","v":0},{"$f":"IF(WEEKDAY(P$4,2)>5,IF(May!P8=1,$C7,0),0)","v":0},{"$f":"IF(WEEKDAY(Q$4,2)>5,IF(May!Q8=1,$C7,0),0)","v":0},{"$f":"IF(WEEKDAY(R$4,2)>5,IF(May!R8=1,$C7,0),0)","v":0},{"$f":"IF(WEEKDAY(S$4,2)>5,IF(May!S8=1,$C7,0),0)","v":0},{"$f":"IF(WEEKDAY(T$4,2)>5,IF(May!T8=1,$C7,0),0)","v":0},{"$f":"IF(WEEKDAY(U$4,2)>5,IF(May!U8=1,$C7,0),0)","v":0},{"$f":"IF(WEEKDAY(V$4,2)>5,IF(May!V8=1,$C7,0),0)","v":0},{"$f":"IF(WEEKDAY(W$4,2)>5,IF(May!W8=1,$C7,0),0)","v":0},{"$f":"IF(WEEKDAY(X$4,2)>5,IF(May!X8=1,$C7,0),0)","v":0},{"$f":"IF(WEEKDAY(Y$4,2)>5,IF(May!Y8=1,$C7,0),0)","v":0},{"$f":"IF(WEEKDAY(Z$4,2)>5,IF(May!Z8=1,$C7,0),0)","v":0},{"$f":"IF(WEEKDAY(AA$4,2)>5,IF(May!AA8=1,$C7,0),0)","v":0},{"$f":"IF(WEEKDAY(AB$4,2)>5,IF(May!AB8=1,$C7,0),0)","v":0},{"$f":"IF(WEEKDAY(AC$4,2)>5,IF(May!AC8=1,$C7,0),0)","v":0},{"$f":"IF(WEEKDAY(AD$4,2)>5,IF(May!AD8=1,$C7,0),0)","v":0},{"$f":"IF(WEEKDAY(AE$4,2)>5,IF(May!AE8=1,$C7,0),0)","v":0},{"$f":"IF(WEEKDAY(AF$4,2)>5,IF(May!AF8=1,$C7,0),0)","v":0},{"$f":"IF(WEEKDAY(AG$4,2)>5,IF(May!AG8=1,$C7,0),0)","v":0},{"$f":"IF(WEEKDAY(AH$4,2)>5,IF(May!AH8=1,$C7,0),0)","v":0},0]
[{"$f":"May!A9","v":4},{"$f":"May!B9","v":"Samayik/Pratikraman"},{"$f":"May!C9","v":50},{"$f":"IF(May!D9=1,$C8,0)","v":0},{"$f":"IF(May!E9=1,$C8,0)","v":0},{"$f":"IF(May!F9=1,$C8,0)","v":0},{"$f":"IF(May!G9=1,$C8,0)","v":0},{"$f":"IF(May!H9=1,$C8,0)","v":0},{"$f":"IF(May!I9=1,$C8,0)","v":0},{"$f":"IF(May!J9=1,$C8,0)","v":0},{"$f":"IF(May!K9=1,$C8,0)","v":0},{"$f":"IF(May!L9=1,$C8,0)","v":0},{"$f":"IF(May!M9=1,$C8,0)","v":0},{"$f":"IF(May!N9=1,$C8,0)","v":0},{"$f":"IF(May!O9=1,$C8,0)","v":0},{"$f":"IF(May!P9=1,$C8,0)","v":0},{"$f":"IF(May!Q9=1,$C8,0)","v":0},{"$f":"IF(May!R9=1,$C8,0)","v":0},{"$f":"IF(May!S9=1,$C8,0)","v":0},{"$f":"IF(May!T9=1,$C8,0)","v":0},{"$f":"IF(May!U9=1,$C8,0)","v":0},{"$f":"IF(May!V9=1,$C8,0)","v":0},{"$f":"IF(May!W9=1,$C8,0)","v":0},{"$f":"IF(May!X9=1,$C8,0)","v":0},{"$f":"IF(May!Y9=1,$C8,0)","v":0},{"$f":"IF(May!Z9=1,$C8,0)","v":0},{"$f":"IF(May!AA9=1,$C8,0)","v":0},{"$f":"IF(May!AB9=1,$C8,0)","v":0},{"$f":"IF(May!AC9=1,$C8,0)","v":0},{"$f":"IF(May!AD9=1,$C8,0)","v":0},{"$f":"IF(May!AE9=1,$C8,0)","v":0},{"$f":"IF(May!AF9=1,$C8,0)","v":0},{"$f":"IF(May!AG9=1,$C8,0)","v":0},{"$f":"IF(May!AH9=1,$C8,0)","v":0},0]
[{"$f":"May!A10","v":5},{"$f":"May!B10","v":"Learn Sutra/Stuti for 15 mins"},{"$f":"May!C10","v":30},{"$f":"IF(May!D10=1,$C9,0)","v":0},{"$f":"IF(May!E10=1,$C9,0)","v":0},{"$f":"IF(May!F10=1,$C9,0)","v":0},{"$f":"IF(May!G10=1,$C9,0)","v":0},{"$f":"IF(May!H10=1,$C9,0)","v":0},{"$f":"IF(May!I10=1,$C9,0)","v":0},{"$f":"IF(May!J10=1,$C9,0)","v":0},{"$f":"IF(May!K10=1,$C9,0)","v":0},{"$f":"IF(May!L10=1,$C9,0)","v":0},{"$f":"IF(May!M10=1,$C9,0)","v":0},{"$f":"IF(May!N10=1,$C9,0)","v":0},{"$f":"IF(May!O10=1,$C9,0)","v":0},{"$f":"IF(May!P10=1,$C9,0)","v":0},{"$f":"IF(May!Q10=1,$C9,0)","v":0},{"$f":"IF(May!R10=1,$C9,0)","v":0},{"$f":"IF(May!S10=1,$C9,0)","v":0},{"$f":"IF(May!T10=1,$C9,0)","v":0},{"$f":"IF(May!U10=1,$C9,0)","v":0},{"$f":"IF(May!V10=1,$C9,0)","v":0},{"$f":"IF(May!W10=1,$C9,0)","v":0},{"$f":"IF(May!X10=1,$C9,0)","v":0},{"$f":"IF(May!Y10=1,$C9,0)","v":0},{"$f":"IF(May!Z10=1,$C9,0)","v":0},{"$f":"IF(May!AA10=1,$C9,0)","v":0},{"$f":"IF(May!AB10=1,$C9,0)","v":0},{"$f":"IF(May!AC10=1,$C9,0)","v":0},{"$f":"IF(May!AD10=1,$C9,0)","v":0},{"$f":"IF(May!AE10=1,$C9,0)","v":0},{"$f":"IF(May!AF10=1,$C9,0)","v":0},{"$f":"IF(May!AG10=1,$C9,0)","v":0},{"$f":"IF(May!AH10=1,$C9,0)","v":0},0]
[{"$f":"May!A11","v":6},{"$f":"May!B11","v":"Chandan Pooja on Weekdays"},{"$f":"May!C11","v":25},{"$f":"IF(WEEKDAY(D$4,2)<=5,IF(May!D11=1,$C10,0),0)","v":0},{"$f":"IF(WEEKDAY(E$4,2)<=5,IF(May!E11=1,$C10,0),0)","v":0},{"$f":"IF(WEEKDAY(F$4,2)<=5,IF(May!F11=1,$C10,0),0)","v":0},{"$f":"IF(WEEKDAY(G$4,2)<=5,IF(May!G11=1,$C10,0),0)","v":0},{"$f":"IF(WEEKDAY(H$4,2)<=5,IF(May!H11=1,$C10,0),0)","v":0},{"$f":"IF(WEEKDAY(I$4,2)<=5,IF(May!I11=1,$C10,0),0)","v":0},{"$f":"IF(WEEKDAY(J$4,2)<=5,IF(May!J11=1,$C10,0),0)","v":0},{"$f":"IF(WEEKDAY(K$4,2)<=5,IF(May!K11=1,$C10,0),0)","v":0},{"$f":"IF(WEEKDAY(L$4,2)<=5,IF(May!L11=1,$C10,0),0)","v":0},{"$f":"IF(WEEKDAY(M$4,2)<=5,IF(May!M11=1,$C10,0),0)","v":0},{"$f":"IF(WEEKDAY(N$4,2)<=5,IF(May!N11=1,$C10,0),0)","v":0},{"$f":"IF(WEEKDAY(O$4,2)<=5,IF(May!O11=1,$C10,0),0)","v":0},{"$f":"IF(WEEKDAY(P$4,2)<=5,IF(May!P11=1,$C10,0),0)","v":0},{"$f":"IF(WEEKDAY(Q$4,2)<=5,IF(May!Q11=1,$C10,0),0)","v":0},{"$f":"IF(WEEKDAY(R$4,2)<=5,IF(May!R11=1,$C10,0),0)","v":0},{"$f":"IF(WEEKDAY(S$4,2)<=5,IF(May!S11=1,$C10,0),0)","v":0},{"$f":"IF(WEEKDAY(T$4,2)<=5,IF(May!T11=1,$C10,0),0)","v":0},{"$f":"IF(WEEKDAY(U$4,2)<=5,IF(May!U11=1,$C10,0),0)","v":0},{"$f":"IF(WEEKDAY(V$4,2)<=5,IF(May!V11=1,$C10,0),0)","v":0},{"$f":"IF(WEEKDAY(W$4,2)<=5,IF(May!W11=1,$C10,0),0)","v":0},{"$f":"IF(WEEKDAY(X$4,2)<=5,IF(May!X11=1,$C10,0),0)","v":0},{"$f":"IF(WEEKDAY(Y$4,2)<=5,IF(May!Y11=1,$C10,0),0)","v":0},{"$f":"IF(WEEKDAY(Z$4,2)<=5,IF(May!Z11=1,$C10,0),0)","v":0},{"$f":"IF(WEEKDAY(AA$4,2)<=5,IF(May!AA11=1,$C10,0),0)","v":0},{"$f":"IF(WEEKDAY(AB$4,2)<=5,IF(May!AB11=1,$C10,0),0)","v":0},{"$f":"IF(WEEKDAY(AC$4,2)<=5,IF(May!AC11=1,$C10,0),0)","v":0},{"$f":"IF(WEEKDAY(AD$4,2)<=5,IF(May!AD11=1,$C10,0),0)","v":0},{"$f":"IF(WEEKDAY(AE$4,2)<=5,IF(May!AE11=1,$C10,0),0)","v":0},{"$f":"IF(WEEKDAY(AF$4,2)<=5,IF(May!AF11=1,$C10,0),0)","v":0},{"$f":"IF(WEEKDAY(AG$4,2)<=5,IF(May!AG11=1,$C10,0),0)","v":0},{"$f":"IF(WEEKDAY(AH$4,2)<=5,IF(May!AH11=1,$C10,0),0)","v":0},0]
[{"$f":"May!A12","v":7},{"$f":"May!B12","v":"Vasakshep Pooja"},{"$f":"May!C12","v":10},{"$f":"IF(May!D12=1,$C11,0)","v":0},{"$f":"IF(May!E12=1,$C11,0)","v":0},{"$f":"IF(May!F12=1,$C11,0)","v":0},{"$f":"IF(May!G12=1,$C11,0)","v":0},{"$f":"IF(May!H12=1,$C11,0)","v":0},{"$f":"IF(May!I12=1,$C11,0)","v":0},{"$f":"IF(May!J12=1,$C11,0)","v":0},{"$f":"IF(May!K12=1,$C11,0)","v":0},{"$f":"IF(May!L12=1,$C11,0)","v":0},{"$f":"IF(May!M12=1,$C11,0)","v":0},{"$f":"IF(May!N12=1,$C11,0)","v":0},{"$f":"IF(May!O12=1,$C11,0)","v":0},{"$f":"IF(May!P12=1,$C11,0)","v":0},{"$f":"IF(May!Q12=1,$C11,0)","v":0},{"$f":"IF(May!R12=1,$C11,0)","v":0},{"$f":"IF(May!S12=1,$C11,0)","v":0},{"$f":"IF(May!T12=1,$C11,0)","v":0},{"$f":"IF(May!U12=1,$C11,0)","v":0},{"$f":"IF(May!V12=1,$C11,0)","v":0},{"$f":"IF(May!W12=1,$C11,0)","v":0},{"$f":"IF(May!X12=1,$C11,0)","v":0},{"$f":"IF(May!Y12=1,$C11,0)","v":0},{"$f":"IF(May!Z12=1,$C11,0)","v":0},{"$f":"IF(May!AA12=1,$C11,0)","v":0},{"$f":"IF(May!AB12=1,$C11,0)","v":0},{"$f":"IF(May!AC12=1,$C11,0)","v":0},{"$f":"IF(May!AD12=1,$C11,0)","v":0},{"$f":"IF(May!AE12=1,$C11,0)","v":0},{"$f":"IF(May!AF12=1,$C11,0)","v":0},{"$f":"IF(May!AG12=1,$C11,0)","v":0},{"$f":"IF(May!AH12=1,$C11,0)","v":0},0]
[{"$f":"May!A13","v":8},{"$f":"May!B13","v":"Aarti *"},{"$f":"May!C13","v":10},{"$f":"IF(May!D13=1,$C12,0)","v":0},{"$f":"IF(May!E13=1,$C12,0)","v":0},{"$f":"IF(May!F13=1,$C12,0)","v":0},{"$f":"IF(May!G13=1,$C12,0)","v":0},{"$f":"IF(May!H13=1,$C12,0)","v":0},{"$f":"IF(May!I13=1,$C12,0)","v":0},{"$f":"IF(May!J13=1,$C12,0)","v":0},{"$f":"IF(May!K13=1,$C12,0)","v":0},{"$f":"IF(May!L13=1,$C12,0)","v":0},{"$f":"IF(May!M13=1,$C12,0)","v":0},{"$f":"IF(May!N13=1,$C12,0)","v":0},{"$f":"IF(May!O13=1,$C12,0)","v":0},{"$f":"IF(May!P13=1,$C12,0)","v":0},{"$f":"IF(May!Q13=1,$C12,0)","v":0},{"$f":"IF(May!R13=1,$C12,0)","v":0},{"$f":"IF(May!S13=1,$C12,0)","v":0},{"$f":"IF(May!T13=1,$C12,0)","v":0},{"$f":"IF(May!U13=1,$C12,0)","v":0},{"$f":"IF(May!V13=1,$C12,0)","v":0},{"$f":"IF(May!W13=1,$C12,0)","v":0},{"$f":"IF(May!X13=1,$C12,0)","v":0},{"$f":"IF(May!Y13=1,$C12,0)","v":0},{"$f":"IF(May!Z13=1,$C12,0)","v":0},{"$f":"IF(May!AA13=1,$C12,0)","v":0},{"$f":"IF(May!AB13=1,$C12,0)","v":0},{"$f":"IF(May!AC13=1,$C12,0)","v":0},{"$f":"IF(May!AD13=1,$C12,0)","v":0},{"$f":"IF(May!AE13=1,$C12,0)","v":0},{"$f":"IF(May!AF13=1,$C12,0)","v":0},{"$f":"IF(May!AG13=1,$C12,0)","v":0},{"$f":"IF(May!AH13=1,$C12,0)","v":0},0]
[{"$f":"May!A14","v":9},{"$f":"May!B14","v":"Chauvihar/Tivihar ^"},{"$f":"May!C14","v":25},{"$f":"IF(OR(May!D6=1,May!D7=1),0,IF(May!D14=1,$C13,0))","v":0},{"$f":"IF(OR(May!E6=1,May!E7=1),0,IF(May!E14=1,$C13,0))","v":0},{"$f":"IF(OR(May!F6=1,May!F7=1),0,IF(May!F14=1,$C13,0))","v":0},{"$f":"IF(OR(May!G6=1,May!G7=1),0,IF(May!G14=1,$C13,0))","v":0},{"$f":"IF(OR(May!H6=1,May!H7=1),0,IF(May!H14=1,$C13,0))","v":0},{"$f":"IF(OR(May!I6=1,May!I7=1),0,IF(May!I14=1,$C13,0))","v":0},{"$f":"IF(OR(May!J6=1,May!J7=1),0,IF(May!J14=1,$C13,0))","v":0},{"$f":"IF(OR(May!K6=1,May!K7=1),0,IF(May!K14=1,$C13,0))","v":0},{"$f":"IF(OR(May!L6=1,May!L7=1),0,IF(May!L14=1,$C13,0))","v":0},{"$f":"IF(OR(May!M6=1,May!M7=1),0,IF(May!M14=1,$C13,0))","v":0},{"$f":"IF(OR(May!N6=1,May!N7=1),0,IF(May!N14=1,$C13,0))","v":0},{"$f":"IF(OR(May!O6=1,May!O7=1),0,IF(May!O14=1,$C13,0))","v":0},{"$f":"IF(OR(May!P6=1,May!P7=1),0,IF(May!P14=1,$C13,0))","v":0},{"$f":"IF(OR(May!Q6=1,May!Q7=1),0,IF(May!Q14=1,$C13,0))","v":0},{"$f":"IF(OR(May!R6=1,May!R7=1),0,IF(May!R14=1,$C13,0))","v":0},{"$f":"IF(OR(May!S6=1,May!S7=1),0,IF(May!S14=1,$C13,0))","v":0},{"$f":"IF(OR(May!T6=1,May!T7=1),0,IF(May!T14=1,$C13,0))","v":0},{"$f":"IF(OR(May!U6=1,May!U7=1),0,IF(May!U14=1,$C13,0))","v":0},{"$f":"IF(OR(May!V6=1,May!V7=1),0,IF(May!V14=1,$C13,0))","v":0},{"$f":"IF(OR(May!W6=1,May!W7=1),0,IF(May!W14=1,$C13,0))","v":0},{"$f":"IF(OR(May!X6=1,May!X7=1),0,IF(May!X14=1,$C13,0))","v":0},{"$f":"IF(OR(May!Y6=1,May!Y7=1),0,IF(May!Y14=1,$C13,0))","v":0},{"$f":"IF(OR(May!Z6=1,May!Z7=1),0,IF(May!Z14=1,$C13,0))","v":0},{"$f":"IF(OR(May!AA6=1,May!AA7=1),0,IF(May!AA14=1,$C13,0))","v":0},{"$f":"IF(OR(May!AB6=1,May!AB7=1),0,IF(May!AB14=1,$C13,0))","v":0},{"$f":"IF(OR(May!AC6=1,May!AC7=1),0,IF(May!AC14=1,$C13,0))","v":0},{"$f":"IF(OR(May!AD6=1,May!AD7=1),0,IF(May!AD14=1,$C13,0))","v":0},{"$f":"IF(OR(May!AE6=1,May!AE7=1),0,IF(May!AE14=1,$C13,0))","v":0},{"$f":"IF(OR(May!AF6=1,May!AF7=1),0,IF(May!AF14=1,$C13,0))","v":0},{"$f":"IF(OR(May!AG6=1,May!AG7=1),0,IF(May!AG14=1,$C13,0))","v":0},{"$f":"IF(OR(May!AH6=1,May!AH7=1),0,IF(May!AH14=1,$C13,0))","v":0},0]
[{"$f":"May!A15","v":10},{"$f":"May!B15","v":"Drink boiled water for a day ^"},{"$f":"May!C15","v":15},{"$f":"IF(OR(May!D6=1,May!D7=1),0,IF(May!D15=1,$C14,0))","v":0},{"$f":"IF(OR(May!E6=1,May!E7=1),0,IF(May!E15=1,$C14,0))","v":0},{"$f":"IF(OR(May!F6=1,May!F7=1),0,IF(May!F15=1,$C14,0))","v":0},{"$f":"IF(OR(May!G6=1,May!G7=1),0,IF(May!G15=1,$C14,0))","v":0},{"$f":"IF(OR(May!H6=1,May!H7=1),0,IF(May!H15=1,$C14,0))","v":0},{"$f":"IF(OR(May!I6=1,May!I7=1),0,IF(May!I15=1,$C14,0))","v":0},{"$f":"IF(OR(May!J6=1,May!J7=1),0,IF(May!J15=1,$C14,0))","v":0},{"$f":"IF(OR(May!K6=1,May!K7=1),0,IF(May!K15=1,$C14,0))","v":0},{"$f":"IF(OR(May!L6=1,May!L7=1),0,IF(May!L15=1,$C14,0))","v":0},{"$f":"IF(OR(May!M6=1,May!M7=1),0,IF(May!M15=1,$C14,0))","v":0},{"$f":"IF(OR(May!N6=1,May!N7=1),0,IF(May!N15=1,$C14,0))","v":0},{"$f":"IF(OR(May!O6=1,May!O7=1),0,IF(May!O15=1,$C14,0))","v":0},{"$f":"IF(OR(May!P6=1,May!P7=1),0,IF(May!P15=1,$C14,0))","v":0},{"$f":"IF(OR(May!Q6=1,May!Q7=1),0,IF(May!Q15=1,$C14,0))","v":0},{"$f":"IF(OR(May!R6=1,May!R7=1),0,IF(May!R15=1,$C14,0))","v":0},{"$f":"IF(OR(May!S6=1,May!S7=1),0,IF(May!S15=1,$C14,0))","v":0},{"$f":"IF(OR(May!T6=1,May!T7=1),0,IF(May!T15=1,$C14,0))","v":0},{"$f":"IF(OR(May!U6=1,May!U7=1),0,IF(May!U15=1,$C14,0))","v":0},{"$f":"IF(OR(May!V6=1,May!V7=1),0,IF(May!V15=1,$C14,0))","v":0},{"$f":"IF(OR(May!W6=1,May!W7=1),0,IF(May!W15=1,$C14,0))","v":0},{"$f":"IF(OR(May!X6=1,May!X7=1),0,IF(May!X15=1,$C14,0))","v":0},{"$f":"IF(OR(May!Y6=1,May!Y7=1),0,IF(May!Y15=1,$C14,0))","v":0},{"$f":"IF(OR(May!Z6=1,May!Z7=1),0,IF(May!Z15=1,$C14,0))","v":0},{"$f":"IF(OR(May!AA6=1,May!AA7=1),0,IF(May!AA15=1,$C14,0))","v":0},{"$f":"IF(OR(May!AB6=1,May!AB7=1),0,IF(May!AB15=1,$C14,0))","v":0},{"$f":"IF(OR(May!AC6=1,May!AC7=1),0,IF(May!AC15=1,$C14,0))","v":0},{"$f":"IF(OR(May!AD6=1,May!AD7=1),0,IF(May!AD15=1,$C14,0))","v":0},{"$f":"IF(OR(May!AE6=1,May!AE7=1),0,IF(May!AE15=1,$C14,0))","v":0},{"$f":"IF(OR(May!AF6=1,May!AF7=1),0,IF(May!AF15=1,$C14,0))","v":0},{"$f":"IF(OR(May!AG6=1,May!AG7=1),0,IF(May!AG15=1,$C14,0))","v":0},{"$f":"IF(OR(May!AH6=1,May!AH7=1),0,IF(May!AH15=1,$C14,0))","v":0},0]
[{"$f":"May!A16","v":11},{"$f":"May!B16","v":"Navkarshi ^"},{"$f":"May!C16","v":20},{"$f":"IF(OR(May!D6=1,May!D7=1),0,IF(May!D16=1,$C15,0))","v":0},{"$f":"IF(OR(May!E6=1,May!E7=1),0,IF(May!E16=1,$C15,0))","v":0},{"$f":"IF(OR(May!F6=1,May!F7=1),0,IF(May!F16=1,$C15,0))","v":0},{"$f":"IF(OR(May!G6=1,May!G7=1),0,IF(May!G16=1,$C15,0))","v":0},{"$f":"IF(OR(May!H6=1,May!H7=1),0,IF(May!H16=1,$C15,0))","v":0},{"$f":"IF(OR(May!I6=1,May!I7=1),0,IF(May!I16=1,$C15,0))","v":0},{"$f":"IF(OR(May!J6=1,May!J7=1),0,IF(May!J16=1,$C15,0))","v":0},{"$f":"IF(OR(May!K6=1,May!K7=1),0,IF(May!K16=1,$C15,0))","v":0},{"$f":"IF(OR(May!L6=1,May!L7=1),0,IF(May!L16=1,$C15,0))","v":0},{"$f":"IF(OR(May!M6=1,May!M7=1),0,IF(May!M16=1,$C15,0))","v":0},{"$f":"IF(OR(May!N6=1,May!N7=1),0,IF(May!N16=1,$C15,0))","v":0},{"$f":"IF(OR(May!O6=1,May!O7=1),0,IF(May!O16=1,$C15,0))","v":0},{"$f":"IF(OR(May!P6=1,May!P7=1),0,IF(May!P16=1,$C15,0))","v":0},{"$f":"IF(OR(May!Q6=1,May!Q7=1),0,IF(May!Q16=1,$C15,0))","v":0},{"$f":"IF(OR(May!R6=1,May!R7=1),0,IF(May!R16=1,$C15,0))","v":0},{"$f":"IF(OR(May!S6=1,May!S7=1),0,IF(May!S16=1,$C15,0))","v":0},{"$f":"IF(OR(May!T6=1,May!T7=1),0,IF(May!T16=1,$C15,0))","v":0},{"$f":"IF(OR(May!U6=1,May!U7=1),0,IF(May!U16=1,$C15,0))","v":0},{"$f":"IF(OR(May!V6=1,May!V7=1),0,IF(May!V16=1,$C15,0))","v":0},{"$f":"IF(OR(May!W6=1,May!W7=1),0,IF(May!W16=1,$C15,0))","v":0},{"$f":"IF(OR(May!X6=1,May!X7=1),0,IF(May!X16=1,$C15,0))","v":0},{"$f":"IF(OR(May!Y6=1,May!Y7=1),0,IF(May!Y16=1,$C15,0))","v":0},{"$f":"IF(OR(May!Z6=1,May!Z7=1),0,IF(May!Z16=1,$C15,0))","v":0},{"$f":"IF(OR(May!AA6=1,May!AA7=1),0,IF(May!AA16=1,$C15,0))","v":0},{"$f":"IF(OR(May!AB6=1,May!AB7=1),0,IF(May!AB16=1,$C15,0))","v":0},{"$f":"IF(OR(May!AC6=1,May!AC7=1),0,IF(May!AC16=1,$C15,0))","v":0},{"$f":"IF(OR(May!AD6=1,May!AD7=1),0,IF(May!AD16=1,$C15,0))","v":0},{"$f":"IF(OR(May!AE6=1,May!AE7=1),0,IF(May!AE16=1,$C15,0))","v":0},{"$f":"IF(OR(May!AF6=1,May!AF7=1),0,IF(May!AF16=1,$C15,0))","v":0},{"$f":"IF(OR(May!AG6=1,May!AG7=1),0,IF(May!AG16=1,$C15,0))","v":0},{"$f":"IF(OR(May!AH6=1,May!AH7=1),0,IF(May!AH16=1,$C15,0))","v":0},0]
[{"$f":"May!A17","v":12},{"$f":"May!B17","v":"Vadilo Ne Page Lagvu"},{"$f":"May!C17","v":10},{"$f":"IF(May!D17=1,$C16,0)","v":0},{"$f":"IF(May!E17=1,$C16,0)","v":0},{"$f":"IF(May!F17=1,$C16,0)","v":0},{"$f":"IF(May!G17=1,$C16,0)","v":0},{"$f":"IF(May!H17=1,$C16,0)","v":0},{"$f":"IF(May!I17=1,$C16,0)","v":0},{"$f":"IF(May!J17=1,$C16,0)","v":0},{"$f":"IF(May!K17=1,$C16,0)","v":0},{"$f":"IF(May!L17=1,$C16,0)","v":0},{"$f":"IF(May!M17=1,$C16,0)","v":0},{"$f":"IF(May!N17=1,$C16,0)","v":0},{"$f":"IF(May!O17=1,$C16,0)","v":0},{"$f":"IF(May!P17=1,$C16,0)","v":0},{"$f":"IF(May!Q17=1,$C16,0)","v":0},{"$f":"IF(May!R17=1,$C16,0)","v":0},{"$f":"IF(May!S17=1,$C16,0)","v":0},{"$f":"IF(May!T17=1,$C16,0)","v":0},{"$f":"IF(May!U17=1,$C16,0)","v":0},{"$f":"IF(May!V17=1,$C16,0)","v":0},{"$f":"IF(May!W17=1,$C16,0)","v":0},{"$f":"IF(May!X17=1,$C16,0)","v":0},{"$f":"IF(May!Y17=1,$C16,0)","v":0},{"$f":"IF(May!Z17=1,$C16,0)","v":0},{"$f":"IF(May!AA17=1,$C16,0)","v":0},{"$f":"IF(May!AB17=1,$C16,0)","v":0},{"$f":"IF(May!AC17=1,$C16,0)","v":0},{"$f":"IF(May!AD17=1,$C16,0)","v":0},{"$f":"IF(May!AE17=1,$C16,0)","v":0},{"$f":"IF(May!AF17=1,$C16,0)","v":0},{"$f":"IF(May!AG17=1,$C16,0)","v":0},{"$f":"IF(May!AH17=1,$C16,0)","v":0},0]
[{"$f":"May!A18","v":13},{"$f":"May!B18","v":"No use of mobile, TV #"},{"$f":"May!C18","v":10},{"$f":"IF(May!D18=1,$C17,0)","v":0},{"$f":"IF(May!E18=1,$C17,0)","v":0},{"$f":"IF(May!F18=1,$C17,0)","v":0},{"$f":"IF(May!G18=1,$C17,0)","v":0},{"$f":"IF(May!H18=1,$C17,0)","v":0},{"$f":"IF(May!I18=1,$C17,0)","v":0},{"$f":"IF(May!J18=1,$C17,0)","v":0},{"$f":"IF(May!K18=1,$C17,0)","v":0},{"$f":"IF(May!L18=1,$C17,0)","v":0},{"$f":"IF(May!M18=1,$C17,0)","v":0},{"$f":"IF(May!N18=1,$C17,0)","v":0},{"$f":"IF(May!O18=1,$C17,0)","v":0},{"$f":"IF(May!P18=1,$C17,0)","v":0},{"$f":"IF(May!Q18=1,$C17,0)","v":0},{"$f":"IF(May!R18=1,$C17,0)","v":0},{"$f":"IF(May!S18=1,$C17,0)","v":0},{"$f":"IF(May!T18=1,$C17,0)","v":0},{"$f":"IF(May!U18=1,$C17,0)","v":0},{"$f":"IF(May!V18=1,$C17,0)","v":0},{"$f":"IF(May!W18=1,$C17,0)","v":0},{"$f":"IF(May!X18=1,$C17,0)","v":0},{"$f":"IF(May!Y18=1,$C17,0)","v":0},{"$f":"IF(May!Z18=1,$C17,0)","v":0},{"$f":"IF(May!AA18=1,$C17,0)","v":0},{"$f":"IF(May!AB18=1,$C17,0)","v":0},{"$f":"IF(May!AC18=1,$C17,0)","v":0},{"$f":"IF(May!AD18=1,$C17,0)","v":0},{"$f":"IF(May!AE18=1,$C17,0)","v":0},{"$f":"IF(May!AF18=1,$C17,0)","v":0},{"$f":"IF(May!AG18=1,$C17,0)","v":0},{"$f":"IF(May!AH18=1,$C17,0)","v":0},0]
[{"$f":"May!A19","v":14},{"$f":"May!B19","v":"Uthata 8 Navkar and Suta 7 Navkar"},{"$f":"May!C19","v":10},{"$f":"IF(May!D19=1,$C18,0)","v":0},{"$f":"IF(May!E19=1,$C18,0)","v":0},{"$f":"IF(May!F19=1,$C18,0)","v":0},{"$f":"IF(May!G19=1,$C18,0)","v":0},{"$f":"IF(May!H19=1,$C18,0)","v":0},{"$f":"IF(May!I19=1,$C18,0)","v":0},{"$f":"IF(May!J19=1,$C18,0)","v":0},{"$f":"IF(May!K19=1,$C18,0)","v":0},{"$f":"IF(May!L19=1,$C18,0)","v":0},{"$f":"IF(May!M19=1,$C18,0)","v":0},{"$f":"IF(May!N19=1,$C18,0)","v":0},{"$f":"IF(May!O19=1,$C18,0)","v":0},{"$f":"IF(May!P19=1,$C18,0)","v":0},{"$f":"IF(May!Q19=1,$C18,0)","v":0},{"$f":"IF(May!R19=1,$C18,0)","v":0},{"$f":"IF(May!S19=1,$C18,0)","v":0},{"$f":"IF(May!T19=1,$C18,0)","v":0},{"$f":"IF(May!U19=1,$C18,0)","v":0},{"$f":"IF(May!V19=1,$C18,0)","v":0},{"$f":"IF(May!W19=1,$C18,0)","v":0},{"$f":"IF(May!X19=1,$C18,0)","v":0},{"$f":"IF(May!Y19=1,$C18,0)","v":0},{"$f":"IF(May!Z19=1,$C18,0)","v":0},{"$f":"IF(May!AA19=1,$C18,0)","v":0},{"$f":"IF(May!AB19=1,$C18,0)","v":0},{"$f":"IF(May!AC19=1,$C18,0)","v":0},{"$f":"IF(May!AD19=1,$C18,0)","v":0},{"$f":"IF(May!AE19=1,$C18,0)","v":0},{"$f":"IF(May!AF19=1,$C18,0)","v":0},{"$f":"IF(May!AG19=1,$C18,0)","v":0},{"$f":"IF(May!AH19=1,$C18,0)","v":0},0]
[{"$f":"May!A20","v":15},{"$f":"May!B20","v":"No chocolate, ice cream"},{"$f":"May!C20","v":10},{"$f":"IF(May!D20=1,$C19,0)","v":0},{"$f":"IF(May!E20=1,$C19,0)","v":0},{"$f":"IF(May!F20=1,$C19,0)","v":0},{"$f":"IF(May!G20=1,$C19,0)","v":0},{"$f":"IF(May!H20=1,$C19,0)","v":0},{"$f":"IF(May!I20=1,$C19,0)","v":0},{"$f":"IF(May!J20=1,$C19,0)","v":0},{"$f":"IF(May!K20=1,$C19,0)","v":0},{"$f":"IF(May!L20=1,$C19,0)","v":0},{"$f":"IF(May!M20=1,$C19,0)","v":0},{"$f":"IF(May!N20=1,$C19,0)","v":0},{"$f":"IF(May!O20=1,$C19,0)","v":0},{"$f":"IF(May!P20=1,$C19,0)","v":0},{"$f":"IF(May!Q20=1,$C19,0)","v":0},{"$f":"IF(May!R20=1,$C19,0)","v":0},{"$f":"IF(May!S20=1,$C19,0)","v":0},{"$f":"IF(May!T20=1,$C19,0)","v":0},{"$f":"IF(May!U20=1,$C19,0)","v":0},{"$f":"IF(May!V20=1,$C19,0)","v":0},{"$f":"IF(May!W20=1,$C19,0)","v":0},{"$f":"IF(May!X20=1,$C19,0)","v":0},{"$f":"IF(May!Y20=1,$C19,0)","v":0},{"$f":"IF(May!Z20=1,$C19,0)","v":0},{"$f":"IF(May!AA20=1,$C19,0)","v":0},{"$f":"IF(May!AB20=1,$C19,0)","v":0},{"$f":"IF(May!AC20=1,$C19,0)","v":0},{"$f":"IF(May!AD20=1,$C19,0)","v":0},{"$f":"IF(May!AE20=1,$C19,0)","v":0},{"$f":"IF(May!AF20=1,$C19,0)","v":0},{"$f":"IF(May!AG20=1,$C19,0)","v":0},{"$f":"IF(May!AH20=1,$C19,0)","v":0},0]
[{"$f":"May!A21","v":16},{"$f":"May!B21","v":"Thali Dhoine Pivi"},{"$f":"May!C21","v":20},{"$f":"IF(May!D21=1,$C20,0)","v":0},{"$f":"IF(May!E21=1,$C20,0)","v":0},{"$f":"IF(May!F21=1,$C20,0)","v":0},{"$f":"IF(May!G21=1,$C20,0)","v":0},{"$f":"IF(May!H21=1,$C20,0)","v":0},{"$f":"IF(May!I21=1,$C20,0)","v":0},{"$f":"IF(May!J21=1,$C20,0)","v":0},{"$f":"IF(May!K21=1,$C20,0)","v":0},{"$f":"IF(May!L21=1,$C20,0)","v":0},{"$f":"IF(May!M21=1,$C20,0)","v":0},{"$f":"IF(May!N21=1,$C20,0)","v":0},{"$f":"IF(May!O21=1,$C20,0)","v":0},{"$f":"IF(May!P21=1,$C20,0)","v":0},{"$f":"IF(May!Q21=1,$C20,0)","v":0},{"$f":"IF(May!R21=1,$C20,0)","v":0},{"$f":"IF(May!S21=1,$C20,0)","v":0},{"$f":"IF(May!T21=1,$C20,0)","v":0},{"$f":"IF(May!U21=1,$C20,0)","v":0},{"$f":"IF(May!V21=1,$C20,0)","v":0},{"$f":"IF(May!W21=1,$C20,0)","v":0},{"$f":"IF(May!X21=1,$C20,0)","v":0},{"$f":"IF(May!Y21=1,$C20,0)","v":0},{"$f":"IF(May!Z21=1,$C20,0)","v":0},{"$f":"IF(May!AA21=1,$C20,0)","v":0},{"$f":"IF(May!AB21=1,$C20,0)","v":0},{"$f":"IF(May!AC21=1,$C20,0)","v":0},{"$f":"IF(May!AD21=1,$C20,0)","v":0},{"$f":"IF(May!AE21=1,$C20,0)","v":0},{"$f":"IF(May!AF21=1,$C20,0)","v":0},{"$f":"IF(May!AG21=1,$C20,0)","v":0},{"$f":"IF(May!AH21=1,$C20,0)","v":0},0]
[{"$f":"May!A22","v":17},{"$f":"May!B22","v":"No Bread & No Butter"},{"$f":"May!C22","v":20},{"$f":"IF(May!D22=1,$C21,0)","v":0},{"$f":"IF(May!E22=1,$C21,0)","v":0},{"$f":"IF(May!F22=1,$C21,0)","v":0},{"$f":"IF(May!G22=1,$C21,0)","v":0},{"$f":"IF(May!H22=1,$C21,0)","v":0},{"$f":"IF(May!I22=1,$C21,0)","v":0},{"$f":"IF(May!J22=1,$C21,0)","v":0},{"$f":"IF(May!K22=1,$C21,0)","v":0},{"$f":"IF(May!L22=1,$C21,0)","v":0},{"$f":"IF(May!M22=1,$C21,0)","v":0},{"$f":"IF(May!N22=1,$C21,0)","v":0},{"$f":"IF(May!O22=1,$C21,0)","v":0},{"$f":"IF(May!P22=1,$C21,0)","v":0},{"$f":"IF(May!Q22=1,$C21,0)","v":0},{"$f":"IF(May!R22=1,$C21,0)","v":0},{"$f":"IF(May!S22=1,$C21,0)","v":0},{"$f":"IF(May!T22=1,$C21,0)","v":0},{"$f":"IF(May!U22=1,$C21,0)","v":0},{"$f":"IF(May!V22=1,$C21,0)","v":0},{"$f":"IF(May!W22=1,$C21,0)","v":0},{"$f":"IF(May!X22=1,$C21,0)","v":0},{"$f":"IF(May!Y22=1,$C21,0)","v":0},{"$f":"IF(May!Z22=1,$C21,0)","v":0},{"$f":"IF(May!AA22=1,$C21,0)","v":0},{"$f":"IF(May!AB22=1,$C21,0)","v":0},{"$f":"IF(May!AC22=1,$C21,0)","v":0},{"$f":"IF(May!AD22=1,$C21,0)","v":0},{"$f":"IF(May!AE22=1,$C21,0)","v":0},{"$f":"IF(May!AF22=1,$C21,0)","v":0},{"$f":"IF(May!AG22=1,$C21,0)","v":0},{"$f":"IF(May!AH22=1,$C21,0)","v":0},0]
[{"$f":"May!A23","v":18},{"$f":"May!B23","v":"No Root Vegetables"},{"$f":"May!C23","v":10},{"$f":"IF(May!D23=1,$C22,0)","v":0},{"$f":"IF(May!E23=1,$C22,0)","v":0},{"$f":"IF(May!F23=1,$C22,0)","v":0},{"$f":"IF(May!G23=1,$C22,0)","v":0},{"$f":"IF(May!H23=1,$C22,0)","v":0},{"$f":"IF(May!I23=1,$C22,0)","v":0},{"$f":"IF(May!J23=1,$C22,0)","v":0},{"$f":"IF(May!K23=1,$C22,0)","v":0},{"$f":"IF(May!L23=1,$C22,0)","v":0},{"$f":"IF(May!M23=1,$C22,0)","v":0},{"$f":"IF(May!N23=1,$C22,0)","v":0},{"$f":"IF(May!O23=1,$C22,0)","v":0},{"$f":"IF(May!P23=1,$C22,0)","v":0},{"$f":"IF(May!Q23=1,$C22,0)","v":0},{"$f":"IF(May!R23=1,$C22,0)","v":0},{"$f":"IF(May!S23=1,$C22,0)","v":0},{"$f":"IF(May!T23=1,$C22,0)","v":0},{"$f":"IF(May!U23=1,$C22,0)","v":0},{"$f":"IF(May!V23=1,$C22,0)","v":0},{"$f":"IF(May!W23=1,$C22,0)","v":0},{"$f":"IF(May!X23=1,$C22,0)","v":0},{"$f":"IF(May!Y23=1,$C22,0)","v":0},{"$f":"IF(May!Z23=1,$C22,0)","v":0},{"$f":"IF(May!AA23=1,$C22,0)","v":0},{"$f":"IF(May!AB23=1,$C22,0)","v":0},{"$f":"IF(May!AC23=1,$C22,0)","v":0},{"$f":"IF(May!AD23=1,$C22,0)","v":0},{"$f":"IF(May!AE23=1,$C22,0)","v":0},{"$f":"IF(May!AF23=1,$C22,0)","v":0},{"$f":"IF(May!AG23=1,$C22,0)","v":0},{"$f":"IF(May!AH23=1,$C22,0)","v":0},0]
[{"$f":"May!A24","v":19},{"$f":"May!B24","v":"Read/Listen Jain Bodh Katha"},{"$f":"May!C24","v":10},{"$f":"IF(May!D24=1,$C23,0)","v":0},{"$f":"IF(May!E24=1,$C23,0)","v":0},{"$f":"IF(May!F24=1,$C23,0)","v":0},{"$f":"IF(May!G24=1,$C23,0)","v":0},{"$f":"IF(May!H24=1,$C23,0)","v":0},{"$f":"IF(May!I24=1,$C23,0)","v":0},{"$f":"IF(May!J24=1,$C23,0)","v":0},{"$f":"IF(May!K24=1,$C23,0)","v":0},{"$f":"IF(May!L24=1,$C23,0)","v":0},{"$f":"IF(May!M24=1,$C23,0)","v":0},{"$f":"IF(May!N24=1,$C23,0)","v":0},{"$f":"IF(May!O24=1,$C23,0)","v":0},{"$f":"IF(May!P24=1,$C23,0)","v":0},{"$f":"IF(May!Q24=1,$C23,0)","v":0},{"$f":"IF(May!R24=1,$C23,0)","v":0},{"$f":"IF(May!S24=1,$C23,0)","v":0},{"$f":"IF(May!T24=1,$C23,0)","v":0},{"$f":"IF(May!U24=1,$C23,0)","v":0},{"$f":"IF(May!V24=1,$C23,0)","v":0},{"$f":"IF(May!W24=1,$C23,0)","v":0},{"$f":"IF(May!X24=1,$C23,0)","v":0},{"$f":"IF(May!Y24=1,$C23,0)","v":0},{"$f":"IF(May!Z24=1,$C23,0)","v":0},{"$f":"IF(May!AA24=1,$C23,0)","v":0},{"$f":"IF(May!AB24=1,$C23,0)","v":0},{"$f":"IF(May!AC24=1,$C23,0)","v":0},{"$f":"IF(May!AD24=1,$C23,0)","v":0},{"$f":"IF(May!AE24=1,$C23,0)","v":0},{"$f":"IF(May!AF24=1,$C23,0)","v":0},{"$f":"IF(May!AG24=1,$C23,0)","v":0},{"$f":"IF(May!AH24=1,$C23,0)","v":0},0]
[{"$f":"May!A25","v":20},{"$f":"May!B25","v":"Recite Gyan na 5 Duha & 5 Khamasana"},{"$f":"May!C25","v":10},{"$f":"IF(May!D25=1,$C24,0)","v":0},{"$f":"IF(May!E25=1,$C24,0)","v":0},{"$f":"IF(May!F25=1,$C24,0)","v":0},{"$f":"IF(May!G25=1,$C24,0)","v":0},{"$f":"IF(May!H25=1,$C24,0)","v":0},{"$f":"IF(May!I25=1,$C24,0)","v":0},{"$f":"IF(May!J25=1,$C24,0)","v":0},{"$f":"IF(May!K25=1,$C24,0)","v":0},{"$f":"IF(May!L25=1,$C24,0)","v":0},{"$f":"IF(May!M25=1,$C24,0)","v":0},{"$f":"IF(May!N25=1,$C24,0)","v":0},{"$f":"IF(May!O25=1,$C24,0)","v":0},{"$f":"IF(May!P25=1,$C24,0)","v":0},{"$f":"IF(May!Q25=1,$C24,0)","v":0},{"$f":"IF(May!R25=1,$C24,0)","v":0},{"$f":"IF(May!S25=1,$C24,0)","v":0},{"$f":"IF(May!T25=1,$C24,0)","v":0},{"$f":"IF(May!U25=1,$C24,0)","v":0},{"$f":"IF(May!V25=1,$C24,0)","v":0},{"$f":"IF(May!W25=1,$C24,0)","v":0},{"$f":"IF(May!X25=1,$C24,0)","v":0},{"$f":"IF(May!Y25=1,$C24,0)","v":0},{"$f":"IF(May!Z25=1,$C24,0)","v":0},{"$f":"IF(May!AA25=1,$C24,0)","v":0},{"$f":"IF(May!AB25=1,$C24,0)","v":0},{"$f":"IF(May!AC25=1,$C24,0)","v":0},{"$f":"IF(May!AD25=1,$C24,0)","v":0},{"$f":"IF(May!AE25=1,$C24,0)","v":0},{"$f":"IF(May!AF25=1,$C24,0)","v":0},{"$f":"IF(May!AG25=1,$C24,0)","v":0},{"$f":"IF(May!AH25=1,$C24,0)","v":0},0]
[{"$f":"May!A26","v":21},{"$f":"May!B26","v":"No fruits and vegetables on Tithi days"},{"$f":"May!C26","v":15},{"$f":"IF(May!D26=1,$C25,0)","v":0},{"$f":"IF(May!E26=1,$C25,0)","v":0},{"$f":"IF(May!F26=1,$C25,0)","v":0},{"$f":"IF(May!G26=1,$C25,0)","v":0},{"$f":"IF(May!H26=1,$C25,0)","v":0},{"$f":"IF(May!I26=1,$C25,0)","v":0},{"$f":"IF(May!J26=1,$C25,0)","v":0},{"$f":"IF(May!K26=1,$C25,0)","v":0},{"$f":"IF(May!L26=1,$C25,0)","v":0},{"$f":"IF(May!M26=1,$C25,0)","v":0},{"$f":"IF(May!N26=1,$C25,0)","v":0},{"$f":"IF(May!O26=1,$C25,0)","v":0},{"$f":"IF(May!P26=1,$C25,0)","v":0},{"$f":"IF(May!Q26=1,$C25,0)","v":0},{"$f":"IF(May!R26=1,$C25,0)","v":0},{"$f":"IF(May!S26=1,$C25,0)","v":0},{"$f":"IF(May!T26=1,$C25,0)","v":0},{"$f":"IF(May!U26=1,$C25,0)","v":0},{"$f":"IF(May!V26=1,$C25,0)","v":0},{"$f":"IF(May!W26=1,$C25,0)","v":0},{"$f":"IF(May!X26=1,$C25,0)","v":0},{"$f":"IF(May!Y26=1,$C25,0)","v":0},{"$f":"IF(May!Z26=1,$C25,0)","v":0},{"$f":"IF(May!AA26=1,$C25,0)","v":0},{"$f":"IF(May!AB26=1,$C25,0)","v":0},{"$f":"IF(May!AC26=1,$C25,0)","v":0},{"$f":"IF(May!AD26=1,$C25,0)","v":0},{"$f":"IF(May!AE26=1,$C25,0)","v":0},{"$f":"IF(May!AF26=1,$C25,0)","v":0},{"$f":"IF(May!AG26=1,$C25,0)","v":0},{"$f":"IF(May!AH26=1,$C25,0)","v":0},0]
[{"$f":"May!A27","v":22},{"$f":"May!B27","v":"Sva Dravya Akshat, Naivedya and Fal Pooja $"},{"$f":"May!C27","v":15},{"$f":"IF(May!D27=1,$C26,0)","v":0},{"$f":"IF(May!E27=1,$C26,0)","v":0},{"$f":"IF(May!F27=1,$C26,0)","v":0},{"$f":"IF(May!G27=1,$C26,0)","v":0},{"$f":"IF(May!H27=1,$C26,0)","v":0},{"$f":"IF(May!I27=1,$C26,0)","v":0},{"$f":"IF(May!J27=1,$C26,0)","v":0},{"$f":"IF(May!K27=1,$C26,0)","v":0},{"$f":"IF(May!L27=1,$C26,0)","v":0},{"$f":"IF(May!M27=1,$C26,0)","v":0},{"$f":"IF(May!N27=1,$C26,0)","v":0},{"$f":"IF(May!O27=1,$C26,0)","v":0},{"$f":"IF(May!P27=1,$C26,0)","v":0},{"$f":"IF(May!Q27=1,$C26,0)","v":0},{"$f":"IF(May!R27=1,$C26,0)","v":0},{"$f":"IF(May!S27=1,$C26,0)","v":0},{"$f":"IF(May!T27=1,$C26,0)","v":0},{"$f":"IF(May!U27=1,$C26,0)","v":0},{"$f":"IF(May!V27=1,$C26,0)","v":0},{"$f":"IF(May!W27=1,$C26,0)","v":0},{"$f":"IF(May!X27=1,$C26,0)","v":0},{"$f":"IF(May!Y27=1,$C26,0)","v":0},{"$f":"IF(May!Z27=1,$C26,0)","v":0},{"$f":"IF(May!AA27=1,$C26,0)","v":0},{"$f":"IF(May!AB27=1,$C26,0)","v":0},{"$f":"IF(May!AC27=1,$C26,0)","v":0},{"$f":"IF(May!AD27=1,$C26,0)","v":0},{"$f":"IF(May!AE27=1,$C26,0)","v":0},{"$f":"IF(May!AF27=1,$C26,0)","v":0},{"$f":"IF(May!AG27=1,$C26,0)","v":0},{"$f":"IF(May!AH27=1,$C26,0)","v":0},0]
[{"$f":"May!A28","v":23},{"$f":"May!B28","v":"Use of bucket instead of shower"},{"$f":"May!C28","v":10},{"$f":"IF(May!D28=1,$C27,0)","v":0},{"$f":"IF(May!E28=1,$C27,0)","v":0},{"$f":"IF(May!F28=1,$C27,0)","v":0},{"$f":"IF(May!G28=1,$C27,0)","v":0},{"$f":"IF(May!H28=1,$C27,0)","v":0},{"$f":"IF(May!I28=1,$C27,0)","v":0},{"$f":"IF(May!J28=1,$C27,0)","v":0},{"$f":"IF(May!K28=1,$C27,0)","v":0},{"$f":"IF(May!L28=1,$C27,0)","v":0},{"$f":"IF(May!M28=1,$C27,0)","v":0},{"$f":"IF(May!N28=1,$C27,0)","v":0},{"$f":"IF(May!O28=1,$C27,0)","v":0},{"$f":"IF(May!P28=1,$C27,0)","v":0},{"$f":"IF(May!Q28=1,$C27,0)","v":0},{"$f":"IF(May!R28=1,$C27,0)","v":0},{"$f":"IF(May!S28=1,$C27,0)","v":0},{"$f":"IF(May!T28=1,$C27,0)","v":0},{"$f":"IF(May!U28=1,$C27,0)","v":0},{"$f":"IF(May!V28=1,$C27,0)","v":0},{"$f":"IF(May!W28=1,$C27,0)","v":0},{"$f":"IF(May!X28=1,$C27,0)","v":0},{"$f":"IF(May!Y28=1,$C27,0)","v":0},{"$f":"IF(May!Z28=1,$C27,0)","v":0},{"$f":"IF(May!AA28=1,$C27,0)","v":0},{"$f":"IF(May!AB28=1,$C27,0)","v":0},{"$f":"IF(May!AC28=1,$C27,0)","v":0},{"$f":"IF(May!AD28=1,$C27,0)","v":0},{"$f":"IF(May!AE28=1,$C27,0)","v":0},{"$f":"IF(May!AF28=1,$C27,0)","v":0},{"$f":"IF(May!AG28=1,$C27,0)","v":0},{"$f":"IF(May!AH28=1,$C27,0)","v":0},0]
[{"$f":"May!A29","v":24},{"$f":"May!B29","v":"Recite Navkar Mantra Mala"},{"$f":"May!C29","v":10},{"$f":"IF(May!D29=1,$C28,0)","v":0},{"$f":"IF(May!E29=1,$C28,0)","v":0},{"$f":"IF(May!F29=1,$C28,0)","v":0},{"$f":"IF(May!G29=1,$C28,0)","v":0},{"$f":"IF(May!H29=1,$C28,0)","v":0},{"$f":"IF(May!I29=1,$C28,0)","v":0},{"$f":"IF(May!J29=1,$C28,0)","v":0},{"$f":"IF(May!K29=1,$C28,0)","v":0},{"$f":"IF(May!L29=1,$C28,0)","v":0},{"$f":"IF(May!M29=1,$C28,0)","v":0},{"$f":"IF(May!N29=1,$C28,0)","v":0},{"$f":"IF(May!O29=1,$C28,0)","v":0},{"$f":"IF(May!P29=1,$C28,0)","v":0},{"$f":"IF(May!Q29=1,$C28,0)","v":0},{"$f":"IF(May!R29=1,$C28,0)","v":0},{"$f":"IF(May!S29=1,$C28,0)","v":0},{"$f":"IF(May!T29=1,$C28,0)","v":0},{"$f":"IF(May!U29=1,$C28,0)","v":0},{"$f":"IF(May!V29=1,$C28,0)","v":0},{"$f":"IF(May!W29=1,$C28,0)","v":0},{"$f":"IF(May!X29=1,$C28,0)","v":0},{"$f":"IF(May!Y29=1,$C28,0)","v":0},{"$f":"IF(May!Z29=1,$C28,0)","v":0},{"$f":"IF(May!AA29=1,$C28,0)","v":0},{"$f":"IF(May!AB29=1,$C28,0)","v":0},{"$f":"IF(May!AC29=1,$C28,0)","v":0},{"$f":"IF(May!AD29=1,$C28,0)","v":0},{"$f":"IF(May!AE29=1,$C28,0)","v":0},{"$f":"IF(May!AF29=1,$C28,0)","v":0},{"$f":"IF(May!AG29=1,$C28,0)","v":0},{"$f":"IF(May!AH29=1,$C28,0)","v":0},0]
[null,{"$f":"May!B30","v":"Total"},null,{"$f":"SUM(D5:D28)","v":0},{"$f":"SUM(E5:E28)","v":0},0,0,0,0,0,0,0,0,0,0,0,0,0,0,0,0,0,0,0,0,0,0,0,0,0,0,0,0,0,{"$f":"SUM(AI5:AI28)","v":0}]

{"sheet":"CalcJun","index":9,"n_rows":29,"n_cols":34,"rows_kept":29,"cut":false,"hidden":true,"merged":[]}
[]
[]
[]
["No","Niyam","Points",{"$f":"June!D4","v":"2020-06-01"},{"$f":"June!E4","v":"2020-06-02"},{"$f":"June!F4","v":"2020-06-03"},{"$f":"June!G4","v":"2020-06-04"},{"$f":"June!H4","v":"2020-06-05"},{"$f":"June!I4","v":"2020-06-06"},{"$f":"June!J4","v":"2020-06-07"},{"$f":"June!K4","v":"2020-06-08"},{"$f":"June!L4","v":"2020-06-09"},{"$f":"June!M4","v":"2020-06-10"},{"$f":"June!N4","v":"2020-06-11"},{"$f":"June!O4","v":"2020-06-12"},{"$f":"June!P4","v":"2020-06-13"},{"$f":"June!Q4","v":"2020-06-14"},{"$f":"June!R4","v":"2020-06-15"},{"$f":"June!S4","v":"2020-06-16"},{"$f":"June!T4","v":"2020-06-17"},{"$f":"June!U4","v":"2020-06-18"},{"$f":"June!V4","v":"2020-06-19"},{"$f":"June!W4","v":"2020-06-20"},{"$f":"June!X4","v":"2020-06-21"},{"$f":"June!Y4","v":"2020-06-22"},{"$f":"June!Z4","v":"2020-06-23"},{"$f":"June!AA4","v":"2020-06-24"},{"$f":"June!AB4","v":"2020-06-25"},{"$f":"June!AC4","v":"2020-06-26"},{"$f":"June!AD4","v":"2020-06-27"},{"$f":"June!AE4","v":"2020-06-28"},{"$f":"June!AF4","v":"2020-06-29"},{"$f":"June!AG4","v":"2020-06-30"},"Jun Total"]
[{"$f":"June!A6","v":1},{"$f":"June!B6","v":"Upvaas/Aayambil"},{"$f":"June!C6","v":70},{"$f":"IF(AND(June!D6=1,June!D7=1),0,IF(June!D6=1,$C5,0))","v":0},{"$f":"IF(AND(June!E6=1,June!E7=1),0,IF(June!E6=1,$C5,0))","v":0},{"$f":"IF(AND(June!F6=1,June!F7=1),0,IF(June!F6=1,$C5,0))","v":0},{"$f":"IF(AND(June!G6=1,June!G7=1),0,IF(June!G6=1,$C5,0))","v":0},{"$f":"IF(AND(June!H6=1,June!H7=1),0,IF(June!H6=1,$C5,0))","v":0},{"$f":"IF(AND(June!I6=1,June!I7=1),0,IF(June!I6=1,$C5,0))","v":0},{"$f":"IF(AND(June!J6=1,June!J7=1),0,IF(June!J6=1,$C5,0))","v":0},{"$f":"IF(AND(June!K6=1,June!K7=1),0,IF(June!K6=1,$C5,0))","v":0},{"$f":"IF(AND(June!L6=1,June!L7=1),0,IF(June!L6=1,$C5,0))","v":0},{"$f":"IF(AND(June!M6=1,June!M7=1),0,IF(June!M6=1,$C5,0))","v":0},{"$f":"IF(AND(June!N6=1,June!N7=1),0,IF(June!N6=1,$C5,0))","v":0},{"$f":"IF(AND(June!O6=1,June!O7=1),0,IF(June!O6=1,$C5,0))","v":0},{"$f":"IF(AND(June!P6=1,June!P7=1),0,IF(June!P6=1,$C5,0))","v":0},{"$f":"IF(AND(June!Q6=1,June!Q7=1),0,IF(June!Q6=1,$C5,0))","v":0},{"$f":"IF(AND(June!R6=1,June!R7=1),0,IF(June!R6=1,$C5,0))","v":0},{"$f":"IF(AND(June!S6=1,June!S7=1),0,IF(June!S6=1,$C5,0))","v":0},{"$f":"IF(AND(June!T6=1,June!T7=1),0,IF(June!T6=1,$C5,0))","v":0},{"$f":"IF(AND(June!U6=1,June!U7=1),0,IF(June!U6=1,$C5,0))","v":0},{"$f":"IF(AND(June!V6=1,June!V7=1),0,IF(June!V6=1,$C5,0))","v":0},{"$f":"IF(AND(June!W6=1,June!W7=1),0,IF(June!W6=1,$C5,0))","v":0},{"$f":"IF(AND(June!X6=1,June!X7=1),0,IF(June!X6=1,$C5,0))","v":0},{"$f":"IF(AND(June!Y6=1,June!Y7=1),0,IF(June!Y6=1,$C5,0))","v":0},{"$f":"IF(AND(June!Z6=1,June!Z7=1),0,IF(June!Z6=1,$C5,0))","v":0},{"$f":"IF(AND(June!AA6=1,June!AA7=1),0,IF(June!AA6=1,$C5,0))","v":0},{"$f":"IF(AND(June!AB6=1,June!AB7=1),0,IF(June!AB6=1,$C5,0))","v":0},{"$f":"IF(AND(June!AC6=1,June!AC7=1),0,IF(June!AC6=1,$C5,0))","v":0},{"$f":"IF(AND(June!AD6=1,June!AD7=1),0,IF(June!AD6=1,$C5,0))","v":0},{"$f":"IF(AND(June!AE6=1,June!AE7=1),0,IF(June!AE6=1,$C5,0))","v":0},{"$f":"IF(AND(June!AF6=1,June!AF7=1),0,IF(June!AF6=1,$C5,0))","v":0},{"$f":"IF(AND(June!AG6=1,June!AG7=1),0,IF(June!AG6=1,$C5,0))","v":0},{"$f":"SUM(D5:AG5)","v":0}]
[{"$f":"June!A7","v":2},{"$f":"June!B7","v":"Ekasanu/Biyasanu"},{"$f":"June!C7","v":60},{"$f":"IF(AND(June!D6=1,June!D7=1),0,IF(June!D7=1,$C6,0))","v":0},{"$f":"IF(AND(June!E6=1,June!E7=1),0,IF(June!E7=1,$C6,0))","v":0},{"$f":"IF(AND(June!F6=1,June!F7=1),0,IF(June!F7=1,$C6,0))","v":0},{"$f":"IF(AND(June!G6=1,June!G7=1),0,IF(June!G7=1,$C6,0))","v":0},{"$f":"IF(AND(June!H6=1,June!H7=1),0,IF(June!H7=1,$C6,0))","v":0},{"$f":"IF(AND(June!I6=1,June!I7=1),0,IF(June!I7=1,$C6,0))","v":0},{"$f":"IF(AND(June!J6=1,June!J7=1),0,IF(June!J7=1,$C6,0))","v":0},{"$f":"IF(AND(June!K6=1,June!K7=1),0,IF(June!K7=1,$C6,0))","v":0},{"$f":"IF(AND(June!L6=1,June!L7=1),0,IF(June!L7=1,$C6,0))","v":0},{"$f":"IF(AND(June!M6=1,June!M7=1),0,IF(June!M7=1,$C6,0))","v":0},{"$f":"IF(AND(June!N6=1,June!N7=1),0,IF(June!N7=1,$C6,0))","v":0},{"$f":"IF(AND(June!O6=1,June!O7=1),0,IF(June!O7=1,$C6,0))","v":0},{"$f":"IF(AND(June!P6=1,June!P7=1),0,IF(June!P7=1,$C6,0))","v":0},{"$f":"IF(AND(June!Q6=1,June!Q7=1),0,IF(June!Q7=1,$C6,0))","v":0},{"$f":"IF(AND(June!R6=1,June!R7=1),0,IF(June!R7=1,$C6,0))","v":0},{"$f":"IF(AND(June!S6=1,June!S7=1),0,IF(June!S7=1,$C6,0))","v":0},{"$f":"IF(AND(June!T6=1,June!T7=1),0,IF(June!T7=1,$C6,0))","v":0},{"$f":"IF(AND(June!U6=1,June!U7=1),0,IF(June!U7=1,$C6,0))","v":0},{"$f":"IF(AND(June!V6=1,June!V7=1),0,IF(June!V7=1,$C6,0))","v":0},{"$f":"IF(AND(June!W6=1,June!W7=1),0,IF(June!W7=1,$C6,0))","v":0},{"$f":"IF(AND(June!X6=1,June!X7=1),0,IF(June!X7=1,$C6,0))","v":0},{"$f":"IF(AND(June!Y6=1,June!Y7=1),0,IF(June!Y7=1,$C6,0))","v":0},{"$f":"IF(AND(June!Z6=1,June!Z7=1),0,IF(June!Z7=1,$C6,0))","v":0},{"$f":"IF(AND(June!AA6=1,June!AA7=1),0,IF(June!AA7=1,$C6,0))","v":0},{"$f":"IF(AND(June!AB6=1,June!AB7=1),0,IF(June!AB7=1,$C6,0))","v":0},{"$f":"IF(AND(June!AC6=1,June!AC7=1),0,IF(June!AC7=1,$C6,0))","v":0},{"$f":"IF(AND(June!AD6=1,June!AD7=1),0,IF(June!AD7=1,$C6,0))","v":0},{"$f":"IF(AND(June!AE6=1,June!AE7=1),0,IF(June!AE7=1,$C6,0))","v":0},{"$f":"IF(AND(June!AF6=1,June!AF7=1),0,IF(June!AF7=1,$C6,0))","v":0},{"$f":"IF(AND(June!AG6=1,June!AG7=1),0,IF(June!AG7=1,$C6,0))","v":0},{"$f":"SUM(D6:AG6)","v":0}]
[{"$f":"June!A8","v":3},{"$f":"June!B8","v":"Chandan Pooja on weekend"},{"$f":"June!C8","v":40},{"$f":"IF(WEEKDAY(D$4,2)>5,IF(June!D8=1,$C7,0),0)","v":0},{"$f":"IF(WEEKDAY(E$4,2)>5,IF(June!E8=1,$C7,0),0)","v":0},{"$f":"IF(WEEKDAY(F$4,2)>5,IF(June!F8=1,$C7,0),0)","v":0},{"$f":"IF(WEEKDAY(G$4,2)>5,IF(June!G8=1,$C7,0),0)","v":0},{"$f":"IF(WEEKDAY(H$4,2)>5,IF(June!H8=1,$C7,0),0)","v":0},{"$f":"IF(WEEKDAY(I$4,2)>5,IF(June!I8=1,$C7,0),0)","v":0},{"$f":"IF(WEEKDAY(J$4,2)>5,IF(June!J8=1,$C7,0),0)","v":0},{"$f":"IF(WEEKDAY(K$4,2)>5,IF(June!K8=1,$C7,0),0)","v":0},{"$f":"IF(WEEKDAY(L$4,2)>5,IF(June!L8=1,$C7,0),0)","v":0},{"$f":"IF(WEEKDAY(M$4,2)>5,IF(June!M8=1,$C7,0),0)","v":0},{"$f":"IF(WEEKDAY(N$4,2)>5,IF(June!N8=1,$C7,0),0)","v":0},{"$f":"IF(WEEKDAY(O$4,2)>5,IF(June!O8=1,$C7,0),0)","v":0},{"$f":"IF(WEEKDAY(P$4,2)>5,IF(June!P8=1,$C7,0),0)","v":0},{"$f":"IF(WEEKDAY(Q$4,2)>5,IF(June!Q8=1,$C7,0),0)","v":0},{"$f":"IF(WEEKDAY(R$4,2)>5,IF(June!R8=1,$C7,0),0)","v":0},{"$f":"IF(WEEKDAY(S$4,2)>5,IF(June!S8=1,$C7,0),0)","v":0},{"$f":"IF(WEEKDAY(T$4,2)>5,IF(June!T8=1,$C7,0),0)","v":0},{"$f":"IF(WEEKDAY(U$4,2)>5,IF(June!U8=1,$C7,0),0)","v":0},{"$f":"IF(WEEKDAY(V$4,2)>5,IF(June!V8=1,$C7,0),0)","v":0},{"$f":"IF(WEEKDAY(W$4,2)>5,IF(June!W8=1,$C7,0),0)","v":0},{"$f":"IF(WEEKDAY(X$4,2)>5,IF(June!X8=1,$C7,0),0)","v":0},{"$f":"IF(WEEKDAY(Y$4,2)>5,IF(June!Y8=1,$C7,0),0)","v":0},{"$f":"IF(WEEKDAY(Z$4,2)>5,IF(June!Z8=1,$C7,0),0)","v":0},{"$f":"IF(WEEKDAY(AA$4,2)>5,IF(June!AA8=1,$C7,0),0)","v":0},{"$f":"IF(WEEKDAY(AB$4,2)>5,IF(June!AB8=1,$C7,0),0)","v":0},{"$f":"IF(WEEKDAY(AC$4,2)>5,IF(June!AC8=1,$C7,0),0)","v":0},{"$f":"IF(WEEKDAY(AD$4,2)>5,IF(June!AD8=1,$C7,0),0)","v":0},{"$f":"IF(WEEKDAY(AE$4,2)>5,IF(June!AE8=1,$C7,0),0)","v":0},{"$f":"IF(WEEKDAY(AF$4,2)>5,IF(June!AF8=1,$C7,0),0)","v":0},{"$f":"IF(WEEKDAY(AG$4,2)>5,IF(June!AG8=1,$C7,0),0)","v":0},0]
[{"$f":"June!A9","v":4},{"$f":"June!B9","v":"Samayik/Pratikraman"},{"$f":"June!C9","v":50},{"$f":"IF(June!D9=1,$C8,0)","v":0},{"$f":"IF(June!E9=1,$C8,0)","v":0},{"$f":"IF(June!F9=1,$C8,0)","v":0},{"$f":"IF(June!G9=1,$C8,0)","v":0},{"$f":"IF(June!H9=1,$C8,0)","v":0},{"$f":"IF(June!I9=1,$C8,0)","v":0},{"$f":"IF(June!J9=1,$C8,0)","v":0},{"$f":"IF(June!K9=1,$C8,0)","v":0},{"$f":"IF(June!L9=1,$C8,0)","v":0},{"$f":"IF(June!M9=1,$C8,0)","v":0},{"$f":"IF(June!N9=1,$C8,0)","v":0},{"$f":"IF(June!O9=1,$C8,0)","v":0},{"$f":"IF(June!P9=1,$C8,0)","v":0},{"$f":"IF(June!Q9=1,$C8,0)","v":0},{"$f":"IF(June!R9=1,$C8,0)","v":0},{"$f":"IF(June!S9=1,$C8,0)","v":0},{"$f":"IF(June!T9=1,$C8,0)","v":0},{"$f":"IF(June!U9=1,$C8,0)","v":0},{"$f":"IF(June!V9=1,$C8,0)","v":0},{"$f":"IF(June!W9=1,$C8,0)","v":0},{"$f":"IF(June!X9=1,$C8,0)","v":0},{"$f":"IF(June!Y9=1,$C8,0)","v":0},{"$f":"IF(June!Z9=1,$C8,0)","v":0},{"$f":"IF(June!AA9=1,$C8,0)","v":0},{"$f":"IF(June!AB9=1,$C8,0)","v":0},{"$f":"IF(June!AC9=1,$C8,0)","v":0},{"$f":"IF(June!AD9=1,$C8,0)","v":0},{"$f":"IF(June!AE9=1,$C8,0)","v":0},{"$f":"IF(June!AF9=1,$C8,0)","v":0},{"$f":"IF(June!AG9=1,$C8,0)","v":0},0]
[{"$f":"June!A10","v":5},{"$f":"June!B10","v":"Learn Sutra/Stuti for 15 mins"},{"$f":"June!C10","v":30},{"$f":"IF(June!D10=1,$C9,0)","v":0},{"$f":"IF(June!E10=1,$C9,0)","v":0},{"$f":"IF(June!F10=1,$C9,0)","v":0},{"$f":"IF(June!G10=1,$C9,0)","v":0},{"$f":"IF(June!H10=1,$C9,0)","v":0},{"$f":"IF(June!I10=1,$C9,0)","v":0},{"$f":"IF(June!J10=1,$C9,0)","v":0},{"$f":"IF(June!K10=1,$C9,0)","v":0},{"$f":"IF(June!L10=1,$C9,0)","v":0},{"$f":"IF(June!M10=1,$C9,0)","v":0},{"$f":"IF(June!N10=1,$C9,0)","v":0},{"$f":"IF(June!O10=1,$C9,0)","v":0},{"$f":"IF(June!P10=1,$C9,0)","v":0},{"$f":"IF(June!Q10=1,$C9,0)","v":0},{"$f":"IF(June!R10=1,$C9,0)","v":0},{"$f":"IF(June!S10=1,$C9,0)","v":0},{"$f":"IF(June!T10=1,$C9,0)","v":0},{"$f":"IF(June!U10=1,$C9,0)","v":0},{"$f":"IF(June!V10=1,$C9,0)","v":0},{"$f":"IF(June!W10=1,$C9,0)","v":0},{"$f":"IF(June!X10=1,$C9,0)","v":0},{"$f":"IF(June!Y10=1,$C9,0)","v":0},{"$f":"IF(June!Z10=1,$C9,0)","v":0},{"$f":"IF(June!AA10=1,$C9,0)","v":0},{"$f":"IF(June!AB10=1,$C9,0)","v":0},{"$f":"IF(June!AC10=1,$C9,0)","v":0},{"$f":"IF(June!AD10=1,$C9,0)","v":0},{"$f":"IF(June!AE10=1,$C9,0)","v":0},{"$f":"IF(June!AF10=1,$C9,0)","v":0},{"$f":"IF(June!AG10=1,$C9,0)","v":0},0]
[{"$f":"June!A11","v":6},{"$f":"June!B11","v":"Chandan Pooja on Weekdays"},{"$f":"June!C11","v":25},{"$f":"IF(WEEKDAY(D$4,2)<=5,IF(June!D11=1,$C10,0),0)","v":0},{"$f":"IF(WEEKDAY(E$4,2)<=5,IF(June!E11=1,$C10,0),0)","v":0},{"$f":"IF(WEEKDAY(F$4,2)<=5,IF(June!F11=1,$C10,0),0)","v":0},{"$f":"IF(WEEKDAY(G$4,2)<=5,IF(June!G11=1,$C10,0),0)","v":0},{"$f":"IF(WEEKDAY(H$4,2)<=5,IF(June!H11=1,$C10,0),0)","v":0},{"$f":"IF(WEEKDAY(I$4,2)<=5,IF(June!I11=1,$C10,0),0)","v":0},{"$f":"IF(WEEKDAY(J$4,2)<=5,IF(June!J11=1,$C10,0),0)","v":0},{"$f":"IF(WEEKDAY(K$4,2)<=5,IF(June!K11=1,$C10,0),0)","v":0},{"$f":"IF(WEEKDAY(L$4,2)<=5,IF(June!L11=1,$C10,0),0)","v":0},{"$f":"IF(WEEKDAY(M$4,2)<=5,IF(June!M11=1,$C10,0),0)","v":0},{"$f":"IF(WEEKDAY(N$4,2)<=5,IF(June!N11=1,$C10,0),0)","v":0},{"$f":"IF(WEEKDAY(O$4,2)<=5,IF(June!O11=1,$C10,0),0)","v":0},{"$f":"IF(WEEKDAY(P$4,2)<=5,IF(June!P11=1,$C10,0),0)","v":0},{"$f":"IF(WEEKDAY(Q$4,2)<=5,IF(June!Q11=1,$C10,0),0)","v":0},{"$f":"IF(WEEKDAY(R$4,2)<=5,IF(June!R11=1,$C10,0),0)","v":0},{"$f":"IF(WEEKDAY(S$4,2)<=5,IF(June!S11=1,$C10,0),0)","v":0},{"$f":"IF(WEEKDAY(T$4,2)<=5,IF(June!T11=1,$C10,0),0)","v":0},{"$f":"IF(WEEKDAY(U$4,2)<=5,IF(June!U11=1,$C10,0),0)","v":0},{"$f":"IF(WEEKDAY(V$4,2)<=5,IF(June!V11=1,$C10,0),0)","v":0},{"$f":"IF(WEEKDAY(W$4,2)<=5,IF(June!W11=1,$C10,0),0)","v":0},{"$f":"IF(WEEKDAY(X$4,2)<=5,IF(June!X11=1,$C10,0),0)","v":0},{"$f":"IF(WEEKDAY(Y$4,2)<=5,IF(June!Y11=1,$C10,0),0)","v":0},{"$f":"IF(WEEKDAY(Z$4,2)<=5,IF(June!Z11=1,$C10,0),0)","v":0},{"$f":"IF(WEEKDAY(AA$4,2)<=5,IF(June!AA11=1,$C10,0),0)","v":0},{"$f":"IF(WEEKDAY(AB$4,2)<=5,IF(June!AB11=1,$C10,0),0)","v":0},{"$f":"IF(WEEKDAY(AC$4,2)<=5,IF(June!AC11=1,$C10,0),0)","v":0},{"$f":"IF(WEEKDAY(AD$4,2)<=5,IF(June!AD11=1,$C10,0),0)","v":0},{"$f":"IF(WEEKDAY(AE$4,2)<=5,IF(June!AE11=1,$C10,0),0)","v":0},{"$f":"IF(WEEKDAY(AF$4,2)<=5,IF(June!AF11=1,$C10,0),0)","v":0},{"$f":"IF(WEEKDAY(AG$4,2)<=5,IF(June!AG11=1,$C10,0),0)","v":0},0]
[{"$f":"June!A12","v":7},{"$f":"June!B12","v":"Vasakshep Pooja"},{"$f":"June!C12","v":10},{"$f":"IF(June!D12=1,$C11,0)","v":0},{"$f":"IF(June!E12=1,$C11,0)","v":0},{"$f":"IF(June!F12=1,$C11,0)","v":0},{"$f":"IF(June!G12=1,$C11,0)","v":0},{"$f":"IF(June!H12=1,$C11,0)","v":0},{"$f":"IF(June!I12=1,$C11,0)","v":0},{"$f":"IF(June!J12=1,$C11,0)","v":0},{"$f":"IF(June!K12=1,$C11,0)","v":0},{"$f":"IF(June!L12=1,$C11,0)","v":0},{"$f":"IF(June!M12=1,$C11,0)","v":0},{"$f":"IF(June!N12=1,$C11,0)","v":0},{"$f":"IF(June!O12=1,$C11,0)","v":0},{"$f":"IF(June!P12=1,$C11,0)","v":0},{"$f":"IF(June!Q12=1,$C11,0)","v":0},{"$f":"IF(June!R12=1,$C11,0)","v":0},{"$f":"IF(June!S12=1,$C11,0)","v":0},{"$f":"IF(June!T12=1,$C11,0)","v":0},{"$f":"IF(June!U12=1,$C11,0)","v":0},{"$f":"IF(June!V12=1,$C11,0)","v":0},{"$f":"IF(June!W12=1,$C11,0)","v":0},{"$f":"IF(June!X12=1,$C11,0)","v":0},{"$f":"IF(June!Y12=1,$C11,0)","v":0},{"$f":"IF(June!Z12=1,$C11,0)","v":0},{"$f":"IF(June!AA12=1,$C11,0)","v":0},{"$f":"IF(June!AB12=1,$C11,0)","v":0},{"$f":"IF(June!AC12=1,$C11,0)","v":0},{"$f":"IF(June!AD12=1,$C11,0)","v":0},{"$f":"IF(June!AE12=1,$C11,0)","v":0},{"$f":"IF(June!AF12=1,$C11,0)","v":0},{"$f":"IF(June!AG12=1,$C11,0)","v":0},0]
[{"$f":"June!A13","v":8},{"$f":"June!B13","v":"Aarti *"},{"$f":"June!C13","v":10},{"$f":"IF(June!D13=1,$C12,0)","v":0},{"$f":"IF(June!E13=1,$C12,0)","v":0},{"$f":"IF(June!F13=1,$C12,0)","v":0},{"$f":"IF(June!G13=1,$C12,0)","v":0},{"$f":"IF(June!H13=1,$C12,0)","v":0},{"$f":"IF(June!I13=1,$C12,0)","v":0},{"$f":"IF(June!J13=1,$C12,0)","v":0},{"$f":"IF(June!K13=1,$C12,0)","v":0},{"$f":"IF(June!L13=1,$C12,0)","v":0},{"$f":"IF(June!M13=1,$C12,0)","v":0},{"$f":"IF(June!N13=1,$C12,0)","v":0},{"$f":"IF(June!O13=1,$C12,0)","v":0},{"$f":"IF(June!P13=1,$C12,0)","v":0},{"$f":"IF(June!Q13=1,$C12,0)","v":0},{"$f":"IF(June!R13=1,$C12,0)","v":0},{"$f":"IF(June!S13=1,$C12,0)","v":0},{"$f":"IF(June!T13=1,$C12,0)","v":0},{"$f":"IF(June!U13=1,$C12,0)","v":0},{"$f":"IF(June!V13=1,$C12,0)","v":0},{"$f":"IF(June!W13=1,$C12,0)","v":0},{"$f":"IF(June!X13=1,$C12,0)","v":0},{"$f":"IF(June!Y13=1,$C12,0)","v":0},{"$f":"IF(June!Z13=1,$C12,0)","v":0},{"$f":"IF(June!AA13=1,$C12,0)","v":0},{"$f":"IF(June!AB13=1,$C12,0)","v":0},{"$f":"IF(June!AC13=1,$C12,0)","v":0},{"$f":"IF(June!AD13=1,$C12,0)","v":0},{"$f":"IF(June!AE13=1,$C12,0)","v":0},{"$f":"IF(June!AF13=1,$C12,0)","v":0},{"$f":"IF(June!AG13=1,$C12,0)","v":0},0]
[{"$f":"June!A14","v":9},{"$f":"June!B14","v":"Chauvihar/Tivihar ^"},{"$f":"June!C14","v":25},{"$f":"IF(OR(June!D6=1,June!D7=1),0,IF(June!D14=1,$C13,0))","v":0},{"$f":"IF(OR(June!E6=1,June!E7=1),0,IF(June!E14=1,$C13,0))","v":0},{"$f":"IF(OR(June!F6=1,June!F7=1),0,IF(June!F14=1,$C13,0))","v":0},{"$f":"IF(OR(June!G6=1,June!G7=1),0,IF(June!G14=1,$C13,0))","v":0},{"$f":"IF(OR(June!H6=1,June!H7=1),0,IF(June!H14=1,$C13,0))","v":0},{"$f":"IF(OR(June!I6=1,June!I7=1),0,IF(June!I14=1,$C13,0))","v":0},{"$f":"IF(OR(June!J6=1,June!J7=1),0,IF(June!J14=1,$C13,0))","v":0},{"$f":"IF(OR(June!K6=1,June!K7=1),0,IF(June!K14=1,$C13,0))","v":0},{"$f":"IF(OR(June!L6=1,June!L7=1),0,IF(June!L14=1,$C13,0))","v":0},{"$f":"IF(OR(June!M6=1,June!M7=1),0,IF(June!M14=1,$C13,0))","v":0},{"$f":"IF(OR(June!N6=1,June!N7=1),0,IF(June!N14=1,$C13,0))","v":0},{"$f":"IF(OR(June!O6=1,June!O7=1),0,IF(June!O14=1,$C13,0))","v":0},{"$f":"IF(OR(June!P6=1,June!P7=1),0,IF(June!P14=1,$C13,0))","v":0},{"$f":"IF(OR(June!Q6=1,June!Q7=1),0,IF(June!Q14=1,$C13,0))","v":0},{"$f":"IF(OR(June!R6=1,June!R7=1),0,IF(June!R14=1,$C13,0))","v":0},{"$f":"IF(OR(June!S6=1,June!S7=1),0,IF(June!S14=1,$C13,0))","v":0},{"$f":"IF(OR(June!T6=1,June!T7=1),0,IF(June!T14=1,$C13,0))","v":0},{"$f":"IF(OR(June!U6=1,June!U7=1),0,IF(June!U14=1,$C13,0))","v":0},{"$f":"IF(OR(June!V6=1,June!V7=1),0,IF(June!V14=1,$C13,0))","v":0},{"$f":"IF(OR(June!W6=1,June!W7=1),0,IF(June!W14=1,$C13,0))","v":0},{"$f":"IF(OR(June!X6=1,June!X7=1),0,IF(June!X14=1,$C13,0))","v":0},{"$f":"IF(OR(June!Y6=1,June!Y7=1),0,IF(June!Y14=1,$C13,0))","v":0},{"$f":"IF(OR(June!Z6=1,June!Z7=1),0,IF(June!Z14=1,$C13,0))","v":0},{"$f":"IF(OR(June!AA6=1,June!AA7=1),0,IF(June!AA14=1,$C13,0))","v":0},{"$f":"IF(OR(June!AB6=1,June!AB7=1),0,IF(June!AB14=1,$C13,0))","v":0},{"$f":"IF(OR(June!AC6=1,June!AC7=1),0,IF(June!AC14=1,$C13,0))","v":0},{"$f":"IF(OR(June!AD6=1,June!AD7=1),0,IF(June!AD14=1,$C13,0))","v":0},{"$f":"IF(OR(June!AE6=1,June!AE7=1),0,IF(June!AE14=1,$C13,0))","v":0},{"$f":"IF(OR(June!AF6=1,June!AF7=1),0,IF(June!AF14=1,$C13,0))","v":0},{"$f":"IF(OR(June!AG6=1,June!AG7=1),0,IF(June!AG14=1,$C13,0))","v":0},0]
[{"$f":"June!A15","v":10},{"$f":"June!B15","v":"Drink boiled water for a day ^"},{"$f":"June!C15","v":15},{"$f":"IF(OR(June!D6=1,June!D7=1),0,IF(June!D15=1,$C14,0))","v":0},{"$f":"IF(OR(June!E6=1,June!E7=1),0,IF(June!E15=1,$C14,0))","v":0},{"$f":"IF(OR(June!F6=1,June!F7=1),0,IF(June!F15=1,$C14,0))","v":0},{"$f":"IF(OR(June!G6=1,June!G7=1),0,IF(June!G15=1,$C14,0))","v":0},{"$f":"IF(OR(June!H6=1,June!H7=1),0,IF(June!H15=1,$C14,0))","v":0},{"$f":"IF(OR(June!I6=1,June!I7=1),0,IF(June!I15=1,$C14,0))","v":0},{"$f":"IF(OR(June!J6=1,June!J7=1),0,IF(June!J15=1,$C14,0))","v":0},{"$f":"IF(OR(June!K6=1,June!K7=1),0,IF(June!K15=1,$C14,0))","v":0},{"$f":"IF(OR(June!L6=1,June!L7=1),0,IF(June!L15=1,$C14,0))","v":0},{"$f":"IF(OR(June!M6=1,June!M7=1),0,IF(June!M15=1,$C14,0))","v":0},{"$f":"IF(OR(June!N6=1,June!N7=1),0,IF(June!N15=1,$C14,0))","v":0},{"$f":"IF(OR(June!O6=1,June!O7=1),0,IF(June!O15=1,$C14,0))","v":0},{"$f":"IF(OR(June!P6=1,June!P7=1),0,IF(June!P15=1,$C14,0))","v":0},{"$f":"IF(OR(June!Q6=1,June!Q7=1),0,IF(June!Q15=1,$C14,0))","v":0},{"$f":"IF(OR(June!R6=1,June!R7=1),0,IF(June!R15=1,$C14,0))","v":0},{"$f":"IF(OR(June!S6=1,June!S7=1),0,IF(June!S15=1,$C14,0))","v":0},{"$f":"IF(OR(June!T6=1,June!T7=1),0,IF(June!T15=1,$C14,0))","v":0},{"$f":"IF(OR(June!U6=1,June!U7=1),0,IF(June!U15=1,$C14,0))","v":0},{"$f":"IF(OR(June!V6=1,June!V7=1),0,IF(June!V15=1,$C14,0))","v":0},{"$f":"IF(OR(June!W6=1,June!W7=1),0,IF(June!W15=1,$C14,0))","v":0},{"$f":"IF(OR(June!X6=1,June!X7=1),0,IF(June!X15=1,$C14,0))","v":0},{"$f":"IF(OR(June!Y6=1,June!Y7=1),0,IF(June!Y15=1,$C14,0))","v":0},{"$f":"IF(OR(June!Z6=1,June!Z7=1),0,IF(June!Z15=1,$C14,0))","v":0},{"$f":"IF(OR(June!AA6=1,June!AA7=1),0,IF(June!AA15=1,$C14,0))","v":0},{"$f":"IF(OR(June!AB6=1,June!AB7=1),0,IF(June!AB15=1,$C14,0))","v":0},{"$f":"IF(OR(June!AC6=1,June!AC7=1),0,IF(June!AC15=1,$C14,0))","v":0},{"$f":"IF(OR(June!AD6=1,June!AD7=1),0,IF(June!AD15=1,$C14,0))","v":0},{"$f":"IF(OR(June!AE6=1,June!AE7=1),0,IF(June!AE15=1,$C14,0))","v":0},{"$f":"IF(OR(June!AF6=1,June!AF7=1),0,IF(June!AF15=1,$C14,0))","v":0},{"$f":"IF(OR(June!AG6=1,June!AG7=1),0,IF(June!AG15=1,$C14,0))","v":0},0]
[{"$f":"June!A16","v":11},{"$f":"June!B16","v":"Navkarshi ^"},{"$f":"June!C16","v":20},{"$f":"IF(OR(June!D6=1,June!D7=1),0,IF(June!D16=1,$C15,0))","v":0},{"$f":"IF(OR(June!E6=1,June!E7=1),0,IF(June!E16=1,$C15,0))","v":0},{"$f":"IF(OR(June!F6=1,June!F7=1),0,IF(June!F16=1,$C15,0))","v":0},{"$f":"IF(OR(June!G6=1,June!G7=1),0,IF(June!G16=1,$C15,0))","v":0},{"$f":"IF(OR(June!H6=1,June!H7=1),0,IF(June!H16=1,$C15,0))","v":0},{"$f":"IF(OR(June!I6=1,June!I7=1),0,IF(June!I16=1,$C15,0))","v":0},{"$f":"IF(OR(June!J6=1,June!J7=1),0,IF(June!J16=1,$C15,0))","v":0},{"$f":"IF(OR(June!K6=1,June!K7=1),0,IF(June!K16=1,$C15,0))","v":0},{"$f":"IF(OR(June!L6=1,June!L7=1),0,IF(June!L16=1,$C15,0))","v":0},{"$f":"IF(OR(June!M6=1,June!M7=1),0,IF(June!M16=1,$C15,0))","v":0},{"$f":"IF(OR(June!N6=1,June!N7=1),0,IF(June!N16=1,$C15,0))","v":0},{"$f":"IF(OR(June!O6=1,June!O7=1),0,IF(June!O16=1,$C15,0))","v":0},{"$f":"IF(OR(June!P6=1,June!P7=1),0,IF(June!P16=1,$C15,0))","v":0},{"$f":"IF(OR(June!Q6=1,June!Q7=1),0,IF(June!Q16=1,$C15,0))","v":0},{"$f":"IF(OR(June!R6=1,June!R7=1),0,IF(June!R16=1,$C15,0))","v":0},{"$f":"IF(OR(June!S6=1,June!S7=1),0,IF(June!S16=1,$C15,0))","v":0},{"$f":"IF(OR(June!T6=1,June!T7=1),0,IF(June!T16=1,$C15,0))","v":0},{"$f":"IF(OR(June!U6=1,June!U7=1),0,IF(June!U16=1,$C15,0))","v":0},{"$f":"IF(OR(June!V6=1,June!V7=1),0,IF(June!V16=1,$C15,0))","v":0},{"$f":"IF(OR(June!W6=1,June!W7=1),0,IF(June!W16=1,$C15,0))","v":0},{"$f":"IF(OR(June!X6=1,June!X7=1),0,IF(June!X16=1,$C15,0))","v":0},{"$f":"IF(OR(June!Y6=1,June!Y7=1),0,IF(June!Y16=1,$C15,0))","v":0},{"$f":"IF(OR(June!Z6=1,June!Z7=1),0,IF(June!Z16=1,$C15,0))","v":0},{"$f":"IF(OR(June!AA6=1,June!AA7=1),0,IF(June!AA16=1,$C15,0))","v":0},{"$f":"IF(OR(June!AB6=1,June!AB7=1),0,IF(June!AB16=1,$C15,0))","v":0},{"$f":"IF(OR(June!AC6=1,June!AC7=1),0,IF(June!AC16=1,$C15,0))","v":0},{"$f":"IF(OR(June!AD6=1,June!AD7=1),0,IF(June!AD16=1,$C15,0))","v":0},{"$f":"IF(OR(June!AE6=1,June!AE7=1),0,IF(June!AE16=1,$C15,0))","v":0},{"$f":"IF(OR(June!AF6=1,June!AF7=1),0,IF(June!AF16=1,$C15,0))","v":0},{"$f":"IF(OR(June!AG6=1,June!AG7=1),0,IF(June!AG16=1,$C15,0))","v":0},0]
[{"$f":"June!A17","v":12},{"$f":"June!B17","v":"Vadilo Ne Page Lagvu"},{"$f":"June!C17","v":10},{"$f":"IF(June!D17=1,$C16,0)","v":0},{"$f":"IF(June!E17=1,$C16,0)","v":0},{"$f":"IF(June!F17=1,$C16,0)","v":0},{"$f":"IF(June!G17=1,$C16,0)","v":0},{"$f":"IF(June!H17=1,$C16,0)","v":0},{"$f":"IF(June!I17=1,$C16,0)","v":0},{"$f":"IF(June!J17=1,$C16,0)","v":0},{"$f":"IF(June!K17=1,$C16,0)","v":0},{"$f":"IF(June!L17=1,$C16,0)","v":0},{"$f":"IF(June!M17=1,$C16,0)","v":0},{"$f":"IF(June!N17=1,$C16,0)","v":0},{"$f":"IF(June!O17=1,$C16,0)","v":0},{"$f":"IF(June!P17=1,$C16,0)","v":0},{"$f":"IF(June!Q17=1,$C16,0)","v":0},{"$f":"IF(June!R17=1,$C16,0)","v":0},{"$f":"IF(June!S17=1,$C16,0)","v":0},{"$f":"IF(June!T17=1,$C16,0)","v":0},{"$f":"IF(June!U17=1,$C16,0)","v":0},{"$f":"IF(June!V17=1,$C16,0)","v":0},{"$f":"IF(June!W17=1,$C16,0)","v":0},{"$f":"IF(June!X17=1,$C16,0)","v":0},{"$f":"IF(June!Y17=1,$C16,0)","v":0},{"$f":"IF(June!Z17=1,$C16,0)","v":0},{"$f":"IF(June!AA17=1,$C16,0)","v":0},{"$f":"IF(June!AB17=1,$C16,0)","v":0},{"$f":"IF(June!AC17=1,$C16,0)","v":0},{"$f":"IF(June!AD17=1,$C16,0)","v":0},{"$f":"IF(June!AE17=1,$C16,0)","v":0},{"$f":"IF(June!AF17=1,$C16,0)","v":0},{"$f":"IF(June!AG17=1,$C16,0)","v":0},0]
[{"$f":"June!A18","v":13},{"$f":"June!B18","v":"No use of mobile, TV #"},{"$f":"June!C18","v":10},{"$f":"IF(June!D18=1,$C17,0)","v":0},{"$f":"IF(June!E18=1,$C17,0)","v":0},{"$f":"IF(June!F18=1,$C17,0)","v":0},{"$f":"IF(June!G18=1,$C17,0)","v":0},{"$f":"IF(June!H18=1,$C17,0)","v":0},{"$f":"IF(June!I18=1,$C17,0)","v":0},{"$f":"IF(June!J18=1,$C17,0)","v":0},{"$f":"IF(June!K18=1,$C17,0)","v":0},{"$f":"IF(June!L18=1,$C17,0)","v":0},{"$f":"IF(June!M18=1,$C17,0)","v":0},{"$f":"IF(June!N18=1,$C17,0)","v":0},{"$f":"IF(June!O18=1,$C17,0)","v":0},{"$f":"IF(June!P18=1,$C17,0)","v":0},{"$f":"IF(June!Q18=1,$C17,0)","v":0},{"$f":"IF(June!R18=1,$C17,0)","v":0},{"$f":"IF(June!S18=1,$C17,0)","v":0},{"$f":"IF(June!T18=1,$C17,0)","v":0},{"$f":"IF(June!U18=1,$C17,0)","v":0},{"$f":"IF(June!V18=1,$C17,0)","v":0},{"$f":"IF(June!W18=1,$C17,0)","v":0},{"$f":"IF(June!X18=1,$C17,0)","v":0},{"$f":"IF(June!Y18=1,$C17,0)","v":0},{"$f":"IF(June!Z18=1,$C17,0)","v":0},{"$f":"IF(June!AA18=1,$C17,0)","v":0},{"$f":"IF(June!AB18=1,$C17,0)","v":0},{"$f":"IF(June!AC18=1,$C17,0)","v":0},{"$f":"IF(June!AD18=1,$C17,0)","v":0},{"$f":"IF(June!AE18=1,$C17,0)","v":0},{"$f":"IF(June!AF18=1,$C17,0)","v":0},{"$f":"IF(June!AG18=1,$C17,0)","v":0},0]
[{"$f":"June!A19","v":14},{"$f":"June!B19","v":"Uthata 8 Navkar and Suta 7 Navkar"},{"$f":"June!C19","v":10},{"$f":"IF(June!D19=1,$C18,0)","v":0},{"$f":"IF(June!E19=1,$C18,0)","v":0},{"$f":"IF(June!F19=1,$C18,0)","v":0},{"$f":"IF(June!G19=1,$C18,0)","v":0},{"$f":"IF(June!H19=1,$C18,0)","v":0},{"$f":"IF(June!I19=1,$C18,0)","v":0},{"$f":"IF(June!J19=1,$C18,0)","v":0},{"$f":"IF(June!K19=1,$C18,0)","v":0},{"$f":"IF(June!L19=1,$C18,0)","v":0},{"$f":"IF(June!M19=1,$C18,0)","v":0},{"$f":"IF(June!N19=1,$C18,0)","v":0},{"$f":"IF(June!O19=1,$C18,0)","v":0},{"$f":"IF(June!P19=1,$C18,0)","v":0},{"$f":"IF(June!Q19=1,$C18,0)","v":0},{"$f":"IF(June!R19=1,$C18,0)","v":0},{"$f":"IF(June!S19=1,$C18,0)","v":0},{"$f":"IF(June!T19=1,$C18,0)","v":0},{"$f":"IF(June!U19=1,$C18,0)","v":0},{"$f":"IF(June!V19=1,$C18,0)","v":0},{"$f":"IF(June!W19=1,$C18,0)","v":0},{"$f":"IF(June!X19=1,$C18,0)","v":0},{"$f":"IF(June!Y19=1,$C18,0)","v":0},{"$f":"IF(June!Z19=1,$C18,0)","v":0},{"$f":"IF(June!AA19=1,$C18,0)","v":0},{"$f":"IF(June!AB19=1,$C18,0)","v":0},{"$f":"IF(June!AC19=1,$C18,0)","v":0},{"$f":"IF(June!AD19=1,$C18,0)","v":0},{"$f":"IF(June!AE19=1,$C18,0)","v":0},{"$f":"IF(June!AF19=1,$C18,0)","v":0},{"$f":"IF(June!AG19=1,$C18,0)","v":0},0]
[{"$f":"June!A20","v":15},{"$f":"June!B20","v":"No chocolate, ice cream"},{"$f":"June!C20","v":10},{"$f":"IF(June!D20=1,$C19,0)","v":0},{"$f":"IF(June!E20=1,$C19,0)","v":0},{"$f":"IF(June!F20=1,$C19,0)","v":0},{"$f":"IF(June!G20=1,$C19,0)","v":0},{"$f":"IF(June!H20=1,$C19,0)","v":0},{"$f":"IF(June!I20=1,$C19,0)","v":0},{"$f":"IF(June!J20=1,$C19,0)","v":0},{"$f":"IF(June!K20=1,$C19,0)","v":0},{"$f":"IF(June!L20=1,$C19,0)","v":0},{"$f":"IF(June!M20=1,$C19,0)","v":0},{"$f":"IF(June!N20=1,$C19,0)","v":0},{"$f":"IF(June!O20=1,$C19,0)","v":0},{"$f":"IF(June!P20=1,$C19,0)","v":0},{"$f":"IF(June!Q20=1,$C19,0)","v":0},{"$f":"IF(June!R20=1,$C19,0)","v":0},{"$f":"IF(June!S20=1,$C19,0)","v":0},{"$f":"IF(June!T20=1,$C19,0)","v":0},{"$f":"IF(June!U20=1,$C19,0)","v":0},{"$f":"IF(June!V20=1,$C19,0)","v":0},{"$f":"IF(June!W20=1,$C19,0)","v":0},{"$f":"IF(June!X20=1,$C19,0)","v":0},{"$f":"IF(June!Y20=1,$C19,0)","v":0},{"$f":"IF(June!Z20=1,$C19,0)","v":0},{"$f":"IF(June!AA20=1,$C19,0)","v":0},{"$f":"IF(June!AB20=1,$C19,0)","v":0},{"$f":"IF(June!AC20=1,$C19,0)","v":0},{"$f":"IF(June!AD20=1,$C19,0)","v":0},{"$f":"IF(June!AE20=1,$C19,0)","v":0},{"$f":"IF(June!AF20=1,$C19,0)","v":0},{"$f":"IF(June!AG20=1,$C19,0)","v":0},0]
[{"$f":"June!A21","v":16},{"$f":"June!B21","v":"Thali Dhoine Pivi"},{"$f":"June!C21","v":20},{"$f":"IF(June!D21=1,$C20,0)","v":0},{"$f":"IF(June!E21=1,$C20,0)","v":0},{"$f":"IF(June!F21=1,$C20,0)","v":0},{"$f":"IF(June!G21=1,$C20,0)","v":0},{"$f":"IF(June!H21=1,$C20,0)","v":0},{"$f":"IF(June!I21=1,$C20,0)","v":0},{"$f":"IF(June!J21=1,$C20,0)","v":0},{"$f":"IF(June!K21=1,$C20,0)","v":0},{"$f":"IF(June!L21=1,$C20,0)","v":0},{"$f":"IF(June!M21=1,$C20,0)","v":0},{"$f":"IF(June!N21=1,$C20,0)","v":0},{"$f":"IF(June!O21=1,$C20,0)","v":0},{"$f":"IF(June!P21=1,$C20,0)","v":0},{"$f":"IF(June!Q21=1,$C20,0)","v":0},{"$f":"IF(June!R21=1,$C20,0)","v":0},{"$f":"IF(June!S21=1,$C20,0)","v":0},{"$f":"IF(June!T21=1,$C20,0)","v":0},{"$f":"IF(June!U21=1,$C20,0)","v":0},{"$f":"IF(June!V21=1,$C20,0)","v":0},{"$f":"IF(June!W21=1,$C20,0)","v":0},{"$f":"IF(June!X21=1,$C20,0)","v":0},{"$f":"IF(June!Y21=1,$C20,0)","v":0},{"$f":"IF(June!Z21=1,$C20,0)","v":0},{"$f":"IF(June!AA21=1,$C20,0)","v":0},{"$f":"IF(June!AB21=1,$C20,0)","v":0},{"$f":"IF(June!AC21=1,$C20,0)","v":0},{"$f":"IF(June!AD21=1,$C20,0)","v":0},{"$f":"IF(June!AE21=1,$C20,0)","v":0},{"$f":"IF(June!AF21=1,$C20,0)","v":0},{"$f":"IF(June!AG21=1,$C20,0)","v":0},0]
[{"$f":"June!A22","v":17},{"$f":"June!B22","v":"No Bread & No Butter"},{"$f":"June!C22","v":20},{"$f":"IF(June!D22=1,$C21,0)","v":0},{"$f":"IF(June!E22=1,$C21,0)","v":0},{"$f":"IF(June!F22=1,$C21,0)","v":0},{"$f":"IF(June!G22=1,$C21,0)","v":0},{"$f":"IF(June!H22=1,$C21,0)","v":0},{"$f":"IF(June!I22=1,$C21,0)","v":0},{"$f":"IF(June!J22=1,$C21,0)","v":0},{"$f":"IF(June!K22=1,$C21,0)","v":0},{"$f":"IF(June!L22=1,$C21,0)","v":0},{"$f":"IF(June!M22=1,$C21,0)","v":0},{"$f":"IF(June!N22=1,$C21,0)","v":0},{"$f":"IF(June!O22=1,$C21,0)","v":0},{"$f":"IF(June!P22=1,$C21,0)","v":0},{"$f":"IF(June!Q22=1,$C21,0)","v":0},{"$f":"IF(June!R22=1,$C21,0)","v":0},{"$f":"IF(June!S22=1,$C21,0)","v":0},{"$f":"IF(June!T22=1,$C21,0)","v":0},{"$f":"IF(June!U22=1,$C21,0)","v":0},{"$f":"IF(June!V22=1,$C21,0)","v":0},{"$f":"IF(June!W22=1,$C21,0)","v":0},{"$f":"IF(June!X22=1,$C21,0)","v":0},{"$f":"IF(June!Y22=1,$C21,0)","v":0},{"$f":"IF(June!Z22=1,$C21,0)","v":0},{"$f":"IF(June!AA22=1,$C21,0)","v":0},{"$f":"IF(June!AB22=1,$C21,0)","v":0},{"$f":"IF(June!AC22=1,$C21,0)","v":0},{"$f":"IF(June!AD22=1,$C21,0)","v":0},{"$f":"IF(June!AE22=1,$C21,0)","v":0},{"$f":"IF(June!AF22=1,$C21,0)","v":0},{"$f":"IF(June!AG22=1,$C21,0)","v":0},0]
[{"$f":"June!A23","v":18},{"$f":"June!B23","v":"No Root Vegetables"},{"$f":"June!C23","v":10},{"$f":"IF(June!D23=1,$C22,0)","v":0},{"$f":"IF(June!E23=1,$C22,0)","v":0},{"$f":"IF(June!F23=1,$C22,0)","v":0},{"$f":"IF(June!G23=1,$C22,0)","v":0},{"$f":"IF(June!H23=1,$C22,0)","v":0},{"$f":"IF(June!I23=1,$C22,0)","v":0},{"$f":"IF(June!J23=1,$C22,0)","v":0},{"$f":"IF(June!K23=1,$C22,0)","v":0},{"$f":"IF(June!L23=1,$C22,0)","v":0},{"$f":"IF(June!M23=1,$C22,0)","v":0},{"$f":"IF(June!N23=1,$C22,0)","v":0},{"$f":"IF(June!O23=1,$C22,0)","v":0},{"$f":"IF(June!P23=1,$C22,0)","v":0},{"$f":"IF(June!Q23=1,$C22,0)","v":0},{"$f":"IF(June!R23=1,$C22,0)","v":0},{"$f":"IF(June!S23=1,$C22,0)","v":0},{"$f":"IF(June!T23=1,$C22,0)","v":0},{"$f":"IF(June!U23=1,$C22,0)","v":0},{"$f":"IF(June!V23=1,$C22,0)","v":0},{"$f":"IF(June!W23=1,$C22,0)","v":0},{"$f":"IF(June!X23=1,$C22,0)","v":0},{"$f":"IF(June!Y23=1,$C22,0)","v":0},{"$f":"IF(June!Z23=1,$C22,0)","v":0},{"$f":"IF(June!AA23=1,$C22,0)","v":0},{"$f":"IF(June!AB23=1,$C22,0)","v":0},{"$f":"IF(June!AC23=1,$C22,0)","v":0},{"$f":"IF(June!AD23=1,$C22,0)","v":0},{"$f":"IF(June!AE23=1,$C22,0)","v":0},{"$f":"IF(June!AF23=1,$C22,0)","v":0},{"$f":"IF(June!AG23=1,$C22,0)","v":0},0]
[{"$f":"June!A24","v":19},{"$f":"June!B24","v":"Read/Listen Jain Bodh Katha"},{"$f":"June!C24","v":10},{"$f":"IF(June!D24=1,$C23,0)","v":0},{"$f":"IF(June!E24=1,$C23,0)","v":0},{"$f":"IF(June!F24=1,$C23,0)","v":0},{"$f":"IF(June!G24=1,$C23,0)","v":0},{"$f":"IF(June!H24=1,$C23,0)","v":0},{"$f":"IF(June!I24=1,$C23,0)","v":0},{"$f":"IF(June!J24=1,$C23,0)","v":0},{"$f":"IF(June!K24=1,$C23,0)","v":0},{"$f":"IF(June!L24=1,$C23,0)","v":0},{"$f":"IF(June!M24=1,$C23,0)","v":0},{"$f":"IF(June!N24=1,$C23,0)","v":0},{"$f":"IF(June!O24=1,$C23,0)","v":0},{"$f":"IF(June!P24=1,$C23,0)","v":0},{"$f":"IF(June!Q24=1,$C23,0)","v":0},{"$f":"IF(June!R24=1,$C23,0)","v":0},{"$f":"IF(June!S24=1,$C23,0)","v":0},{"$f":"IF(June!T24=1,$C23,0)","v":0},{"$f":"IF(June!U24=1,$C23,0)","v":0},{"$f":"IF(June!V24=1,$C23,0)","v":0},{"$f":"IF(June!W24=1,$C23,0)","v":0},{"$f":"IF(June!X24=1,$C23,0)","v":0},{"$f":"IF(June!Y24=1,$C23,0)","v":0},{"$f":"IF(June!Z24=1,$C23,0)","v":0},{"$f":"IF(June!AA24=1,$C23,0)","v":0},{"$f":"IF(June!AB24=1,$C23,0)","v":0},{"$f":"IF(June!AC24=1,$C23,0)","v":0},{"$f":"IF(June!AD24=1,$C23,0)","v":0},{"$f":"IF(June!AE24=1,$C23,0)","v":0},{"$f":"IF(June!AF24=1,$C23,0)","v":0},{"$f":"IF(June!AG24=1,$C23,0)","v":0},0]
[{"$f":"June!A25","v":20},{"$f":"June!B25","v":"Recite Gyan na 5 Duha & 5 Khamasana"},{"$f":"June!C25","v":10},{"$f":"IF(June!D25=1,$C24,0)","v":0},{"$f":"IF(June!E25=1,$C24,0)","v":0},{"$f":"IF(June!F25=1,$C24,0)","v":0},{"$f":"IF(June!G25=1,$C24,0)","v":0},{"$f":"IF(June!H25=1,$C24,0)","v":0},{"$f":"IF(June!I25=1,$C24,0)","v":0},{"$f":"IF(June!J25=1,$C24,0)","v":0},{"$f":"IF(June!K25=1,$C24,0)","v":0},{"$f":"IF(June!L25=1,$C24,0)","v":0},{"$f":"IF(June!M25=1,$C24,0)","v":0},{"$f":"IF(June!N25=1,$C24,0)","v":0},{"$f":"IF(June!O25=1,$C24,0)","v":0},{"$f":"IF(June!P25=1,$C24,0)","v":0},{"$f":"IF(June!Q25=1,$C24,0)","v":0},{"$f":"IF(June!R25=1,$C24,0)","v":0},{"$f":"IF(June!S25=1,$C24,0)","v":0},{"$f":"IF(June!T25=1,$C24,0)","v":0},{"$f":"IF(June!U25=1,$C24,0)","v":0},{"$f":"IF(June!V25=1,$C24,0)","v":0},{"$f":"IF(June!W25=1,$C24,0)","v":0},{"$f":"IF(June!X25=1,$C24,0)","v":0},{"$f":"IF(June!Y25=1,$C24,0)","v":0},{"$f":"IF(June!Z25=1,$C24,0)","v":0},{"$f":"IF(June!AA25=1,$C24,0)","v":0},{"$f":"IF(June!AB25=1,$C24,0)","v":0},{"$f":"IF(June!AC25=1,$C24,0)","v":0},{"$f":"IF(June!AD25=1,$C24,0)","v":0},{"$f":"IF(June!AE25=1,$C24,0)","v":0},{"$f":"IF(June!AF25=1,$C24,0)","v":0},{"$f":"IF(June!AG25=1,$C24,0)","v":0},0]
[{"$f":"June!A26","v":21},{"$f":"June!B26","v":"No fruits and vegetables on Tithi days"},{"$f":"June!C26","v":15},{"$f":"IF(June!D26=1,$C25,0)","v":0},{"$f":"IF(June!E26=1,$C25,0)","v":0},{"$f":"IF(June!F26=1,$C25,0)","v":0},{"$f":"IF(June!G26=1,$C25,0)","v":0},{"$f":"IF(June!H26=1,$C25,0)","v":0},{"$f":"IF(June!I26=1,$C25,0)","v":0},{"$f":"IF(June!J26=1,$C25,0)","v":0},{"$f":"IF(June!K26=1,$C25,0)","v":0},{"$f":"IF(June!L26=1,$C25,0)","v":0},{"$f":"IF(June!M26=1,$C25,0)","v":0},{"$f":"IF(June!N26=1,$C25,0)","v":0},{"$f":"IF(June!O26=1,$C25,0)","v":0},{"$f":"IF(June!P26=1,$C25,0)","v":0},{"$f":"IF(June!Q26=1,$C25,0)","v":0},{"$f":"IF(June!R26=1,$C25,0)","v":0},{"$f":"IF(June!S26=1,$C25,0)","v":0},{"$f":"IF(June!T26=1,$C25,0)","v":0},{"$f":"IF(June!U26=1,$C25,0)","v":0},{"$f":"IF(June!V26=1,$C25,0)","v":0},{"$f":"IF(June!W26=1,$C25,0)","v":0},{"$f":"IF(June!X26=1,$C25,0)","v":0},{"$f":"IF(June!Y26=1,$C25,0)","v":0},{"$f":"IF(June!Z26=1,$C25,0)","v":0},{"$f":"IF(June!AA26=1,$C25,0)","v":0},{"$f":"IF(June!AB26=1,$C25,0)","v":0},{"$f":"IF(June!AC26=1,$C25,0)","v":0},{"$f":"IF(June!AD26=1,$C25,0)","v":0},{"$f":"IF(June!AE26=1,$C25,0)","v":0},{"$f":"IF(June!AF26=1,$C25,0)","v":0},{"$f":"IF(June!AG26=1,$C25,0)","v":0},0]
[{"$f":"June!A27","v":22},{"$f":"June!B27","v":"Sva Dravya Akshat, Naivedya and Fal Pooja $"},{"$f":"June!C27","v":15},{"$f":"IF(June!D27=1,$C26,0)","v":0},{"$f":"IF(June!E27=1,$C26,0)","v":0},{"$f":"IF(June!F27=1,$C26,0)","v":0},{"$f":"IF(June!G27=1,$C26,0)","v":0},{"$f":"IF(June!H27=1,$C26,0)","v":0},{"$f":"IF(June!I27=1,$C26,0)","v":0},{"$f":"IF(June!J27=1,$C26,0)","v":0},{"$f":"IF(June!K27=1,$C26,0)","v":0},{"$f":"IF(June!L27=1,$C26,0)","v":0},{"$f":"IF(June!M27=1,$C26,0)","v":0},{"$f":"IF(June!N27=1,$C26,0)","v":0},{"$f":"IF(June!O27=1,$C26,0)","v":0},{"$f":"IF(June!P27=1,$C26,0)","v":0},{"$f":"IF(June!Q27=1,$C26,0)","v":0},{"$f":"IF(June!R27=1,$C26,0)","v":0},{"$f":"IF(June!S27=1,$C26,0)","v":0},{"$f":"IF(June!T27=1,$C26,0)","v":0},{"$f":"IF(June!U27=1,$C26,0)","v":0},{"$f":"IF(June!V27=1,$C26,0)","v":0},{"$f":"IF(June!W27=1,$C26,0)","v":0},{"$f":"IF(June!X27=1,$C26,0)","v":0},{"$f":"IF(June!Y27=1,$C26,0)","v":0},{"$f":"IF(June!Z27=1,$C26,0)","v":0},{"$f":"IF(June!AA27=1,$C26,0)","v":0},{"$f":"IF(June!AB27=1,$C26,0)","v":0},{"$f":"IF(June!AC27=1,$C26,0)","v":0},{"$f":"IF(June!AD27=1,$C26,0)","v":0},{"$f":"IF(June!AE27=1,$C26,0)","v":0},{"$f":"IF(June!AF27=1,$C26,0)","v":0},{"$f":"IF(June!AG27=1,$C26,0)","v":0},0]
[{"$f":"June!A28","v":23},{"$f":"June!B28","v":"Use of bucket instead of shower"},{"$f":"June!C28","v":10},{"$f":"IF(June!D28=1,$C27,0)","v":0},{"$f":"IF(June!E28=1,$C27,0)","v":0},{"$f":"IF(June!F28=1,$C27,0)","v":0},{"$f":"IF(June!G28=1,$C27,0)","v":0},{"$f":"IF(June!H28=1,$C27,0)","v":0},{"$f":"IF(June!I28=1,$C27,0)","v":0},{"$f":"IF(June!J28=1,$C27,0)","v":0},{"$f":"IF(June!K28=1,$C27,0)","v":0},{"$f":"IF(June!L28=1,$C27,0)","v":0},{"$f":"IF(June!M28=1,$C27,0)","v":0},{"$f":"IF(June!N28=1,$C27,0)","v":0},{"$f":"IF(June!O28=1,$C27,0)","v":0},{"$f":"IF(June!P28=1,$C27,0)","v":0},{"$f":"IF(June!Q28=1,$C27,0)","v":0},{"$f":"IF(June!R28=1,$C27,0)","v":0},{"$f":"IF(June!S28=1,$C27,0)","v":0},{"$f":"IF(June!T28=1,$C27,0)","v":0},{"$f":"IF(June!U28=1,$C27,0)","v":0},{"$f":"IF(June!V28=1,$C27,0)","v":0},{"$f":"IF(June!W28=1,$C27,0)","v":0},{"$f":"IF(June!X28=1,$C27,0)","v":0},{"$f":"IF(June!Y28=1,$C27,0)","v":0},{"$f":"IF(June!Z28=1,$C27,0)","v":0},{"$f":"IF(June!AA28=1,$C27,0)","v":0},{"$f":"IF(June!AB28=1,$C27,0)","v":0},{"$f":"IF(June!AC28=1,$C27,0)","v":0},{"$f":"IF(June!AD28=1,$C27,0)","v":0},{"$f":"IF(June!AE28=1,$C27,0)","v":0},{"$f":"IF(June!AF28=1,$C27,0)","v":0},{"$f":"IF(June!AG28=1,$C27,0)","v":0},0]
[{"$f":"June!A29","v":24},{"$f":"June!B29","v":"Recite Navkar Mantra Mala"},{"$f":"June!C29","v":10},{"$f":"IF(June!D29=1,$C28,0)","v":0},{"$f":"IF(June!E29=1,$C28,0)","v":0},{"$f":"IF(June!F29=1,$C28,0)","v":0},{"$f":"IF(June!G29=1,$C28,0)","v":0},{"$f":"IF(June!H29=1,$C28,0)","v":0},{"$f":"IF(June!I29=1,$C28,0)","v":0},{"$f":"IF(June!J29=1,$C28,0)","v":0},{"$f":"IF(June!K29=1,$C28,0)","v":0},{"$f":"IF(June!L29=1,$C28,0)","v":0},{"$f":"IF(June!M29=1,$C28,0)","v":0},{"$f":"IF(June!N29=1,$C28,0)","v":0},{"$f":"IF(June!O29=1,$C28,0)","v":0},{"$f":"IF(June!P29=1,$C28,0)","v":0},{"$f":"IF(June!Q29=1,$C28,0)","v":0},{"$f":"IF(June!R29=1,$C28,0)","v":0},{"$f":"IF(June!S29=1,$C28,0)","v":0},{"$f":"IF(June!T29=1,$C28,0)","v":0},{"$f":"IF(June!U29=1,$C28,0)","v":0},{"$f":"IF(June!V29=1,$C28,0)","v":0},{"$f":"IF(June!W29=1,$C28,0)","v":0},{"$f":"IF(June!X29=1,$C28,0)","v":0},{"$f":"IF(June!Y29=1,$C28,0)","v":0},{"$f":"IF(June!Z29=1,$C28,0)","v":0},{"$f":"IF(June!AA29=1,$C28,0)","v":0},{"$f":"IF(June!AB29=1,$C28,0)","v":0},{"$f":"IF(June!AC29=1,$C28,0)","v":0},{"$f":"IF(June!AD29=1,$C28,0)","v":0},{"$f":"IF(June!AE29=1,$C28,0)","v":0},{"$f":"IF(June!AF29=1,$C28,0)","v":0},{"$f":"IF(June!AG29=1,$C28,0)","v":0},0]
[{"$f":"June!A30","v":0},{"$f":"June!B30","v":"Total"},{"$f":"June!C30","v":0},{"$f":"SUM(D5:D28)","v":0},{"$f":"SUM(E5:E28)","v":0},0,0,0,0,0,0,0,0,0,0,0,0,0,0,0,0,0,0,0,0,0,0,0,0,0,0,0,0,0]

{"sheet":"CalcJul","index":10,"n_rows":29,"n_cols":35,"rows_kept":29,"cut":false,"hidden":true,"merged":[]}
[]
[]
[]
["No","Niyam","Points",{"$f":"July!D4","v":"2020-07-01"},{"$f":"July!E4","v":"2020-07-02"},{"$f":"July!F4","v":"2020-07-03"},{"$f":"July!G4","v":"2020-07-04"},{"$f":"July!H4","v":"2020-07-05"},{"$f":"July!I4","v":"2020-07-06"},{"$f":"July!J4","v":"2020-07-07"},{"$f":"July!K4","v":"2020-07-08"},{"$f":"July!L4","v":"2020-07-09"},{"$f":"July!M4","v":"2020-07-10"},{"$f":"July!N4","v":"2020-07-11"},{"$f":"July!O4","v":"2020-07-12"},{"$f":"July!P4","v":"2020-07-13"},{"$f":"July!Q4","v":"2020-07-14"},{"$f":"July!R4","v":"2020-07-15"},{"$f":"July!S4","v":"2020-07-16"},{"$f":"July!T4","v":"2020-07-17"},{"$f":"July!U4","v":"2020-07-18"},{"$f":"July!V4","v":"2020-07-19"},{"$f":"July!W4","v":"2020-07-20"},{"$f":"July!X4","v":"2020-07-21"},{"$f":"July!Y4","v":"2020-07-22"},{"$f":"July!Z4","v":"2020-07-23"},{"$f":"July!AA4","v":"2020-07-24"},{"$f":"July!AB4","v":"2020-07-25"},{"$f":"July!AC4","v":"2020-07-26"},{"$f":"July!AD4","v":"2020-07-27"},{"$f":"July!AE4","v":"2020-07-28"},{"$f":"July!AF4","v":"2020-07-29"},{"$f":"July!AG4","v":"2020-07-30"},{"$f":"July!AH4","v":"2020-07-31"},"July Total"]
[{"$f":"July!A6","v":1},{"$f":"July!B6","v":"Upvaas/Aayambil"},{"$f":"July!C6","v":70},{"$f":"IF(AND(July!D6=1,July!D7=1),0,IF(July!D6=1,$C5,0))","v":0},{"$f":"IF(AND(July!E6=1,July!E7=1),0,IF(July!E6=1,$C5,0))","v":0},{"$f":"IF(AND(July!F6=1,July!F7=1),0,IF(July!F6=1,$C5,0))","v":0},{"$f":"IF(AND(July!G6=1,July!G7=1),0,IF(July!G6=1,$C5,0))","v":0},{"$f":"IF(AND(July!H6=1,July!H7=1),0,IF(July!H6=1,$C5,0))","v":0},{"$f":"IF(AND(July!I6=1,July!I7=1),0,IF(July!I6=1,$C5,0))","v":0},{"$f":"IF(AND(July!J6=1,July!J7=1),0,IF(July!J6=1,$C5,0))","v":0},{"$f":"IF(AND(July!K6=1,July!K7=1),0,IF(July!K6=1,$C5,0))","v":0},{"$f":"IF(AND(July!L6=1,July!L7=1),0,IF(July!L6=1,$C5,0))","v":0},{"$f":"IF(AND(July!M6=1,July!M7=1),0,IF(July!M6=1,$C5,0))","v":0},{"$f":"IF(AND(July!N6=1,July!N7=1),0,IF(July!N6=1,$C5,0))","v":0},{"$f":"IF(AND(July!O6=1,July!O7=1),0,IF(July!O6=1,$C5,0))","v":0},{"$f":"IF(AND(July!P6=1,July!P7=1),0,IF(July!P6=1,$C5,0))","v":0},{"$f":"IF(AND(July!Q6=1,July!Q7=1),0,IF(July!Q6=1,$C5,0))","v":0},{"$f":"IF(AND(July!R6=1,July!R7=1),0,IF(July!R6=1,$C5,0))","v":0},{"$f":"IF(AND(July!S6=1,July!S7=1),0,IF(July!S6=1,$C5,0))","v":0},{"$f":"IF(AND(July!T6=1,July!T7=1),0,IF(July!T6=1,$C5,0))","v":0},{"$f":"IF(AND(July!U6=1,July!U7=1),0,IF(July!U6=1,$C5,0))","v":0},{"$f":"IF(AND(July!V6=1,July!V7=1),0,IF(July!V6=1,$C5,0))","v":0},{"$f":"IF(AND(July!W6=1,July!W7=1),0,IF(July!W6=1,$C5,0))","v":0},{"$f":"IF(AND(July!X6=1,July!X7=1),0,IF(July!X6=1,$C5,0))","v":0},{"$f":"IF(AND(July!Y6=1,July!Y7=1),0,IF(July!Y6=1,$C5,0))","v":0},{"$f":"IF(AND(July!Z6=1,July!Z7=1),0,IF(July!Z6=1,$C5,0))","v":0},{"$f":"IF(AND(July!AA6=1,July!AA7=1),0,IF(July!AA6=1,$C5,0))","v":0},{"$f":"IF(AND(July!AB6=1,July!AB7=1),0,IF(July!AB6=1,$C5,0))","v":0},{"$f":"IF(AND(July!AC6=1,July!AC7=1),0,IF(July!AC6=1,$C5,0))","v":0},{"$f":"IF(AND(July!AD6=1,July!AD7=1),0,IF(July!AD6=1,$C5,0))","v":0},{"$f":"IF(AND(July!AE6=1,July!AE7=1),0,IF(July!AE6=1,$C5,0))","v":0},{"$f":"IF(AND(July!AF6=1,July!AF7=1),0,IF(July!AF6=1,$C5,0))","v":0},{"$f":"IF(AND(July!AG6=1,July!AG7=1),0,IF(July!AG6=1,$C5,0))","v":0},{"$f":"IF(AND(July!AH6=1,July!AH7=1),0,IF(July!AH6=1,$C5,0))","v":0},{"$f":"SUM(D5:AH5)","v":0}]
[{"$f":"July!A7","v":2},{"$f":"July!B7","v":"Ekasanu/Biyasanu"},{"$f":"July!C7","v":60},{"$f":"IF(AND(July!D6=1,July!D7=1),0,IF(July!D7=1,$C6,0))","v":0},{"$f":"IF(AND(July!E6=1,July!E7=1),0,IF(July!E7=1,$C6,0))","v":0},{"$f":"IF(AND(July!F6=1,July!F7=1),0,IF(July!F7=1,$C6,0))","v":0},{"$f":"IF(AND(July!G6=1,July!G7=1),0,IF(July!G7=1,$C6,0))","v":0},{"$f":"IF(AND(July!H6=1,July!H7=1),0,IF(July!H7=1,$C6,0))","v":0},{"$f":"IF(AND(July!I6=1,July!I7=1),0,IF(July!I7=1,$C6,0))","v":0},{"$f":"IF(AND(July!J6=1,July!J7=1),0,IF(July!J7=1,$C6,0))","v":0},{"$f":"IF(AND(July!K6=1,July!K7=1),0,IF(July!K7=1,$C6,0))","v":0},{"$f":"IF(AND(July!L6=1,July!L7=1),0,IF(July!L7=1,$C6,0))","v":0},{"$f":"IF(AND(July!M6=1,July!M7=1),0,IF(July!M7=1,$C6,0))","v":0},{"$f":"IF(AND(July!N6=1,July!N7=1),0,IF(July!N7=1,$C6,0))","v":0},{"$f":"IF(AND(July!O6=1,July!O7=1),0,IF(July!O7=1,$C6,0))","v":0},{"$f":"IF(AND(July!P6=1,July!P7=1),0,IF(July!P7=1,$C6,0))","v":0},{"$f":"IF(AND(July!Q6=1,July!Q7=1),0,IF(July!Q7=1,$C6,0))","v":0},{"$f":"IF(AND(July!R6=1,July!R7=1),0,IF(July!R7=1,$C6,0))","v":0},{"$f":"IF(AND(July!S6=1,July!S7=1),0,IF(July!S7=1,$C6,0))","v":0},{"$f":"IF(AND(July!T6=1,July!T7=1),0,IF(July!T7=1,$C6,0))","v":0},{"$f":"IF(AND(July!U6=1,July!U7=1),0,IF(July!U7=1,$C6,0))","v":0},{"$f":"IF(AND(July!V6=1,July!V7=1),0,IF(July!V7=1,$C6,0))","v":0},{"$f":"IF(AND(July!W6=1,July!W7=1),0,IF(July!W7=1,$C6,0))","v":0},{"$f":"IF(AND(July!X6=1,July!X7=1),0,IF(July!X7=1,$C6,0))","v":0},{"$f":"IF(AND(July!Y6=1,July!Y7=1),0,IF(July!Y7=1,$C6,0))","v":0},{"$f":"IF(AND(July!Z6=1,July!Z7=1),0,IF(July!Z7=1,$C6,0))","v":0},{"$f":"IF(AND(July!AA6=1,July!AA7=1),0,IF(July!AA7=1,$C6,0))","v":0},{"$f":"IF(AND(July!AB6=1,July!AB7=1),0,IF(July!AB7=1,$C6,0))","v":0},{"$f":"IF(AND(July!AC6=1,July!AC7=1),0,IF(July!AC7=1,$C6,0))","v":0},{"$f":"IF(AND(July!AD6=1,July!AD7=1),0,IF(July!AD7=1,$C6,0))","v":0},{"$f":"IF(AND(July!AE6=1,July!AE7=1),0,IF(July!AE7=1,$C6,0))","v":0},{"$f":"IF(AND(July!AF6=1,July!AF7=1),0,IF(July!AF7=1,$C6,0))","v":0},{"$f":"IF(AND(July!AG6=1,July!AG7=1),0,IF(July!AG7=1,$C6,0))","v":0},{"$f":"IF(AND(July!AH6=1,July!AH7=1),0,IF(July!AH7=1,$C6,0))","v":0},0]
[{"$f":"July!A8","v":3},{"$f":"July!B8","v":"Chandan Pooja on weekend"},{"$f":"July!C8","v":40},{"$f":"IF(WEEKDAY(D$4,2)>5,IF(July!D8=1,$C7,0),0)","v":0},{"$f":"IF(WEEKDAY(E$4,2)>5,IF(July!E8=1,$C7,0),0)","v":0},{"$f":"IF(WEEKDAY(F$4,2)>5,IF(July!F8=1,$C7,0),0)","v":0},{"$f":"IF(WEEKDAY(G$4,2)>5,IF(July!G8=1,$C7,0),0)","v":0},{"$f":"IF(WEEKDAY(H$4,2)>5,IF(July!H8=1,$C7,0),0)","v":0},{"$f":"IF(WEEKDAY(I$4,2)>5,IF(July!I8=1,$C7,0),0)","v":0},{"$f":"IF(WEEKDAY(J$4,2)>5,IF(July!J8=1,$C7,0),0)","v":0},{"$f":"IF(WEEKDAY(K$4,2)>5,IF(July!K8=1,$C7,0),0)","v":0},{"$f":"IF(WEEKDAY(L$4,2)>5,IF(July!L8=1,$C7,0),0)","v":0},{"$f":"IF(WEEKDAY(M$4,2)>5,IF(July!M8=1,$C7,0),0)","v":0},{"$f":"IF(WEEKDAY(N$4,2)>5,IF(July!N8=1,$C7,0),0)","v":0},{"$f":"IF(WEEKDAY(O$4,2)>5,IF(July!O8=1,$C7,0),0)","v":0},{"$f":"IF(WEEKDAY(P$4,2)>5,IF(July!P8=1,$C7,0),0)","v":0},{"$f":"IF(WEEKDAY(Q$4,2)>5,IF(July!Q8=1,$C7,0),0)","v":0},{"$f":"IF(WEEKDAY(R$4,2)>5,IF(July!R8=1,$C7,0),0)","v":0},{"$f":"IF(WEEKDAY(S$4,2)>5,IF(July!S8=1,$C7,0),0)","v":0},{"$f":"IF(WEEKDAY(T$4,2)>5,IF(July!T8=1,$C7,0),0)","v":0},{"$f":"IF(WEEKDAY(U$4,2)>5,IF(July!U8=1,$C7,0),0)","v":0},{"$f":"IF(WEEKDAY(V$4,2)>5,IF(July!V8=1,$C7,0),0)","v":0},{"$f":"IF(WEEKDAY(W$4,2)>5,IF(July!W8=1,$C7,0),0)","v":0},{"$f":"IF(WEEKDAY(X$4,2)>5,IF(July!X8=1,$C7,0),0)","v":0},{"$f":"IF(WEEKDAY(Y$4,2)>5,IF(July!Y8=1,$C7,0),0)","v":0},{"$f":"IF(WEEKDAY(Z$4,2)>5,IF(July!Z8=1,$C7,0),0)","v":0},{"$f":"IF(WEEKDAY(AA$4,2)>5,IF(July!AA8=1,$C7,0),0)","v":0},{"$f":"IF(WEEKDAY(AB$4,2)>5,IF(July!AB8=1,$C7,0),0)","v":0},{"$f":"IF(WEEKDAY(AC$4,2)>5,IF(July!AC8=1,$C7,0),0)","v":0},{"$f":"IF(WEEKDAY(AD$4,2)>5,IF(July!AD8=1,$C7,0),0)","v":0},{"$f":"IF(WEEKDAY(AE$4,2)>5,IF(July!AE8=1,$C7,0),0)","v":0},{"$f":"IF(WEEKDAY(AF$4,2)>5,IF(July!AF8=1,$C7,0),0)","v":0},{"$f":"IF(WEEKDAY(AG$4,2)>5,IF(July!AG8=1,$C7,0),0)","v":0},{"$f":"IF(WEEKDAY(AH$4,2)>5,IF(July!AH8=1,$C7,0),0)","v":0},0]
[{"$f":"July!A9","v":4},{"$f":"July!B9","v":"Samayik/Pratikraman"},{"$f":"July!C9","v":50},{"$f":"IF(July!D9=1,$C8,0)","v":0},{"$f":"IF(July!E9=1,$C8,0)","v":0},{"$f":"IF(July!F9=1,$C8,0)","v":0},{"$f":"IF(July!G9=1,$C8,0)","v":0},{"$f":"IF(July!H9=1,$C8,0)","v":0},{"$f":"IF(July!I9=1,$C8,0)","v":0},{"$f":"IF(July!J9=1,$C8,0)","v":0},{"$f":"IF(July!K9=1,$C8,0)","v":0},{"$f":"IF(July!L9=1,$C8,0)","v":0},{"$f":"IF(July!M9=1,$C8,0)","v":0},{"$f":"IF(July!N9=1,$C8,0)","v":0},{"$f":"IF(July!O9=1,$C8,0)","v":0},{"$f":"IF(July!P9=1,$C8,0)","v":0},{"$f":"IF(July!Q9=1,$C8,0)","v":0},{"$f":"IF(July!R9=1,$C8,0)","v":0},{"$f":"IF(July!S9=1,$C8,0)","v":0},{"$f":"IF(July!T9=1,$C8,0)","v":0},{"$f":"IF(July!U9=1,$C8,0)","v":0},{"$f":"IF(July!V9=1,$C8,0)","v":0},{"$f":"IF(July!W9=1,$C8,0)","v":0},{"$f":"IF(July!X9=1,$C8,0)","v":0},{"$f":"IF(July!Y9=1,$C8,0)","v":0},{"$f":"IF(July!Z9=1,$C8,0)","v":0},{"$f":"IF(July!AA9=1,$C8,0)","v":0},{"$f":"IF(July!AB9=1,$C8,0)","v":0},{"$f":"IF(July!AC9=1,$C8,0)","v":0},{"$f":"IF(July!AD9=1,$C8,0)","v":0},{"$f":"IF(July!AE9=1,$C8,0)","v":0},{"$f":"IF(July!AF9=1,$C8,0)","v":0},{"$f":"IF(July!AG9=1,$C8,0)","v":0},{"$f":"IF(July!AH9=1,$C8,0)","v":0},0]
[{"$f":"July!A10","v":5},{"$f":"July!B10","v":"Learn Sutra/Stuti for 15 mins"},{"$f":"July!C10","v":30},{"$f":"IF(July!D10=1,$C9,0)","v":0},{"$f":"IF(July!E10=1,$C9,0)","v":0},{"$f":"IF(July!F10=1,$C9,0)","v":0},{"$f":"IF(July!G10=1,$C9,0)","v":0},{"$f":"IF(July!H10=1,$C9,0)","v":0},{"$f":"IF(July!I10=1,$C9,0)","v":0},{"$f":"IF(July!J10=1,$C9,0)","v":0},{"$f":"IF(July!K10=1,$C9,0)","v":0},{"$f":"IF(July!L10=1,$C9,0)","v":0},{"$f":"IF(July!M10=1,$C9,0)","v":0},{"$f":"IF(July!N10=1,$C9,0)","v":0},{"$f":"IF(July!O10=1,$C9,0)","v":0},{"$f":"IF(July!P10=1,$C9,0)","v":0},{"$f":"IF(July!Q10=1,$C9,0)","v":0},{"$f":"IF(July!R10=1,$C9,0)","v":0},{"$f":"IF(July!S10=1,$C9,0)","v":0},{"$f":"IF(July!T10=1,$C9,0)","v":0},{"$f":"IF(July!U10=1,$C9,0)","v":0},{"$f":"IF(July!V10=1,$C9,0)","v":0},{"$f":"IF(July!W10=1,$C9,0)","v":0},{"$f":"IF(July!X10=1,$C9,0)","v":0},{"$f":"IF(July!Y10=1,$C9,0)","v":0},{"$f":"IF(July!Z10=1,$C9,0)","v":0},{"$f":"IF(July!AA10=1,$C9,0)","v":0},{"$f":"IF(July!AB10=1,$C9,0)","v":0},{"$f":"IF(July!AC10=1,$C9,0)","v":0},{"$f":"IF(July!AD10=1,$C9,0)","v":0},{"$f":"IF(July!AE10=1,$C9,0)","v":0},{"$f":"IF(July!AF10=1,$C9,0)","v":0},{"$f":"IF(July!AG10=1,$C9,0)","v":0},{"$f":"IF(July!AH10=1,$C9,0)","v":0},0]
[{"$f":"July!A11","v":6},{"$f":"July!B11","v":"Chandan Pooja on Weekdays"},{"$f":"July!C11","v":25},{"$f":"IF(WEEKDAY(D$4,2)<=5,IF(July!D11=1,$C10,0),0)","v":0},{"$f":"IF(WEEKDAY(E$4,2)<=5,IF(July!E11=1,$C10,0),0)","v":0},{"$f":"IF(WEEKDAY(F$4,2)<=5,IF(July!F11=1,$C10,0),0)","v":0},{"$f":"IF(WEEKDAY(G$4,2)<=5,IF(July!G11=1,$C10,0),0)","v":0},{"$f":"IF(WEEKDAY(H$4,2)<=5,IF(July!H11=1,$C10,0),0)","v":0},{"$f":"IF(WEEKDAY(I$4,2)<=5,IF(July!I11=1,$C10,0),0)","v":0},{"$f":"IF(WEEKDAY(J$4,2)<=5,IF(July!J11=1,$C10,0),0)","v":0},{"$f":"IF(WEEKDAY(K$4,2)<=5,IF(July!K11=1,$C10,0),0)","v":0},{"$f":"IF(WEEKDAY(L$4,2)<=5,IF(July!L11=1,$C10,0),0)","v":0},{"$f":"IF(WEEKDAY(M$4,2)<=5,IF(July!M11=1,$C10,0),0)","v":0},{"$f":"IF(WEEKDAY(N$4,2)<=5,IF(July!N11=1,$C10,0),0)","v":0},{"$f":"IF(WEEKDAY(O$4,2)<=5,IF(July!O11=1,$C10,0),0)","v":0},{"$f":"IF(WEEKDAY(P$4,2)<=5,IF(July!P11=1,$C10,0),0)","v":0},{"$f":"IF(WEEKDAY(Q$4,2)<=5,IF(July!Q11=1,$C10,0),0)","v":0},{"$f":"IF(WEEKDAY(R$4,2)<=5,IF(July!R11=1,$C10,0),0)","v":0},{"$f":"IF(WEEKDAY(S$4,2)<=5,IF(July!S11=1,$C10,0),0)","v":0},{"$f":"IF(WEEKDAY(T$4,2)<=5,IF(July!T11=1,$C10,0),0)","v":0},{"$f":"IF(WEEKDAY(U$4,2)<=5,IF(July!U11=1,$C10,0),0)","v":0},{"$f":"IF(WEEKDAY(V$4,2)<=5,IF(July!V11=1,$C10,0),0)","v":0},{"$f":"IF(WEEKDAY(W$4,2)<=5,IF(July!W11=1,$C10,0),0)","v":0},{"$f":"IF(WEEKDAY(X$4,2)<=5,IF(July!X11=1,$C10,0),0)","v":0},{"$f":"IF(WEEKDAY(Y$4,2)<=5,IF(July!Y11=1,$C10,0),0)","v":0},{"$f":"IF(WEEKDAY(Z$4,2)<=5,IF(July!Z11=1,$C10,0),0)","v":0},{"$f":"IF(WEEKDAY(AA$4,2)<=5,IF(July!AA11=1,$C10,0),0)","v":0},{"$f":"IF(WEEKDAY(AB$4,2)<=5,IF(July!AB11=1,$C10,0),0)","v":0},{"$f":"IF(WEEKDAY(AC$4,2)<=5,IF(July!AC11=1,$C10,0),0)","v":0},{"$f":"IF(WEEKDAY(AD$4,2)<=5,IF(July!AD11=1,$C10,0),0)","v":0},{"$f":"IF(WEEKDAY(AE$4,2)<=5,IF(July!AE11=1,$C10,0),0)","v":0},{"$f":"IF(WEEKDAY(AF$4,2)<=5,IF(July!AF11=1,$C10,0),0)","v":0},{"$f":"IF(WEEKDAY(AG$4,2)<=5,IF(July!AG11=1,$C10,0),0)","v":0},{"$f":"IF(WEEKDAY(AH$4,2)<=5,IF(July!AH11=1,$C10,0),0)","v":0},0]
[{"$f":"July!A12","v":7},{"$f":"July!B12","v":"Vasakshep Pooja"},{"$f":"July!C12","v":10},{"$f":"IF(July!D12=1,$C11,0)","v":0},{"$f":"IF(July!E12=1,$C11,0)","v":0},{"$f":"IF(July!F12=1,$C11,0)","v":0},{"$f":"IF(July!G12=1,$C11,0)","v":0},{"$f":"IF(July!H12=1,$C11,0)","v":0},{"$f":"IF(July!I12=1,$C11,0)","v":0},{"$f":"IF(July!J12=1,$C11,0)","v":0},{"$f":"IF(July!K12=1,$C11,0)","v":0},{"$f":"IF(July!L12=1,$C11,0)","v":0},{"$f":"IF(July!M12=1,$C11,0)","v":0},{"$f":"IF(July!N12=1,$C11,0)","v":0},{"$f":"IF(July!O12=1,$C11,0)","v":0},{"$f":"IF(July!P12=1,$C11,0)","v":0},{"$f":"IF(July!Q12=1,$C11,0)","v":0},{"$f":"IF(July!R12=1,$C11,0)","v":0},{"$f":"IF(July!S12=1,$C11,0)","v":0},{"$f":"IF(July!T12=1,$C11,0)","v":0},{"$f":"IF(July!U12=1,$C11,0)","v":0},{"$f":"IF(July!V12=1,$C11,0)","v":0},{"$f":"IF(July!W12=1,$C11,0)","v":0},{"$f":"IF(July!X12=1,$C11,0)","v":0},{"$f":"IF(July!Y12=1,$C11,0)","v":0},{"$f":"IF(July!Z12=1,$C11,0)","v":0},{"$f":"IF(July!AA12=1,$C11,0)","v":0},{"$f":"IF(July!AB12=1,$C11,0)","v":0},{"$f":"IF(July!AC12=1,$C11,0)","v":0},{"$f":"IF(July!AD12=1,$C11,0)","v":0},{"$f":"IF(July!AE12=1,$C11,0)","v":0},{"$f":"IF(July!AF12=1,$C11,0)","v":0},{"$f":"IF(July!AG12=1,$C11,0)","v":0},{"$f":"IF(July!AH12=1,$C11,0)","v":0},0]
[{"$f":"July!A13","v":8},{"$f":"July!B13","v":"Aarti *"},{"$f":"July!C13","v":10},{"$f":"IF(July!D13=1,$C12,0)","v":0},{"$f":"IF(July!E13=1,$C12,0)","v":0},{"$f":"IF(July!F13=1,$C12,0)","v":0},{"$f":"IF(July!G13=1,$C12,0)","v":0},{"$f":"IF(July!H13=1,$C12,0)","v":0},{"$f":"IF(July!I13=1,$C12,0)","v":0},{"$f":"IF(July!J13=1,$C12,0)","v":0},{"$f":"IF(July!K13=1,$C12,0)","v":0},{"$f":"IF(July!L13=1,$C12,0)","v":0},{"$f":"IF(July!M13=1,$C12,0)","v":0},{"$f":"IF(July!N13=1,$C12,0)","v":0},{"$f":"IF(July!O13=1,$C12,0)","v":0},{"$f":"IF(July!P13=1,$C12,0)","v":0},{"$f":"IF(July!Q13=1,$C12,0)","v":0},{"$f":"IF(July!R13=1,$C12,0)","v":0},{"$f":"IF(July!S13=1,$C12,0)","v":0},{"$f":"IF(July!T13=1,$C12,0)","v":0},{"$f":"IF(July!U13=1,$C12,0)","v":0},{"$f":"IF(July!V13=1,$C12,0)","v":0},{"$f":"IF(July!W13=1,$C12,0)","v":0},{"$f":"IF(July!X13=1,$C12,0)","v":0},{"$f":"IF(July!Y13=1,$C12,0)","v":0},{"$f":"IF(July!Z13=1,$C12,0)","v":0},{"$f":"IF(July!AA13=1,$C12,0)","v":0},{"$f":"IF(July!AB13=1,$C12,0)","v":0},{"$f":"IF(July!AC13=1,$C12,0)","v":0},{"$f":"IF(July!AD13=1,$C12,0)","v":0},{"$f":"IF(July!AE13=1,$C12,0)","v":0},{"$f":"IF(July!AF13=1,$C12,0)","v":0},{"$f":"IF(July!AG13=1,$C12,0)","v":0},{"$f":"IF(July!AH13=1,$C12,0)","v":0},0]
[{"$f":"July!A14","v":9},{"$f":"July!B14","v":"Chauvihar/Tivihar ^"},{"$f":"July!C14","v":25},{"$f":"IF(OR(July!D6=1,July!D7=1),0,IF(July!D14=1,$C13,0))","v":0},{"$f":"IF(OR(July!E6=1,July!E7=1),0,IF(July!E14=1,$C13,0))","v":0},{"$f":"IF(OR(July!F6=1,July!F7=1),0,IF(July!F14=1,$C13,0))","v":0},{"$f":"IF(OR(July!G6=1,July!G7=1),0,IF(July!G14=1,$C13,0))","v":0},{"$f":"IF(OR(July!H6=1,July!H7=1),0,IF(July!H14=1,$C13,0))","v":0},{"$f":"IF(OR(July!I6=1,July!I7=1),0,IF(July!I14=1,$C13,0))","v":0},{"$f":"IF(OR(July!J6=1,July!J7=1),0,IF(July!J14=1,$C13,0))","v":0},{"$f":"IF(OR(July!K6=1,July!K7=1),0,IF(July!K14=1,$C13,0))","v":0},{"$f":"IF(OR(July!L6=1,July!L7=1),0,IF(July!L14=1,$C13,0))","v":0},{"$f":"IF(OR(July!M6=1,July!M7=1),0,IF(July!M14=1,$C13,0))","v":0},{"$f":"IF(OR(July!N6=1,July!N7=1),0,IF(July!N14=1,$C13,0))","v":0},{"$f":"IF(OR(July!O6=1,July!O7=1),0,IF(July!O14=1,$C13,0))","v":0},{"$f":"IF(OR(July!P6=1,July!P7=1),0,IF(July!P14=1,$C13,0))","v":0},{"$f":"IF(OR(July!Q6=1,July!Q7=1),0,IF(July!Q14=1,$C13,0))","v":0},{"$f":"IF(OR(July!R6=1,July!R7=1),0,IF(July!R14=1,$C13,0))","v":0},{"$f":"IF(OR(July!S6=1,July!S7=1),0,IF(July!S14=1,$C13,0))","v":0},{"$f":"IF(OR(July!T6=1,July!T7=1),0,IF(July!T14=1,$C13,0))","v":0},{"$f":"IF(OR(July!U6=1,July!U7=1),0,IF(July!U14=1,$C13,0))","v":0},{"$f":"IF(OR(July!V6=1,July!V7=1),0,IF(July!V14=1,$C13,0))","v":0},{"$f":"IF(OR(July!W6=1,July!W7=1),0,IF(July!W14=1,$C13,0))","v":0},{"$f":"IF(OR(July!X6=1,July!X7=1),0,IF(July!X14=1,$C13,0))","v":0},{"$f":"IF(OR(July!Y6=1,July!Y7=1),0,IF(July!Y14=1,$C13,0))","v":0},{"$f":"IF(OR(July!Z6=1,July!Z7=1),0,IF(July!Z14=1,$C13,0))","v":0},{"$f":"IF(OR(July!AA6=1,July!AA7=1),0,IF(July!AA14=1,$C13,0))","v":0},{"$f":"IF(OR(July!AB6=1,July!AB7=1),0,IF(July!AB14=1,$C13,0))","v":0},{"$f":"IF(OR(July!AC6=1,July!AC7=1),0,IF(July!AC14=1,$C13,0))","v":0},{"$f":"IF(OR(July!AD6=1,July!AD7=1),0,IF(July!AD14=1,$C13,0))","v":0},{"$f":"IF(OR(July!AE6=1,July!AE7=1),0,IF(July!AE14=1,$C13,0))","v":0},{"$f":"IF(OR(July!AF6=1,July!AF7=1),0,IF(July!AF14=1,$C13,0))","v":0},{"$f":"IF(OR(July!AG6=1,July!AG7=1),0,IF(July!AG14=1,$C13,0))","v":0},{"$f":"IF(OR(July!AH6=1,July!AH7=1),0,IF(July!AH14=1,$C13,0))","v":0},0]
[{"$f":"July!A15","v":10},{"$f":"July!B15","v":"Drink boiled water for a day ^"},{"$f":"July!C15","v":15},{"$f":"IF(OR(July!D6=1,July!D7=1),0,IF(July!D15=1,$C14,0))","v":0},{"$f":"IF(OR(July!E6=1,July!E7=1),0,IF(July!E15=1,$C14,0))","v":0},{"$f":"IF(OR(July!F6=1,July!F7=1),0,IF(July!F15=1,$C14,0))","v":0},{"$f":"IF(OR(July!G6=1,July!G7=1),0,IF(July!G15=1,$C14,0))","v":0},{"$f":"IF(OR(July!H6=1,July!H7=1),0,IF(July!H15=1,$C14,0))","v":0},{"$f":"IF(OR(July!I6=1,July!I7=1),0,IF(July!I15=1,$C14,0))","v":0},{"$f":"IF(OR(July!J6=1,July!J7=1),0,IF(July!J15=1,$C14,0))","v":0},{"$f":"IF(OR(July!K6=1,July!K7=1),0,IF(July!K15=1,$C14,0))","v":0},{"$f":"IF(OR(July!L6=1,July!L7=1),0,IF(July!L15=1,$C14,0))","v":0},{"$f":"IF(OR(July!M6=1,July!M7=1),0,IF(July!M15=1,$C14,0))","v":0},{"$f":"IF(OR(July!N6=1,July!N7=1),0,IF(July!N15=1,$C14,0))","v":0},{"$f":"IF(OR(July!O6=1,July!O7=1),0,IF(July!O15=1,$C14,0))","v":0},{"$f":"IF(OR(July!P6=1,July!P7=1),0,IF(July!P15=1,$C14,0))","v":0},{"$f":"IF(OR(July!Q6=1,July!Q7=1),0,IF(July!Q15=1,$C14,0))","v":0},{"$f":"IF(OR(July!R6=1,July!R7=1),0,IF(July!R15=1,$C14,0))","v":0},{"$f":"IF(OR(July!S6=1,July!S7=1),0,IF(July!S15=1,$C14,0))","v":0},{"$f":"IF(OR(July!T6=1,July!T7=1),0,IF(July!T15=1,$C14,0))","v":0},{"$f":"IF(OR(July!U6=1,July!U7=1),0,IF(July!U15=1,$C14,0))","v":0},{"$f":"IF(OR(July!V6=1,July!V7=1),0,IF(July!V15=1,$C14,0))","v":0},{"$f":"IF(OR(July!W6=1,July!W7=1),0,IF(July!W15=1,$C14,0))","v":0},{"$f":"IF(OR(July!X6=1,July!X7=1),0,IF(July!X15=1,$C14,0))","v":0},{"$f":"IF(OR(July!Y6=1,July!Y7=1),0,IF(July!Y15=1,$C14,0))","v":0},{"$f":"IF(OR(July!Z6=1,July!Z7=1),0,IF(July!Z15=1,$C14,0))","v":0},{"$f":"IF(OR(July!AA6=1,July!AA7=1),0,IF(July!AA15=1,$C14,0))","v":0},{"$f":"IF(OR(July!AB6=1,July!AB7=1),0,IF(July!AB15=1,$C14,0))","v":0},{"$f":"IF(OR(July!AC6=1,July!AC7=1),0,IF(July!AC15=1,$C14,0))","v":0},{"$f":"IF(OR(July!AD6=1,July!AD7=1),0,IF(July!AD15=1,$C14,0))","v":0},{"$f":"IF(OR(July!AE6=1,July!AE7=1),0,IF(July!AE15=1,$C14,0))","v":0},{"$f":"IF(OR(July!AF6=1,July!AF7=1),0,IF(July!AF15=1,$C14,0))","v":0},{"$f":"IF(OR(July!AG6=1,July!AG7=1),0,IF(July!AG15=1,$C14,0))","v":0},{"$f":"IF(OR(July!AH6=1,July!AH7=1),0,IF(July!AH15=1,$C14,0))","v":0},0]
[{"$f":"July!A16","v":11},{"$f":"July!B16","v":"Navkarshi ^"},{"$f":"July!C16","v":20},{"$f":"IF(OR(July!D6=1,July!D7=1),0,IF(July!D16=1,$C15,0))","v":0},{"$f":"IF(OR(July!E6=1,July!E7=1),0,IF(July!E16=1,$C15,0))","v":0},{"$f":"IF(OR(July!F6=1,July!F7=1),0,IF(July!F16=1,$C15,0))","v":0},{"$f":"IF(OR(July!G6=1,July!G7=1),0,IF(July!G16=1,$C15,0))","v":0},{"$f":"IF(OR(July!H6=1,July!H7=1),0,IF(July!H16=1,$C15,0))","v":0},{"$f":"IF(OR(July!I6=1,July!I7=1),0,IF(July!I16=1,$C15,0))","v":0},{"$f":"IF(OR(July!J6=1,July!J7=1),0,IF(July!J16=1,$C15,0))","v":0},{"$f":"IF(OR(July!K6=1,July!K7=1),0,IF(July!K16=1,$C15,0))","v":0},{"$f":"IF(OR(July!L6=1,July!L7=1),0,IF(July!L16=1,$C15,0))","v":0},{"$f":"IF(OR(July!M6=1,July!M7=1),0,IF(July!M16=1,$C15,0))","v":0},{"$f":"IF(OR(July!N6=1,July!N7=1),0,IF(July!N16=1,$C15,0))","v":0},{"$f":"IF(OR(July!O6=1,July!O7=1),0,IF(July!O16=1,$C15,0))","v":0},{"$f":"IF(OR(July!P6=1,July!P7=1),0,IF(July!P16=1,$C15,0))","v":0},{"$f":"IF(OR(July!Q6=1,July!Q7=1),0,IF(July!Q16=1,$C15,0))","v":0},{"$f":"IF(OR(July!R6=1,July!R7=1),0,IF(July!R16=1,$C15,0))","v":0},{"$f":"IF(OR(July!S6=1,July!S7=1),0,IF(July!S16=1,$C15,0))","v":0},{"$f":"IF(OR(July!T6=1,July!T7=1),0,IF(July!T16=1,$C15,0))","v":0},{"$f":"IF(OR(July!U6=1,July!U7=1),0,IF(July!U16=1,$C15,0))","v":0},{"$f":"IF(OR(July!V6=1,July!V7=1),0,IF(July!V16=1,$C15,0))","v":0},{"$f":"IF(OR(July!W6=1,July!W7=1),0,IF(July!W16=1,$C15,0))","v":0},{"$f":"IF(OR(July!X6=1,July!X7=1),0,IF(July!X16=1,$C15,0))","v":0},{"$f":"IF(OR(July!Y6=1,July!Y7=1),0,IF(July!Y16=1,$C15,0))","v":0},{"$f":"IF(OR(July!Z6=1,July!Z7=1),0,IF(July!Z16=1,$C15,0))","v":0},{"$f":"IF(OR(July!AA6=1,July!AA7=1),0,IF(July!AA16=1,$C15,0))","v":0},{"$f":"IF(OR(July!AB6=1,July!AB7=1),0,IF(July!AB16=1,$C15,0))","v":0},{"$f":"IF(OR(July!AC6=1,July!AC7=1),0,IF(July!AC16=1,$C15,0))","v":0},{"$f":"IF(OR(July!AD6=1,July!AD7=1),0,IF(July!AD16=1,$C15,0))","v":0},{"$f":"IF(OR(July!AE6=1,July!AE7=1),0,IF(July!AE16=1,$C15,0))","v":0},{"$f":"IF(OR(July!AF6=1,July!AF7=1),0,IF(July!AF16=1,$C15,0))","v":0},{"$f":"IF(OR(July!AG6=1,July!AG7=1),0,IF(July!AG16=1,$C15,0))","v":0},{"$f":"IF(OR(July!AH6=1,July!AH7=1),0,IF(July!AH16=1,$C15,0))","v":0},0]
[{"$f":"July!A17","v":12},{"$f":"July!B17","v":"Vadilo Ne Page Lagvu"},{"$f":"July!C17","v":10},{"$f":"IF(July!D17=1,$C16,0)","v":0},{"$f":"IF(July!E17=1,$C16,0)","v":0},{"$f":"IF(July!F17=1,$C16,0)","v":0},{"$f":"IF(July!G17=1,$C16,0)","v":0},{"$f":"IF(July!H17=1,$C16,0)","v":0},{"$f":"IF(July!I17=1,$C16,0)","v":0},{"$f":"IF(July!J17=1,$C16,0)","v":0},{"$f":"IF(July!K17=1,$C16,0)","v":0},{"$f":"IF(July!L17=1,$C16,0)","v":0},{"$f":"IF(July!M17=1,$C16,0)","v":0},{"$f":"IF(July!N17=1,$C16,0)","v":0},{"$f":"IF(July!O17=1,$C16,0)","v":0},{"$f":"IF(July!P17=1,$C16,0)","v":0},{"$f":"IF(July!Q17=1,$C16,0)","v":0},{"$f":"IF(July!R17=1,$C16,0)","v":0},{"$f":"IF(July!S17=1,$C16,0)","v":0},{"$f":"IF(July!T17=1,$C16,0)","v":0},{"$f":"IF(July!U17=1,$C16,0)","v":0},{"$f":"IF(July!V17=1,$C16,0)","v":0},{"$f":"IF(July!W17=1,$C16,0)","v":0},{"$f":"IF(July!X17=1,$C16,0)","v":0},{"$f":"IF(July!Y17=1,$C16,0)","v":0},{"$f":"IF(July!Z17=1,$C16,0)","v":0},{"$f":"IF(July!AA17=1,$C16,0)","v":0},{"$f":"IF(July!AB17=1,$C16,0)","v":0},{"$f":"IF(July!AC17=1,$C16,0)","v":0},{"$f":"IF(July!AD17=1,$C16,0)","v":0},{"$f":"IF(July!AE17=1,$C16,0)","v":0},{"$f":"IF(July!AF17=1,$C16,0)","v":0},{"$f":"IF(July!AG17=1,$C16,0)","v":0},{"$f":"IF(July!AH17=1,$C16,0)","v":0},0]
[{"$f":"July!A18","v":13},{"$f":"July!B18","v":"No use of mobile, TV #"},{"$f":"July!C18","v":10},{"$f":"IF(July!D18=1,$C17,0)","v":0},{"$f":"IF(July!E18=1,$C17,0)","v":0},{"$f":"IF(July!F18=1,$C17,0)","v":0},{"$f":"IF(July!G18=1,$C17,0)","v":0},{"$f":"IF(July!H18=1,$C17,0)","v":0},{"$f":"IF(July!I18=1,$C17,0)","v":0},{"$f":"IF(July!J18=1,$C17,0)","v":0},{"$f":"IF(July!K18=1,$C17,0)","v":0},{"$f":"IF(July!L18=1,$C17,0)","v":0},{"$f":"IF(July!M18=1,$C17,0)","v":0},{"$f":"IF(July!N18=1,$C17,0)","v":0},{"$f":"IF(July!O18=1,$C17,0)","v":0},{"$f":"IF(July!P18=1,$C17,0)","v":0},{"$f":"IF(July!Q18=1,$C17,0)","v":0},{"$f":"IF(July!R18=1,$C17,0)","v":0},{"$f":"IF(July!S18=1,$C17,0)","v":0},{"$f":"IF(July!T18=1,$C17,0)","v":0},{"$f":"IF(July!U18=1,$C17,0)","v":0},{"$f":"IF(July!V18=1,$C17,0)","v":0},{"$f":"IF(July!W18=1,$C17,0)","v":0},{"$f":"IF(July!X18=1,$C17,0)","v":0},{"$f":"IF(July!Y18=1,$C17,0)","v":0},{"$f":"IF(July!Z18=1,$C17,0)","v":0},{"$f":"IF(July!AA18=1,$C17,0)","v":0},{"$f":"IF(July!AB18=1,$C17,0)","v":0},{"$f":"IF(July!AC18=1,$C17,0)","v":0},{"$f":"IF(July!AD18=1,$C17,0)","v":0},{"$f":"IF(July!AE18=1,$C17,0)","v":0},{"$f":"IF(July!AF18=1,$C17,0)","v":0},{"$f":"IF(July!AG18=1,$C17,0)","v":0},{"$f":"IF(July!AH18=1,$C17,0)","v":0},0]
[{"$f":"July!A19","v":14},{"$f":"July!B19","v":"Uthata 8 Navkar and Suta 7 Navkar"},{"$f":"July!C19","v":10},{"$f":"IF(July!D19=1,$C18,0)","v":0},{"$f":"IF(July!E19=1,$C18,0)","v":0},{"$f":"IF(July!F19=1,$C18,0)","v":0},{"$f":"IF(July!G19=1,$C18,0)","v":0},{"$f":"IF(July!H19=1,$C18,0)","v":0},{"$f":"IF(July!I19=1,$C18,0)","v":0},{"$f":"IF(July!J19=1,$C18,0)","v":0},{"$f":"IF(July!K19=1,$C18,0)","v":0},{"$f":"IF(July!L19=1,$C18,0)","v":0},{"$f":"IF(July!M19=1,$C18,0)","v":0},{"$f":"IF(July!N19=1,$C18,0)","v":0},{"$f":"IF(July!O19=1,$C18,0)","v":0},{"$f":"IF(July!P19=1,$C18,0)","v":0},{"$f":"IF(July!Q19=1,$C18,0)","v":0},{"$f":"IF(July!R19=1,$C18,0)","v":0},{"$f":"IF(July!S19=1,$C18,0)","v":0},{"$f":"IF(July!T19=1,$C18,0)","v":0},{"$f":"IF(July!U19=1,$C18,0)","v":0},{"$f":"IF(July!V19=1,$C18,0)","v":0},{"$f":"IF(July!W19=1,$C18,0)","v":0},{"$f":"IF(July!X19=1,$C18,0)","v":0},{"$f":"IF(July!Y19=1,$C18,0)","v":0},{"$f":"IF(July!Z19=1,$C18,0)","v":0},{"$f":"IF(July!AA19=1,$C18,0)","v":0},{"$f":"IF(July!AB19=1,$C18,0)","v":0},{"$f":"IF(July!AC19=1,$C18,0)","v":0},{"$f":"IF(July!AD19=1,$C18,0)","v":0},{"$f":"IF(July!AE19=1,$C18,0)","v":0},{"$f":"IF(July!AF19=1,$C18,0)","v":0},{"$f":"IF(July!AG19=1,$C18,0)","v":0},{"$f":"IF(July!AH19=1,$C18,0)","v":0},0]
[{"$f":"July!A20","v":15},{"$f":"July!B20","v":"No chocolate, ice cream"},{"$f":"July!C20","v":10},{"$f":"IF(July!D20=1,$C19,0)","v":0},{"$f":"IF(July!E20=1,$C19,0)","v":0},{"$f":"IF(July!F20=1,$C19,0)","v":0},{"$f":"IF(July!G20=1,$C19,0)","v":0},{"$f":"IF(July!H20=1,$C19,0)","v":0},{"$f":"IF(July!I20=1,$C19,0)","v":0},{"$f":"IF(July!J20=1,$C19,0)","v":0},{"$f":"IF(July!K20=1,$C19,0)","v":0},{"$f":"IF(July!L20=1,$C19,0)","v":0},{"$f":"IF(July!M20=1,$C19,0)","v":0},{"$f":"IF(July!N20=1,$C19,0)","v":0},{"$f":"IF(July!O20=1,$C19,0)","v":0},{"$f":"IF(July!P20=1,$C19,0)","v":0},{"$f":"IF(July!Q20=1,$C19,0)","v":0},{"$f":"IF(July!R20=1,$C19,0)","v":0},{"$f":"IF(July!S20=1,$C19,0)","v":0},{"$f":"IF(July!T20=1,$C19,0)","v":0},{"$f":"IF(July!U20=1,$C19,0)","v":0},{"$f":"IF(July!V20=1,$C19,0)","v":0},{"$f":"IF(July!W20=1,$C19,0)","v":0},{"$f":"IF(July!X20=1,$C19,0)","v":0},{"$f":"IF(July!Y20=1,$C19,0)","v":0},{"$f":"IF(July!Z20=1,$C19,0)","v":0},{"$f":"IF(July!AA20=1,$C19,0)","v":0},{"$f":"IF(July!AB20=1,$C19,0)","v":0},{"$f":"IF(July!AC20=1,$C19,0)","v":0},{"$f":"IF(July!AD20=1,$C19,0)","v":0},{"$f":"IF(July!AE20=1,$C19,0)","v":0},{"$f":"IF(July!AF20=1,$C19,0)","v":0},{"$f":"IF(July!AG20=1,$C19,0)","v":0},{"$f":"IF(July!AH20=1,$C19,0)","v":0},0]
[{"$f":"July!A21","v":16},{"$f":"July!B21","v":"Thali Dhoine Pivi"},{"$f":"July!C21","v":20},{"$f":"IF(July!D21=1,$C20,0)","v":0},{"$f":"IF(July!E21=1,$C20,0)","v":0},{"$f":"IF(July!F21=1,$C20,0)","v":0},{"$f":"IF(July!G21=1,$C20,0)","v":0},{"$f":"IF(July!H21=1,$C20,0)","v":0},{"$f":"IF(July!I21=1,$C20,0)","v":0},{"$f":"IF(July!J21=1,$C20,0)","v":0},{"$f":"IF(July!K21=1,$C20,0)","v":0},{"$f":"IF(July!L21=1,$C20,0)","v":0},{"$f":"IF(July!M21=1,$C20,0)","v":0},{"$f":"IF(July!N21=1,$C20,0)","v":0},{"$f":"IF(July!O21=1,$C20,0)","v":0},{"$f":"IF(July!P21=1,$C20,0)","v":0},{"$f":"IF(July!Q21=1,$C20,0)","v":0},{"$f":"IF(July!R21=1,$C20,0)","v":0},{"$f":"IF(July!S21=1,$C20,0)","v":0},{"$f":"IF(July!T21=1,$C20,0)","v":0},{"$f":"IF(July!U21=1,$C20,0)","v":0},{"$f":"IF(July!V21=1,$C20,0)","v":0},{"$f":"IF(July!W21=1,$C20,0)","v":0},{"$f":"IF(July!X21=1,$C20,0)","v":0},{"$f":"IF(July!Y21=1,$C20,0)","v":0},{"$f":"IF(July!Z21=1,$C20,0)","v":0},{"$f":"IF(July!AA21=1,$C20,0)","v":0},{"$f":"IF(July!AB21=1,$C20,0)","v":0},{"$f":"IF(July!AC21=1,$C20,0)","v":0},{"$f":"IF(July!AD21=1,$C20,0)","v":0},{"$f":"IF(July!AE21=1,$C20,0)","v":0},{"$f":"IF(July!AF21=1,$C20,0)","v":0},{"$f":"IF(July!AG21=1,$C20,0)","v":0},{"$f":"IF(July!AH21=1,$C20,0)","v":0},0]
[{"$f":"July!A22","v":17},{"$f":"July!B22","v":"No Bread & No Butter"},{"$f":"July!C22","v":20},{"$f":"IF(July!D22=1,$C21,0)","v":0},{"$f":"IF(July!E22=1,$C21,0)","v":0},{"$f":"IF(July!F22=1,$C21,0)","v":0},{"$f":"IF(July!G22=1,$C21,0)","v":0},{"$f":"IF(July!H22=1,$C21,0)","v":0},{"$f":"IF(July!I22=1,$C21,0)","v":0},{"$f":"IF(July!J22=1,$C21,0)","v":0},{"$f":"IF(July!K22=1,$C21,0)","v":0},{"$f":"IF(July!L22=1,$C21,0)","v":0},{"$f":"IF(July!M22=1,$C21,0)","v":0},{"$f":"IF(July!N22=1,$C21,0)","v":0},{"$f":"IF(July!O22=1,$C21,0)","v":0},{"$f":"IF(July!P22=1,$C21,0)","v":0},{"$f":"IF(July!Q22=1,$C21,0)","v":0},{"$f":"IF(July!R22=1,$C21,0)","v":0},{"$f":"IF(July!S22=1,$C21,0)","v":0},{"$f":"IF(July!T22=1,$C21,0)","v":0},{"$f":"IF(July!U22=1,$C21,0)","v":0},{"$f":"IF(July!V22=1,$C21,0)","v":0},{"$f":"IF(July!W22=1,$C21,0)","v":0},{"$f":"IF(July!X22=1,$C21,0)","v":0},{"$f":"IF(July!Y22=1,$C21,0)","v":0},{"$f":"IF(July!Z22=1,$C21,0)","v":0},{"$f":"IF(July!AA22=1,$C21,0)","v":0},{"$f":"IF(July!AB22=1,$C21,0)","v":0},{"$f":"IF(July!AC22=1,$C21,0)","v":0},{"$f":"IF(July!AD22=1,$C21,0)","v":0},{"$f":"IF(July!AE22=1,$C21,0)","v":0},{"$f":"IF(July!AF22=1,$C21,0)","v":0},{"$f":"IF(July!AG22=1,$C21,0)","v":0},{"$f":"IF(July!AH22=1,$C21,0)","v":0},0]
[{"$f":"July!A23","v":18},{"$f":"July!B23","v":"No Root Vegetables"},{"$f":"July!C23","v":10},{"$f":"IF(July!D23=1,$C22,0)","v":0},{"$f":"IF(July!E23=1,$C22,0)","v":0},{"$f":"IF(July!F23=1,$C22,0)","v":0},{"$f":"IF(July!G23=1,$C22,0)","v":0},{"$f":"IF(July!H23=1,$C22,0)","v":0},{"$f":"IF(July!I23=1,$C22,0)","v":0},{"$f":"IF(July!J23=1,$C22,0)","v":0},{"$f":"IF(July!K23=1,$C22,0)","v":0},{"$f":"IF(July!L23=1,$C22,0)","v":0},{"$f":"IF(July!M23=1,$C22,0)","v":0},{"$f":"IF(July!N23=1,$C22,0)","v":0},{"$f":"IF(July!O23=1,$C22,0)","v":0},{"$f":"IF(July!P23=1,$C22,0)","v":0},{"$f":"IF(July!Q23=1,$C22,0)","v":0},{"$f":"IF(July!R23=1,$C22,0)","v":0},{"$f":"IF(July!S23=1,$C22,0)","v":0},{"$f":"IF(July!T23=1,$C22,0)","v":0},{"$f":"IF(July!U23=1,$C22,0)","v":0},{"$f":"IF(July!V23=1,$C22,0)","v":0},{"$f":"IF(July!W23=1,$C22,0)","v":0},{"$f":"IF(July!X23=1,$C22,0)","v":0},{"$f":"IF(July!Y23=1,$C22,0)","v":0},{"$f":"IF(July!Z23=1,$C22,0)","v":0},{"$f":"IF(July!AA23=1,$C22,0)","v":0},{"$f":"IF(July!AB23=1,$C22,0)","v":0},{"$f":"IF(July!AC23=1,$C22,0)","v":0},{"$f":"IF(July!AD23=1,$C22,0)","v":0},{"$f":"IF(July!AE23=1,$C22,0)","v":0},{"$f":"IF(July!AF23=1,$C22,0)","v":0},{"$f":"IF(July!AG23=1,$C22,0)","v":0},{"$f":"IF(July!AH23=1,$C22,0)","v":0},0]
[{"$f":"July!A24","v":19},{"$f":"July!B24","v":"Read/Listen Jain Bodh Katha"},{"$f":"July!C24","v":10},{"$f":"IF(July!D24=1,$C23,0)","v":0},{"$f":"IF(July!E24=1,$C23,0)","v":0},{"$f":"IF(July!F24=1,$C23,0)","v":0},{"$f":"IF(July!G24=1,$C23,0)","v":0},{"$f":"IF(July!H24=1,$C23,0)","v":0},{"$f":"IF(July!I24=1,$C23,0)","v":0},{"$f":"IF(July!J24=1,$C23,0)","v":0},{"$f":"IF(July!K24=1,$C23,0)","v":0},{"$f":"IF(July!L24=1,$C23,0)","v":0},{"$f":"IF(July!M24=1,$C23,0)","v":0},{"$f":"IF(July!N24=1,$C23,0)","v":0},{"$f":"IF(July!O24=1,$C23,0)","v":0},{"$f":"IF(July!P24=1,$C23,0)","v":0},{"$f":"IF(July!Q24=1,$C23,0)","v":0},{"$f":"IF(July!R24=1,$C23,0)","v":0},{"$f":"IF(July!S24=1,$C23,0)","v":0},{"$f":"IF(July!T24=1,$C23,0)","v":0},{"$f":"IF(July!U24=1,$C23,0)","v":0},{"$f":"IF(July!V24=1,$C23,0)","v":0},{"$f":"IF(July!W24=1,$C23,0)","v":0},{"$f":"IF(July!X24=1,$C23,0)","v":0},{"$f":"IF(July!Y24=1,$C23,0)","v":0},{"$f":"IF(July!Z24=1,$C23,0)","v":0},{"$f":"IF(July!AA24=1,$C23,0)","v":0},{"$f":"IF(July!AB24=1,$C23,0)","v":0},{"$f":"IF(July!AC24=1,$C23,0)","v":0},{"$f":"IF(July!AD24=1,$C23,0)","v":0},{"$f":"IF(July!AE24=1,$C23,0)","v":0},{"$f":"IF(July!AF24=1,$C23,0)","v":0},{"$f":"IF(July!AG24=1,$C23,0)","v":0},{"$f":"IF(July!AH24=1,$C23,0)","v":0},0]
[{"$f":"July!A25","v":20},{"$f":"July!B25","v":"Recite Gyan na 5 Duha & 5 Khamasana"},{"$f":"July!C25","v":10},{"$f":"IF(July!D25=1,$C24,0)","v":0},{"$f":"IF(July!E25=1,$C24,0)","v":0},{"$f":"IF(July!F25=1,$C24,0)","v":0},{"$f":"IF(July!G25=1,$C24,0)","v":0},{"$f":"IF(July!H25=1,$C24,0)","v":0},{"$f":"IF(July!I25=1,$C24,0)","v":0},{"$f":"IF(July!J25=1,$C24,0)","v":0},{"$f":"IF(July!K25=1,$C24,0)","v":0},{"$f":"IF(July!L25=1,$C24,0)","v":0},{"$f":"IF(July!M25=1,$C24,0)","v":0},{"$f":"IF(July!N25=1,$C24,0)","v":0},{"$f":"IF(July!O25=1,$C24,0)","v":0},{"$f":"IF(July!P25=1,$C24,0)","v":0},{"$f":"IF(July!Q25=1,$C24,0)","v":0},{"$f":"IF(July!R25=1,$C24,0)","v":0},{"$f":"IF(July!S25=1,$C24,0)","v":0},{"$f":"IF(July!T25=1,$C24,0)","v":0},{"$f":"IF(July!U25=1,$C24,0)","v":0},{"$f":"IF(July!V25=1,$C24,0)","v":0},{"$f":"IF(July!W25=1,$C24,0)","v":0},{"$f":"IF(July!X25=1,$C24,0)","v":0},{"$f":"IF(July!Y25=1,$C24,0)","v":0},{"$f":"IF(July!Z25=1,$C24,0)","v":0},{"$f":"IF(July!AA25=1,$C24,0)","v":0},{"$f":"IF(July!AB25=1,$C24,0)","v":0},{"$f":"IF(July!AC25=1,$C24,0)","v":0},{"$f":"IF(July!AD25=1,$C24,0)","v":0},{"$f":"IF(July!AE25=1,$C24,0)","v":0},{"$f":"IF(July!AF25=1,$C24,0)","v":0},{"$f":"IF(July!AG25=1,$C24,0)","v":0},{"$f":"IF(July!AH25=1,$C24,0)","v":0},0]
[{"$f":"July!A26","v":21},{"$f":"July!B26","v":"No fruits and vegetables on Tithi days"},{"$f":"July!C26","v":15},{"$f":"IF(July!D26=1,$C25,0)","v":0},{"$f":"IF(July!E26=1,$C25,0)","v":0},{"$f":"IF(July!F26=1,$C25,0)","v":0},{"$f":"IF(July!G26=1,$C25,0)","v":0},{"$f":"IF(July!H26=1,$C25,0)","v":0},{"$f":"IF(July!I26=1,$C25,0)","v":0},{"$f":"IF(July!J26=1,$C25,0)","v":0},{"$f":"IF(July!K26=1,$C25,0)","v":0},{"$f":"IF(July!L26=1,$C25,0)","v":0},{"$f":"IF(July!M26=1,$C25,0)","v":0},{"$f":"IF(July!N26=1,$C25,0)","v":0},{"$f":"IF(July!O26=1,$C25,0)","v":0},{"$f":"IF(July!P26=1,$C25,0)","v":0},{"$f":"IF(July!Q26=1,$C25,0)","v":0},{"$f":"IF(July!R26=1,$C25,0)","v":0},{"$f":"IF(July!S26=1,$C25,0)","v":0},{"$f":"IF(July!T26=1,$C25,0)","v":0},{"$f":"IF(July!U26=1,$C25,0)","v":0},{"$f":"IF(July!V26=1,$C25,0)","v":0},{"$f":"IF(July!W26=1,$C25,0)","v":0},{"$f":"IF(July!X26=1,$C25,0)","v":0},{"$f":"IF(July!Y26=1,$C25,0)","v":0},{"$f":"IF(July!Z26=1,$C25,0)","v":0},{"$f":"IF(July!AA26=1,$C25,0)","v":0},{"$f":"IF(July!AB26=1,$C25,0)","v":0},{"$f":"IF(July!AC26=1,$C25,0)","v":0},{"$f":"IF(July!AD26=1,$C25,0)","v":0},{"$f":"IF(July!AE26=1,$C25,0)","v":0},{"$f":"IF(July!AF26=1,$C25,0)","v":0},{"$f":"IF(July!AG26=1,$C25,0)","v":0},{"$f":"IF(July!AH26=1,$C25,0)","v":0},0]
[{"$f":"July!A27","v":22},{"$f":"July!B27","v":"Sva Dravya Akshat, Naivedya and Fal Pooja $"},{"$f":"July!C27","v":15},{"$f":"IF(July!D27=1,$C26,0)","v":0},{"$f":"IF(July!E27=1,$C26,0)","v":0},{"$f":"IF(July!F27=1,$C26,0)","v":0},{"$f":"IF(July!G27=1,$C26,0)","v":0},{"$f":"IF(July!H27=1,$C26,0)","v":0},{"$f":"IF(July!I27=1,$C26,0)","v":0},{"$f":"IF(July!J27=1,$C26,0)","v":0},{"$f":"IF(July!K27=1,$C26,0)","v":0},{"$f":"IF(July!L27=1,$C26,0)","v":0},{"$f":"IF(July!M27=1,$C26,0)","v":0},{"$f":"IF(July!N27=1,$C26,0)","v":0},{"$f":"IF(July!O27=1,$C26,0)","v":0},{"$f":"IF(July!P27=1,$C26,0)","v":0},{"$f":"IF(July!Q27=1,$C26,0)","v":0},{"$f":"IF(July!R27=1,$C26,0)","v":0},{"$f":"IF(July!S27=1,$C26,0)","v":0},{"$f":"IF(July!T27=1,$C26,0)","v":0},{"$f":"IF(July!U27=1,$C26,0)","v":0},{"$f":"IF(July!V27=1,$C26,0)","v":0},{"$f":"IF(July!W27=1,$C26,0)","v":0},{"$f":"IF(July!X27=1,$C26,0)","v":0},{"$f":"IF(July!Y27=1,$C26,0)","v":0},{"$f":"IF(July!Z27=1,$C26,0)","v":0},{"$f":"IF(July!AA27=1,$C26,0)","v":0},{"$f":"IF(July!AB27=1,$C26,0)","v":0},{"$f":"IF(July!AC27=1,$C26,0)","v":0},{"$f":"IF(July!AD27=1,$C26,0)","v":0},{"$f":"IF(July!AE27=1,$C26,0)","v":0},{"$f":"IF(July!AF27=1,$C26,0)","v":0},{"$f":"IF(July!AG27=1,$C26,0)","v":0},{"$f":"IF(July!AH27=1,$C26,0)","v":0},0]
[{"$f":"July!A28","v":23},{"$f":"July!B28","v":"Use of bucket instead of shower"},{"$f":"July!C28","v":10},{"$f":"IF(July!D28=1,$C27,0)","v":0},{"$f":"IF(July!E28=1,$C27,0)","v":0},{"$f":"IF(July!F28=1,$C27,0)","v":0},{"$f":"IF(July!G28=1,$C27,0)","v":0},{"$f":"IF(July!H28=1,$C27,0)","v":0},{"$f":"IF(July!I28=1,$C27,0)","v":0},{"$f":"IF(July!J28=1,$C27,0)","v":0},{"$f":"IF(July!K28=1,$C27,0)","v":0},{"$f":"IF(July!L28=1,$C27,0)","v":0},{"$f":"IF(July!M28=1,$C27,0)","v":0},{"$f":"IF(July!N28=1,$C27,0)","v":0},{"$f":"IF(July!O28=1,$C27,0)","v":0},{"$f":"IF(July!P28=1,$C27,0)","v":0},{"$f":"IF(July!Q28=1,$C27,0)","v":0},{"$f":"IF(July!R28=1,$C27,0)","v":0},{"$f":"IF(July!S28=1,$C27,0)","v":0},{"$f":"IF(July!T28=1,$C27,0)","v":0},{"$f":"IF(July!U28=1,$C27,0)","v":0},{"$f":"IF(July!V28=1,$C27,0)","v":0},{"$f":"IF(July!W28=1,$C27,0)","v":0},{"$f":"IF(July!X28=1,$C27,0)","v":0},{"$f":"IF(July!Y28=1,$C27,0)","v":0},{"$f":"IF(July!Z28=1,$C27,0)","v":0},{"$f":"IF(July!AA28=1,$C27,0)","v":0},{"$f":"IF(July!AB28=1,$C27,0)","v":0},{"$f":"IF(July!AC28=1,$C27,0)","v":0},{"$f":"IF(July!AD28=1,$C27,0)","v":0},{"$f":"IF(July!AE28=1,$C27,0)","v":0},{"$f":"IF(July!AF28=1,$C27,0)","v":0},{"$f":"IF(July!AG28=1,$C27,0)","v":0},{"$f":"IF(July!AH28=1,$C27,0)","v":0},0]
[{"$f":"July!A29","v":24},{"$f":"July!B29","v":"Recite Navkar Mantra Mala"},{"$f":"July!C29","v":10},{"$f":"IF(July!D29=1,$C28,0)","v":0},{"$f":"IF(July!E29=1,$C28,0)","v":0},{"$f":"IF(July!F29=1,$C28,0)","v":0},{"$f":"IF(July!G29=1,$C28,0)","v":0},{"$f":"IF(July!H29=1,$C28,0)","v":0},{"$f":"IF(July!I29=1,$C28,0)","v":0},{"$f":"IF(July!J29=1,$C28,0)","v":0},{"$f":"IF(July!K29=1,$C28,0)","v":0},{"$f":"IF(July!L29=1,$C28,0)","v":0},{"$f":"IF(July!M29=1,$C28,0)","v":0},{"$f":"IF(July!N29=1,$C28,0)","v":0},{"$f":"IF(July!O29=1,$C28,0)","v":0},{"$f":"IF(July!P29=1,$C28,0)","v":0},{"$f":"IF(July!Q29=1,$C28,0)","v":0},{"$f":"IF(July!R29=1,$C28,0)","v":0},{"$f":"IF(July!S29=1,$C28,0)","v":0},{"$f":"IF(July!T29=1,$C28,0)","v":0},{"$f":"IF(July!U29=1,$C28,0)","v":0},{"$f":"IF(July!V29=1,$C28,0)","v":0},{"$f":"IF(July!W29=1,$C28,0)","v":0},{"$f":"IF(July!X29=1,$C28,0)","v":0},{"$f":"IF(July!Y29=1,$C28,0)","v":0},{"$f":"IF(July!Z29=1,$C28,0)","v":0},{"$f":"IF(July!AA29=1,$C28,0)","v":0},{"$f":"IF(July!AB29=1,$C28,0)","v":0},{"$f":"IF(July!AC29=1,$C28,0)","v":0},{"$f":"IF(July!AD29=1,$C28,0)","v":0},{"$f":"IF(July!AE29=1,$C28,0)","v":0},{"$f":"IF(July!AF29=1,$C28,0)","v":0},{"$f":"IF(July!AG29=1,$C28,0)","v":0},{"$f":"IF(July!AH29=1,$C28,0)","v":0},0]
[null,{"$f":"July!B30","v":"Total"},null,{"$f":"SUM(D5:D28)","v":0},{"$f":"SUM(E5:E28)","v":0},0,0,0,0,0,0,0,0,0,0,0,0,0,0,0,0,0,0,0,0,0,0,0,0,0,0,0,0,0,{"$f":"SUM(AI5:AI28)","v":0}]

{"sheet":"CalcAug","index":11,"n_rows":29,"n_cols":35,"rows_kept":29,"cut":false,"hidden":true,"merged":[]}
[]
[]
[]
["No","Niyam","Points",{"$f":"August!D4","v":"2020-08-01"},{"$f":"August!E4","v":"2020-08-02"},{"$f":"August!F4","v":"2020-08-03"},{"$f":"August!G4","v":"2020-08-04"},{"$f":"August!H4","v":"2020-08-05"},{"$f":"August!I4","v":"2020-08-06"},{"$f":"August!J4","v":"2020-08-07"},{"$f":"August!K4","v":"2020-08-08"},{"$f":"August!L4","v":"2020-08-09"},{"$f":"August!M4","v":"2020-08-10"},{"$f":"August!N4","v":"2020-08-11"},{"$f":"August!O4","v":"2020-08-12"},{"$f":"August!P4","v":"2020-08-13"},{"$f":"August!Q4","v":"2020-08-14"},{"$f":"August!R4","v":"2020-08-15"},{"$f":"August!S4","v":"2020-08-16"},{"$f":"August!T4","v":"2020-08-17"},{"$f":"August!U4","v":"2020-08-18"},{"$f":"August!V4","v":"2020-08-19"},{"$f":"August!W4","v":"2020-08-20"},{"$f":"August!X4","v":"2020-08-21"},{"$f":"August!Y4","v":"2020-08-22"},{"$f":"August!Z4","v":"2020-08-23"},{"$f":"August!AA4","v":"2020-08-24"},{"$f":"August!AB4","v":"2020-08-25"},{"$f":"August!AC4","v":"2020-08-26"},{"$f":"August!AD4","v":"2020-08-27"},{"$f":"August!AE4","v":"2020-08-28"},{"$f":"August!AF4","v":"2020-08-29"},{"$f":"August!AG4","v":"2020-08-30"},{"$f":"August!AH4","v":"2020-08-31"},"August Total"]
[{"$f":"August!A6","v":1},{"$f":"August!B6","v":"Upvaas/Aayambil"},{"$f":"August!C6","v":70},{"$f":"IF(AND(August!D6=1,August!D7=1),0,IF(August!D6=1,$C5,0))","v":0},{"$f":"IF(AND(August!E6=1,August!E7=1),0,IF(August!E6=1,$C5,0))","v":0},{"$f":"IF(AND(August!F6=1,August!F7=1),0,IF(August!F6=1,$C5,0))","v":0},{"$f":"IF(AND(August!G6=1,August!G7=1),0,IF(August!G6=1,$C5,0))","v":0},{"$f":"IF(AND(August!H6=1,August!H7=1),0,IF(August!H6=1,$C5,0))","v":0},{"$f":"IF(AND(August!I6=1,August!I7=1),0,IF(August!I6=1,$C5,0))","v":0},{"$f":"IF(AND(August!J6=1,August!J7=1),0,IF(August!J6=1,$C5,0))","v":0},{"$f":"IF(AND(August!K6=1,August!K7=1),0,IF(August!K6=1,$C5,0))","v":0},{"$f":"IF(AND(August!L6=1,August!L7=1),0,IF(August!L6=1,$C5,0))","v":0},{"$f":"IF(AND(August!M6=1,August!M7=1),0,IF(August!M6=1,$C5,0))","v":0},{"$f":"IF(AND(August!N6=1,August!N7=1),0,IF(August!N6=1,$C5,0))","v":0},{"$f":"IF(AND(August!O6=1,August!O7=1),0,IF(August!O6=1,$C5,0))","v":0},{"$f":"IF(AND(August!P6=1,August!P7=1),0,IF(August!P6=1,$C5,0))","v":0},{"$f":"IF(AND(August!Q6=1,August!Q7=1),0,IF(August!Q6=1,$C5,0))","v":0},{"$f":"IF(AND(August!R6=1,August!R7=1),0,IF(August!R6=1,$C5,0))","v":0},{"$f":"IF(AND(August!S6=1,August!S7=1),0,IF(August!S6=1,$C5,0))","v":0},{"$f":"IF(AND(August!T6=1,August!T7=1),0,IF(August!T6=1,$C5,0))","v":0},{"$f":"IF(AND(August!U6=1,August!U7=1),0,IF(August!U6=1,$C5,0))","v":0},{"$f":"IF(AND(August!V6=1,August!V7=1),0,IF(August!V6=1,$C5,0))","v":0},{"$f":"IF(AND(August!W6=1,August!W7=1),0,IF(August!W6=1,$C5,0))","v":0},{"$f":"IF(AND(August!X6=1,August!X7=1),0,IF(August!X6=1,$C5,0))","v":0},{"$f":"IF(AND(August!Y6=1,August!Y7=1),0,IF(August!Y6=1,$C5,0))","v":0},{"$f":"IF(AND(August!Z6=1,August!Z7=1),0,IF(August!Z6=1,$C5,0))","v":0},{"$f":"IF(AND(August!AA6=1,August!AA7=1),0,IF(August!AA6=1,$C5,0))","v":0},{"$f":"IF(AND(August!AB6=1,August!AB7=1),0,IF(August!AB6=1,$C5,0))","v":0},{"$f":"IF(AND(August!AC6=1,August!AC7=1),0,IF(August!AC6=1,$C5,0))","v":0},{"$f":"IF(AND(August!AD6=1,August!AD7=1),0,IF(August!AD6=1,$C5,0))","v":0},{"$f":"IF(AND(August!AE6=1,August!AE7=1),0,IF(August!AE6=1,$C5,0))","v":0},{"$f":"IF(AND(August!AF6=1,August!AF7=1),0,IF(August!AF6=1,$C5,0))","v":0},{"$f":"IF(AND(August!AG6=1,August!AG7=1),0,IF(August!AG6=1,$C5,0))","v":0},{"$f":"IF(AND(August!AH6=1,August!AH7=1),0,IF(August!AH6=1,$C5,0))","v":0},{"$f":"SUM(D5:AH5)","v":0}]
[{"$f":"August!A7","v":2},{"$f":"August!B7","v":"Ekasanu/Biyasanu"},{"$f":"August!C7","v":60},{"$f":"IF(AND(August!D6=1,August!D7=1),0,IF(August!D7=1,$C6,0))","v":0},{"$f":"IF(AND(August!E6=1,August!E7=1),0,IF(August!E7=1,$C6,0))","v":0},{"$f":"IF(AND(August!F6=1,August!F7=1),0,IF(August!F7=1,$C6,0))","v":0},{"$f":"IF(AND(August!G6=1,August!G7=1),0,IF(August!G7=1,$C6,0))","v":0},{"$f":"IF(AND(August!H6=1,August!H7=1),0,IF(August!H7=1,$C6,0))","v":0},{"$f":"IF(AND(August!I6=1,August!I7=1),0,IF(August!I7=1,$C6,0))","v":0},{"$f":"IF(AND(August!J6=1,August!J7=1),0,IF(August!J7=1,$C6,0))","v":0},{"$f":"IF(AND(August!K6=1,August!K7=1),0,IF(August!K7=1,$C6,0))","v":0},{"$f":"IF(AND(August!L6=1,August!L7=1),0,IF(August!L7=1,$C6,0))","v":0},{"$f":"IF(AND(August!M6=1,August!M7=1),0,IF(August!M7=1,$C6,0))","v":0},{"$f":"IF(AND(August!N6=1,August!N7=1),0,IF(August!N7=1,$C6,0))","v":0},{"$f":"IF(AND(August!O6=1,August!O7=1),0,IF(August!O7=1,$C6,0))","v":0},{"$f":"IF(AND(August!P6=1,August!P7=1),0,IF(August!P7=1,$C6,0))","v":0},{"$f":"IF(AND(August!Q6=1,August!Q7=1),0,IF(August!Q7=1,$C6,0))","v":0},{"$f":"IF(AND(August!R6=1,August!R7=1),0,IF(August!R7=1,$C6,0))","v":0},{"$f":"IF(AND(August!S6=1,August!S7=1),0,IF(August!S7=1,$C6,0))","v":0},{"$f":"IF(AND(August!T6=1,August!T7=1),0,IF(August!T7=1,$C6,0))","v":0},{"$f":"IF(AND(August!U6=1,August!U7=1),0,IF(August!U7=1,$C6,0))","v":0},{"$f":"IF(AND(August!V6=1,August!V7=1),0,IF(August!V7=1,$C6,0))","v":0},{"$f":"IF(AND(August!W6=1,August!W7=1),0,IF(August!W7=1,$C6,0))","v":0},{"$f":"IF(AND(August!X6=1,August!X7=1),0,IF(August!X7=1,$C6,0))","v":0},{"$f":"IF(AND(August!Y6=1,August!Y7=1),0,IF(August!Y7=1,$C6,0))","v":0},{"$f":"IF(AND(August!Z6=1,August!Z7=1),0,IF(August!Z7=1,$C6,0))","v":0},{"$f":"IF(AND(August!AA6=1,August!AA7=1),0,IF(August!AA7=1,$C6,0))","v":0},{"$f":"IF(AND(August!AB6=1,August!AB7=1),0,IF(August!AB7=1,$C6,0))","v":0},{"$f":"IF(AND(August!AC6=1,August!AC7=1),0,IF(August!AC7=1,$C6,0))","v":0},{"$f":"IF(AND(August!AD6=1,August!AD7=1),0,IF(August!AD7=1,$C6,0))","v":0},{"$f":"IF(AND(August!AE6=1,August!AE7=1),0,IF(August!AE7=1,$C6,0))","v":0},{"$f":"IF(AND(August!AF6=1,August!AF7=1),0,IF(August!AF7=1,$C6,0))","v":0},{"$f":"IF(AND(August!AG6=1,August!AG7=1),0,IF(August!AG7=1,$C6,0))","v":0},{"$f":"IF(AND(August!AH6=1,August!AH7=1),0,IF(August!AH7=1,$C6,0))","v":0},0]
[{"$f":"August!A8","v":3},{"$f":"August!B8","v":"Chandan Pooja on weekend"},{"$f":"August!C8","v":40},{"$f":"IF(WEEKDAY(D$4,2)>5,IF(August!D8=1,$C7,0),0)","v":0},{"$f":"IF(WEEKDAY(E$4,2)>5,IF(August!E8=1,$C7,0),0)","v":0},{"$f":"IF(WEEKDAY(F$4,2)>5,IF(August!F8=1,$C7,0),0)","v":0},{"$f":"IF(WEEKDAY(G$4,2)>5,IF(August!G8=1,$C7,0),0)","v":0},{"$f":"IF(WEEKDAY(H$4,2)>5,IF(August!H8=1,$C7,0),0)","v":0},{"$f":"IF(WEEKDAY(I$4,2)>5,IF(August!I8=1,$C7,0),0)","v":0},{"$f":"IF(WEEKDAY(J$4,2)>5,IF(August!J8=1,$C7,0),0)","v":0},{"$f":"IF(WEEKDAY(K$4,2)>5,IF(August!K8=1,$C7,0),0)","v":0},{"$f":"IF(WEEKDAY(L$4,2)>5,IF(August!L8=1,$C7,0),0)","v":0},{"$f":"IF(WEEKDAY(M$4,2)>5,IF(August!M8=1,$C7,0),0)","v":0},{"$f":"IF(WEEKDAY(N$4,2)>5,IF(August!N8=1,$C7,0),0)","v":0},{"$f":"IF(WEEKDAY(O$4,2)>5,IF(August!O8=1,$C7,0),0)","v":0},{"$f":"IF(WEEKDAY(P$4,2)>5,IF(August!P8=1,$C7,0),0)","v":0},{"$f":"IF(WEEKDAY(Q$4,2)>5,IF(August!Q8=1,$C7,0),0)","v":0},{"$f":"IF(WEEKDAY(R$4,2)>5,IF(August!R8=1,$C7,0),0)","v":0},{"$f":"IF(WEEKDAY(S$4,2)>5,IF(August!S8=1,$C7,0),0)","v":0},{"$f":"IF(WEEKDAY(T$4,2)>5,IF(August!T8=1,$C7,0),0)","v":0},{"$f":"IF(WEEKDAY(U$4,2)>5,IF(August!U8=1,$C7,0),0)","v":0},{"$f":"IF(WEEKDAY(V$4,2)>5,IF(August!V8=1,$C7,0),0)","v":0},{"$f":"IF(WEEKDAY(W$4,2)>5,IF(August!W8=1,$C7,0),0)","v":0},{"$f":"IF(WEEKDAY(X$4,2)>5,IF(August!X8=1,$C7,0),0)","v":0},{"$f":"IF(WEEKDAY(Y$4,2)>5,IF(August!Y8=1,$C7,0),0)","v":0},{"$f":"IF(WEEKDAY(Z$4,2)>5,IF(August!Z8=1,$C7,0),0)","v":0},{"$f":"IF(WEEKDAY(AA$4,2)>5,IF(August!AA8=1,$C7,0),0)","v":0},{"$f":"IF(WEEKDAY(AB$4,2)>5,IF(August!AB8=1,$C7,0),0)","v":0},{"$f":"IF(WEEKDAY(AC$4,2)>5,IF(August!AC8=1,$C7,0),0)","v":0},{"$f":"IF(WEEKDAY(AD$4,2)>5,IF(August!AD8=1,$C7,0),0)","v":0},{"$f":"IF(WEEKDAY(AE$4,2)>5,IF(August!AE8=1,$C7,0),0)","v":0},{"$f":"IF(WEEKDAY(AF$4,2)>5,IF(August!AF8=1,$C7,0),0)","v":0},{"$f":"IF(WEEKDAY(AG$4,2)>5,IF(August!AG8=1,$C7,0),0)","v":0},{"$f":"IF(WEEKDAY(AH$4,2)>5,IF(August!AH8=1,$C7,0),0)","v":0},0]
[{"$f":"August!A9","v":4},{"$f":"August!B9","v":"Samayik/Pratikraman"},{"$f":"August!C9","v":50},{"$f":"IF(August!D9=1,$C8,0)","v":0},{"$f":"IF(August!E9=1,$C8,0)","v":0},{"$f":"IF(August!F9=1,$C8,0)","v":0},{"$f":"IF(August!G9=1,$C8,0)","v":0},{"$f":"IF(August!H9=1,$C8,0)","v":0},{"$f":"IF(August!I9=1,$C8,0)","v":0},{"$f":"IF(August!J9=1,$C8,0)","v":0},{"$f":"IF(August!K9=1,$C8,0)","v":0},{"$f":"IF(August!L9=1,$C8,0)","v":0},{"$f":"IF(August!M9=1,$C8,0)","v":0},{"$f":"IF(August!N9=1,$C8,0)","v":0},{"$f":"IF(August!O9=1,$C8,0)","v":0},{"$f":"IF(August!P9=1,$C8,0)","v":0},{"$f":"IF(August!Q9=1,$C8,0)","v":0},{"$f":"IF(August!R9=1,$C8,0)","v":0},{"$f":"IF(August!S9=1,$C8,0)","v":0},{"$f":"IF(August!T9=1,$C8,0)","v":0},{"$f":"IF(August!U9=1,$C8,0)","v":0},{"$f":"IF(August!V9=1,$C8,0)","v":0},{"$f":"IF(August!W9=1,$C8,0)","v":0},{"$f":"IF(August!X9=1,$C8,0)","v":0},{"$f":"IF(August!Y9=1,$C8,0)","v":0},{"$f":"IF(August!Z9=1,$C8,0)","v":0},{"$f":"IF(August!AA9=1,$C8,0)","v":0},{"$f":"IF(August!AB9=1,$C8,0)","v":0},{"$f":"IF(August!AC9=1,$C8,0)","v":0},{"$f":"IF(August!AD9=1,$C8,0)","v":0},{"$f":"IF(August!AE9=1,$C8,0)","v":0},{"$f":"IF(August!AF9=1,$C8,0)","v":0},{"$f":"IF(August!AG9=1,$C8,0)","v":0},{"$f":"IF(August!AH9=1,$C8,0)","v":0},0]
[{"$f":"August!A10","v":5},{"$f":"August!B10","v":"Learn Sutra/Stuti for 15 mins"},{"$f":"August!C10","v":30},{"$f":"IF(August!D10=1,$C9,0)","v":0},{"$f":"IF(August!E10=1,$C9,0)","v":0},{"$f":"IF(August!F10=1,$C9,0)","v":0},{"$f":"IF(August!G10=1,$C9,0)","v":0},{"$f":"IF(August!H10=1,$C9,0)","v":0},{"$f":"IF(August!I10=1,$C9,0)","v":0},{"$f":"IF(August!J10=1,$C9,0)","v":0},{"$f":"IF(August!K10=1,$C9,0)","v":0},{"$f":"IF(August!L10=1,$C9,0)","v":0},{"$f":"IF(August!M10=1,$C9,0)","v":0},{"$f":"IF(August!N10=1,$C9,0)","v":0},{"$f":"IF(August!O10=1,$C9,0)","v":0},{"$f":"IF(August!P10=1,$C9,0)","v":0},{"$f":"IF(August!Q10=1,$C9,0)","v":0},{"$f":"IF(August!R10=1,$C9,0)","v":0},{"$f":"IF(August!S10=1,$C9,0)","v":0},{"$f":"IF(August!T10=1,$C9,0)","v":0},{"$f":"IF(August!U10=1,$C9,0)","v":0},{"$f":"IF(August!V10=1,$C9,0)","v":0},{"$f":"IF(August!W10=1,$C9,0)","v":0},{"$f":"IF(August!X10=1,$C9,0)","v":0},{"$f":"IF(August!Y10=1,$C9,0)","v":0},{"$f":"IF(August!Z10=1,$C9,0)","v":0},{"$f":"IF(August!AA10=1,$C9,0)","v":0},{"$f":"IF(August!AB10=1,$C9,0)","v":0},{"$f":"IF(August!AC10=1,$C9,0)","v":0},{"$f":"IF(August!AD10=1,$C9,0)","v":0},{"$f":"IF(August!AE10=1,$C9,0)","v":0},{"$f":"IF(August!AF10=1,$C9,0)","v":0},{"$f":"IF(August!AG10=1,$C9,0)","v":0},{"$f":"IF(August!AH10=1,$C9,0)","v":0},0]
[{"$f":"August!A11","v":6},{"$f":"August!B11","v":"Chandan Pooja on Weekdays"},{"$f":"August!C11","v":25},{"$f":"IF(WEEKDAY(D$4,2)<=5,IF(August!D11=1,$C10,0),0)","v":0},{"$f":"IF(WEEKDAY(E$4,2)<=5,IF(August!E11=1,$C10,0),0)","v":0},{"$f":"IF(WEEKDAY(F$4,2)<=5,IF(August!F11=1,$C10,0),0)","v":0},{"$f":"IF(WEEKDAY(G$4,2)<=5,IF(August!G11=1,$C10,0),0)","v":0},{"$f":"IF(WEEKDAY(H$4,2)<=5,IF(August!H11=1,$C10,0),0)","v":0},{"$f":"IF(WEEKDAY(I$4,2)<=5,IF(August!I11=1,$C10,0),0)","v":0},{"$f":"IF(WEEKDAY(J$4,2)<=5,IF(August!J11=1,$C10,0),0)","v":0},{"$f":"IF(WEEKDAY(K$4,2)<=5,IF(August!K11=1,$C10,0),0)","v":0},{"$f":"IF(WEEKDAY(L$4,2)<=5,IF(August!L11=1,$C10,0),0)","v":0},{"$f":"IF(WEEKDAY(M$4,2)<=5,IF(August!M11=1,$C10,0),0)","v":0},{"$f":"IF(WEEKDAY(N$4,2)<=5,IF(August!N11=1,$C10,0),0)","v":0},{"$f":"IF(WEEKDAY(O$4,2)<=5,IF(August!O11=1,$C10,0),0)","v":0},{"$f":"IF(WEEKDAY(P$4,2)<=5,IF(August!P11=1,$C10,0),0)","v":0},{"$f":"IF(WEEKDAY(Q$4,2)<=5,IF(August!Q11=1,$C10,0),0)","v":0},{"$f":"IF(WEEKDAY(R$4,2)<=5,IF(August!R11=1,$C10,0),0)","v":0},{"$f":"IF(WEEKDAY(S$4,2)<=5,IF(August!S11=1,$C10,0),0)","v":0},{"$f":"IF(WEEKDAY(T$4,2)<=5,IF(August!T11=1,$C10,0),0)","v":0},{"$f":"IF(WEEKDAY(U$4,2)<=5,IF(August!U11=1,$C10,0),0)","v":0},{"$f":"IF(WEEKDAY(V$4,2)<=5,IF(August!V11=1,$C10,0),0)","v":0},{"$f":"IF(WEEKDAY(W$4,2)<=5,IF(August!W11=1,$C10,0),0)","v":0},{"$f":"IF(WEEKDAY(X$4,2)<=5,IF(August!X11=1,$C10,0),0)","v":0},{"$f":"IF(WEEKDAY(Y$4,2)<=5,IF(August!Y11=1,$C10,0),0)","v":0},{"$f":"IF(WEEKDAY(Z$4,2)<=5,IF(August!Z11=1,$C10,0),0)","v":0},{"$f":"IF(WEEKDAY(AA$4,2)<=5,IF(August!AA11=1,$C10,0),0)","v":0},{"$f":"IF(WEEKDAY(AB$4,2)<=5,IF(August!AB11=1,$C10,0),0)","v":0},{"$f":"IF(WEEKDAY(AC$4,2)<=5,IF(August!AC11=1,$C10,0),0)","v":0},{"$f":"IF(WEEKDAY(AD$4,2)<=5,IF(August!AD11=1,$C10,0),0)","v":0},{"$f":"IF(WEEKDAY(AE$4,2)<=5,IF(August!AE11=1,$C10,0),0)","v":0},{"$f":"IF(WEEKDAY(AF$4,2)<=5,IF(August!AF11=1,$C10,0),0)","v":0},{"$f":"IF(WEEKDAY(AG$4,2)<=5,IF(August!AG11=1,$C10,0),0)","v":0},{"$f":"IF(WEEKDAY(AH$4,2)<=5,IF(August!AH11=1,$C10,0),0)","v":0},0]
[{"$f":"August!A12","v":7},{"$f":"August!B12","v":"Vasakshep Pooja"},{"$f":"August!C12","v":10},{"$f":"IF(August!D12=1,$C11,0)","v":0},{"$f":"IF(August!E12=1,$C11,0)","v":0},{"$f":"IF(August!F12=1,$C11,0)","v":0},{"$f":"IF(August!G12=1,$C11,0)","v":0},{"$f":"IF(August!H12=1,$C11,0)","v":0},{"$f":"IF(August!I12=1,$C11,0)","v":0},{"$f":"IF(August!J12=1,$C11,0)","v":0},{"$f":"IF(August!K12=1,$C11,0)","v":0},{"$f":"IF(August!L12=1,$C11,0)","v":0},{"$f":"IF(August!M12=1,$C11,0)","v":0},{"$f":"IF(August!N12=1,$C11,0)","v":0},{"$f":"IF(August!O12=1,$C11,0)","v":0},{"$f":"IF(August!P12=1,$C11,0)","v":0},{"$f":"IF(August!Q12=1,$C11,0)","v":0},{"$f":"IF(August!R12=1,$C11,0)","v":0},{"$f":"IF(August!S12=1,$C11,0)","v":0},{"$f":"IF(August!T12=1,$C11,0)","v":0},{"$f":"IF(August!U12=1,$C11,0)","v":0},{"$f":"IF(August!V12=1,$C11,0)","v":0},{"$f":"IF(August!W12=1,$C11,0)","v":0},{"$f":"IF(August!X12=1,$C11,0)","v":0},{"$f":"IF(August!Y12=1,$C11,0)","v":0},{"$f":"IF(August!Z12=1,$C11,0)","v":0},{"$f":"IF(August!AA12=1,$C11,0)","v":0},{"$f":"IF(August!AB12=1,$C11,0)","v":0},{"$f":"IF(August!AC12=1,$C11,0)","v":0},{"$f":"IF(August!AD12=1,$C11,0)","v":0},{"$f":"IF(August!AE12=1,$C11,0)","v":0},{"$f":"IF(August!AF12=1,$C11,0)","v":0},{"$f":"IF(August!AG12=1,$C11,0)","v":0},{"$f":"IF(August!AH12=1,$C11,0)","v":0},0]
[{"$f":"August!A13","v":8},{"$f":"August!B13","v":"Aarti *"},{"$f":"August!C13","v":10},{"$f":"IF(August!D13=1,$C12,0)","v":0},{"$f":"IF(August!E13=1,$C12,0)","v":0},{"$f":"IF(August!F13=1,$C12,0)","v":0},{"$f":"IF(August!G13=1,$C12,0)","v":0},{"$f":"IF(August!H13=1,$C12,0)","v":0},{"$f":"IF(August!I13=1,$C12,0)","v":0},{"$f":"IF(August!J13=1,$C12,0)","v":0},{"$f":"IF(August!K13=1,$C12,0)","v":0},{"$f":"IF(August!L13=1,$C12,0)","v":0},{"$f":"IF(August!M13=1,$C12,0)","v":0},{"$f":"IF(August!N13=1,$C12,0)","v":0},{"$f":"IF(August!O13=1,$C12,0)","v":0},{"$f":"IF(August!P13=1,$C12,0)","v":0},{"$f":"IF(August!Q13=1,$C12,0)","v":0},{"$f":"IF(August!R13=1,$C12,0)","v":0},{"$f":"IF(August!S13=1,$C12,0)","v":0},{"$f":"IF(August!T13=1,$C12,0)","v":0},{"$f":"IF(August!U13=1,$C12,0)","v":0},{"$f":"IF(August!V13=1,$C12,0)","v":0},{"$f":"IF(August!W13=1,$C12,0)","v":0},{"$f":"IF(August!X13=1,$C12,0)","v":0},{"$f":"IF(August!Y13=1,$C12,0)","v":0},{"$f":"IF(August!Z13=1,$C12,0)","v":0},{"$f":"IF(August!AA13=1,$C12,0)","v":0},{"$f":"IF(August!AB13=1,$C12,0)","v":0},{"$f":"IF(August!AC13=1,$C12,0)","v":0},{"$f":"IF(August!AD13=1,$C12,0)","v":0},{"$f":"IF(August!AE13=1,$C12,0)","v":0},{"$f":"IF(August!AF13=1,$C12,0)","v":0},{"$f":"IF(August!AG13=1,$C12,0)","v":0},{"$f":"IF(August!AH13=1,$C12,0)","v":0},0]
[{"$f":"August!A14","v":9},{"$f":"August!B14","v":"Chauvihar/Tivihar ^"},{"$f":"August!C14","v":25},{"$f":"IF(OR(August!D6=1,August!D7=1),0,IF(August!D14=1,$C13,0))","v":0},{"$f":"IF(OR(August!E6=1,August!E7=1),0,IF(August!E14=1,$C13,0))","v":0},{"$f":"IF(OR(August!F6=1,August!F7=1),0,IF(August!F14=1,$C13,0))","v":0},{"$f":"IF(OR(August!G6=1,August!G7=1),0,IF(August!G14=1,$C13,0))","v":0},{"$f":"IF(OR(August!H6=1,August!H7=1),0,IF(August!H14=1,$C13,0))","v":0},{"$f":"IF(OR(August!I6=1,August!I7=1),0,IF(August!I14=1,$C13,0))","v":0},{"$f":"IF(OR(August!J6=1,August!J7=1),0,IF(August!J14=1,$C13,0))","v":0},{"$f":"IF(OR(August!K6=1,August!K7=1),0,IF(August!K14=1,$C13,0))","v":0},{"$f":"IF(OR(August!L6=1,August!L7=1),0,IF(August!L14=1,$C13,0))","v":0},{"$f":"IF(OR(August!M6=1,August!M7=1),0,IF(August!M14=1,$C13,0))","v":0},{"$f":"IF(OR(August!N6=1,August!N7=1),0,IF(August!N14=1,$C13,0))","v":0},{"$f":"IF(OR(August!O6=1,August!O7=1),0,IF(August!O14=1,$C13,0))","v":0},{"$f":"IF(OR(August!P6=1,August!P7=1),0,IF(August!P14=1,$C13,0))","v":0},{"$f":"IF(OR(August!Q6=1,August!Q7=1),0,IF(August!Q14=1,$C13,0))","v":0},{"$f":"IF(OR(August!R6=1,August!R7=1),0,IF(August!R14=1,$C13,0))","v":0},{"$f":"IF(OR(August!S6=1,August!S7=1),0,IF(August!S14=1,$C13,0))","v":0},{"$f":"IF(OR(August!T6=1,August!T7=1),0,IF(August!T14=1,$C13,0))","v":0},{"$f":"IF(OR(August!U6=1,August!U7=1),0,IF(August!U14=1,$C13,0))","v":0},{"$f":"IF(OR(August!V6=1,August!V7=1),0,IF(August!V14=1,$C13,0))","v":0},{"$f":"IF(OR(August!W6=1,August!W7=1),0,IF(August!W14=1,$C13,0))","v":0},{"$f":"IF(OR(August!X6=1,August!X7=1),0,IF(August!X14=1,$C13,0))","v":0},{"$f":"IF(OR(August!Y6=1,August!Y7=1),0,IF(August!Y14=1,$C13,0))","v":0},{"$f":"IF(OR(August!Z6=1,August!Z7=1),0,IF(August!Z14=1,$C13,0))","v":0},{"$f":"IF(OR(August!AA6=1,August!AA7=1),0,IF(August!AA14=1,$C13,0))","v":0},{"$f":"IF(OR(August!AB6=1,August!AB7=1),0,IF(August!AB14=1,$C13,0))","v":0},{"$f":"IF(OR(August!AC6=1,August!AC7=1),0,IF(August!AC14=1,$C13,0))","v":0},{"$f":"IF(OR(August!AD6=1,August!AD7=1),0,IF(August!AD14=1,$C13,0))","v":0},{"$f":"IF(OR(August!AE6=1,August!AE7=1),0,IF(August!AE14=1,$C13,0))","v":0},{"$f":"IF(OR(August!AF6=1,August!AF7=1),0,IF(August!AF14=1,$C13,0))","v":0},{"$f":"IF(OR(August!AG6=1,August!AG7=1),0,IF(August!AG14=1,$C13,0))","v":0},{"$f":"IF(OR(August!AH6=1,August!AH7=1),0,IF(August!AH14=1,$C13,0))","v":0},0]
[{"$f":"August!A15","v":10},{"$f":"August!B15","v":"Drink boiled water for a day ^"},{"$f":"August!C15","v":15},{"$f":"IF(OR(August!D6=1,August!D7=1),0,IF(August!D15=1,$C14,0))","v":0},{"$f":"IF(OR(August!E6=1,August!E7=1),0,IF(August!E15=1,$C14,0))","v":0},{"$f":"IF(OR(August!F6=1,August!F7=1),0,IF(August!F15=1,$C14,0))","v":0},{"$f":"IF(OR(August!G6=1,August!G7=1),0,IF(August!G15=1,$C14,0))","v":0},{"$f":"IF(OR(August!H6=1,August!H7=1),0,IF(August!H15=1,$C14,0))","v":0},{"$f":"IF(OR(August!I6=1,August!I7=1),0,IF(August!I15=1,$C14,0))","v":0},{"$f":"IF(OR(August!J6=1,August!J7=1),0,IF(August!J15=1,$C14,0))","v":0},{"$f":"IF(OR(August!K6=1,August!K7=1),0,IF(August!K15=1,$C14,0))","v":0},{"$f":"IF(OR(August!L6=1,August!L7=1),0,IF(August!L15=1,$C14,0))","v":0},{"$f":"IF(OR(August!M6=1,August!M7=1),0,IF(August!M15=1,$C14,0))","v":0},{"$f":"IF(OR(August!N6=1,August!N7=1),0,IF(August!N15=1,$C14,0))","v":0},{"$f":"IF(OR(August!O6=1,August!O7=1),0,IF(August!O15=1,$C14,0))","v":0},{"$f":"IF(OR(August!P6=1,August!P7=1),0,IF(August!P15=1,$C14,0))","v":0},{"$f":"IF(OR(August!Q6=1,August!Q7=1),0,IF(August!Q15=1,$C14,0))","v":0},{"$f":"IF(OR(August!R6=1,August!R7=1),0,IF(August!R15=1,$C14,0))","v":0},{"$f":"IF(OR(August!S6=1,August!S7=1),0,IF(August!S15=1,$C14,0))","v":0},{"$f":"IF(OR(August!T6=1,August!T7=1),0,IF(August!T15=1,$C14,0))","v":0},{"$f":"IF(OR(August!U6=1,August!U7=1),0,IF(August!U15=1,$C14,0))","v":0},{"$f":"IF(OR(August!V6=1,August!V7=1),0,IF(August!V15=1,$C14,0))","v":0},{"$f":"IF(OR(August!W6=1,August!W7=1),0,IF(August!W15=1,$C14,0))","v":0},{"$f":"IF(OR(August!X6=1,August!X7=1),0,IF(August!X15=1,$C14,0))","v":0},{"$f":"IF(OR(August!Y6=1,August!Y7=1),0,IF(August!Y15=1,$C14,0))","v":0},{"$f":"IF(OR(August!Z6=1,August!Z7=1),0,IF(August!Z15=1,$C14,0))","v":0},{"$f":"IF(OR(August!AA6=1,August!AA7=1),0,IF(August!AA15=1,$C14,0))","v":0},{"$f":"IF(OR(August!AB6=1,August!AB7=1),0,IF(August!AB15=1,$C14,0))","v":0},{"$f":"IF(OR(August!AC6=1,August!AC7=1),0,IF(August!AC15=1,$C14,0))","v":0},{"$f":"IF(OR(August!AD6=1,August!AD7=1),0,IF(August!AD15=1,$C14,0))","v":0},{"$f":"IF(OR(August!AE6=1,August!AE7=1),0,IF(August!AE15=1,$C14,0))","v":0},{"$f":"IF(OR(August!AF6=1,August!AF7=1),0,IF(August!AF15=1,$C14,0))","v":0},{"$f":"IF(OR(August!AG6=1,August!AG7=1),0,IF(August!AG15=1,$C14,0))","v":0},{"$f":"IF(OR(August!AH6=1,August!AH7=1),0,IF(August!AH15=1,$C14,0))","v":0},0]
[{"$f":"August!A16","v":11},{"$f":"August!B16","v":"Navkarshi ^"},{"$f":"August!C16","v":20},{"$f":"IF(OR(August!D6=1,August!D7=1),0,IF(August!D16=1,$C15,0))","v":0},{"$f":"IF(OR(August!E6=1,August!E7=1),0,IF(August!E16=1,$C15,0))","v":0},{"$f":"IF(OR(August!F6=1,August!F7=1),0,IF(August!F16=1,$C15,0))","v":0},{"$f":"IF(OR(August!G6=1,August!G7=1),0,IF(August!G16=1,$C15,0))","v":0},{"$f":"IF(OR(August!H6=1,August!H7=1),0,IF(August!H16=1,$C15,0))","v":0},{"$f":"IF(OR(August!I6=1,August!I7=1),0,IF(August!I16=1,$C15,0))","v":0},{"$f":"IF(OR(August!J6=1,August!J7=1),0,IF(August!J16=1,$C15,0))","v":0},{"$f":"IF(OR(August!K6=1,August!K7=1),0,IF(August!K16=1,$C15,0))","v":0},{"$f":"IF(OR(August!L6=1,August!L7=1),0,IF(August!L16=1,$C15,0))","v":0},{"$f":"IF(OR(August!M6=1,August!M7=1),0,IF(August!M16=1,$C15,0))","v":0},{"$f":"IF(OR(August!N6=1,August!N7=1),0,IF(August!N16=1,$C15,0))","v":0},{"$f":"IF(OR(August!O6=1,August!O7=1),0,IF(August!O16=1,$C15,0))","v":0},{"$f":"IF(OR(August!P6=1,August!P7=1),0,IF(August!P16=1,$C15,0))","v":0},{"$f":"IF(OR(August!Q6=1,August!Q7=1),0,IF(August!Q16=1,$C15,0))","v":0},{"$f":"IF(OR(August!R6=1,August!R7=1),0,IF(August!R16=1,$C15,0))","v":0},{"$f":"IF(OR(August!S6=1,August!S7=1),0,IF(August!S16=1,$C15,0))","v":0},{"$f":"IF(OR(August!T6=1,August!T7=1),0,IF(August!T16=1,$C15,0))","v":0},{"$f":"IF(OR(August!U6=1,August!U7=1),0,IF(August!U16=1,$C15,0))","v":0},{"$f":"IF(OR(August!V6=1,August!V7=1),0,IF(August!V16=1,$C15,0))","v":0},{"$f":"IF(OR(August!W6=1,August!W7=1),0,IF(August!W16=1,$C15,0))","v":0},{"$f":"IF(OR(August!X6=1,August!X7=1),0,IF(August!X16=1,$C15,0))","v":0},{"$f":"IF(OR(August!Y6=1,August!Y7=1),0,IF(August!Y16=1,$C15,0))","v":0},{"$f":"IF(OR(August!Z6=1,August!Z7=1),0,IF(August!Z16=1,$C15,0))","v":0},{"$f":"IF(OR(August!AA6=1,August!AA7=1),0,IF(August!AA16=1,$C15,0))","v":0},{"$f":"IF(OR(August!AB6=1,August!AB7=1),0,IF(August!AB16=1,$C15,0))","v":0},{"$f":"IF(OR(August!AC6=1,August!AC7=1),0,IF(August!AC16=1,$C15,0))","v":0},{"$f":"IF(OR(August!AD6=1,August!AD7=1),0,IF(August!AD16=1,$C15,0))","v":0},{"$f":"IF(OR(August!AE6=1,August!AE7=1),0,IF(August!AE16=1,$C15,0))","v":0},{"$f":"IF(OR(August!AF6=1,August!AF7=1),0,IF(August!AF16=1,$C15,0))","v":0},{"$f":"IF(OR(August!AG6=1,August!AG7=1),0,IF(August!AG16=1,$C15,0))","v":0},{"$f":"IF(OR(August!AH6=1,August!AH7=1),0,IF(August!AH16=1,$C15,0))","v":0},0]
[{"$f":"August!A17","v":12},{"$f":"August!B17","v":"Vadilo Ne Page Lagvu"},{"$f":"August!C17","v":10},{"$f":"IF(August!D17=1,$C16,0)","v":0},{"$f":"IF(August!E17=1,$C16,0)","v":0},{"$f":"IF(August!F17=1,$C16,0)","v":0},{"$f":"IF(August!G17=1,$C16,0)","v":0},{"$f":"IF(August!H17=1,$C16,0)","v":0},{"$f":"IF(August!I17=1,$C16,0)","v":0},{"$f":"IF(August!J17=1,$C16,0)","v":0},{"$f":"IF(August!K17=1,$C16,0)","v":0},{"$f":"IF(August!L17=1,$C16,0)","v":0},{"$f":"IF(August!M17=1,$C16,0)","v":0},{"$f":"IF(August!N17=1,$C16,0)","v":0},{"$f":"IF(August!O17=1,$C16,0)","v":0},{"$f":"IF(August!P17=1,$C16,0)","v":0},{"$f":"IF(August!Q17=1,$C16,0)","v":0},{"$f":"IF(August!R17=1,$C16,0)","v":0},{"$f":"IF(August!S17=1,$C16,0)","v":0},{"$f":"IF(August!T17=1,$C16,0)","v":0},{"$f":"IF(August!U17=1,$C16,0)","v":0},{"$f":"IF(August!V17=1,$C16,0)","v":0},{"$f":"IF(August!W17=1,$C16,0)","v":0},{"$f":"IF(August!X17=1,$C16,0)","v":0},{"$f":"IF(August!Y17=1,$C16,0)","v":0},{"$f":"IF(August!Z17=1,$C16,0)","v":0},{"$f":"IF(August!AA17=1,$C16,0)","v":0},{"$f":"IF(August!AB17=1,$C16,0)","v":0},{"$f":"IF(August!AC17=1,$C16,0)","v":0},{"$f":"IF(August!AD17=1,$C16,0)","v":0},{"$f":"IF(August!AE17=1,$C16,0)","v":0},{"$f":"IF(August!AF17=1,$C16,0)","v":0},{"$f":"IF(August!AG17=1,$C16,0)","v":0},{"$f":"IF(August!AH17=1,$C16,0)","v":0},0]
[{"$f":"August!A18","v":13},{"$f":"August!B18","v":"No use of mobile, TV #"},{"$f":"August!C18","v":10},{"$f":"IF(August!D18=1,$C17,0)","v":0},{"$f":"IF(August!E18=1,$C17,0)","v":0},{"$f":"IF(August!F18=1,$C17,0)","v":0},{"$f":"IF(August!G18=1,$C17,0)","v":0},{"$f":"IF(August!H18=1,$C17,0)","v":0},{"$f":"IF(August!I18=1,$C17,0)","v":0},{"$f":"IF(August!J18=1,$C17,0)","v":0},{"$f":"IF(August!K18=1,$C17,0)","v":0},{"$f":"IF(August!L18=1,$C17,0)","v":0},{"$f":"IF(August!M18=1,$C17,0)","v":0},{"$f":"IF(August!N18=1,$C17,0)","v":0},{"$f":"IF(August!O18=1,$C17,0)","v":0},{"$f":"IF(August!P18=1,$C17,0)","v":0},{"$f":"IF(August!Q18=1,$C17,0)","v":0},{"$f":"IF(August!R18=1,$C17,0)","v":0},{"$f":"IF(August!S18=1,$C17,0)","v":0},{"$f":"IF(August!T18=1,$C17,0)","v":0},{"$f":"IF(August!U18=1,$C17,0)","v":0},{"$f":"IF(August!V18=1,$C17,0)","v":0},{"$f":"IF(August!W18=1,$C17,0)","v":0},{"$f":"IF(August!X18=1,$C17,0)","v":0},{"$f":"IF(August!Y18=1,$C17,0)","v":0},{"$f":"IF(August!Z18=1,$C17,0)","v":0},{"$f":"IF(August!AA18=1,$C17,0)","v":0},{"$f":"IF(August!AB18=1,$C17,0)","v":0},{"$f":"IF(August!AC18=1,$C17,0)","v":0},{"$f":"IF(August!AD18=1,$C17,0)","v":0},{"$f":"IF(August!AE18=1,$C17,0)","v":0},{"$f":"IF(August!AF18=1,$C17,0)","v":0},{"$f":"IF(August!AG18=1,$C17,0)","v":0},{"$f":"IF(August!AH18=1,$C17,0)","v":0},0]
[{"$f":"August!A19","v":14},{"$f":"August!B19","v":"Uthata 8 Navkar and Suta 7 Navkar"},{"$f":"August!C19","v":10},{"$f":"IF(August!D19=1,$C18,0)","v":0},{"$f":"IF(August!E19=1,$C18,0)","v":0},{"$f":"IF(August!F19=1,$C18,0)","v":0},{"$f":"IF(August!G19=1,$C18,0)","v":0},{"$f":"IF(August!H19=1,$C18,0)","v":0},{"$f":"IF(August!I19=1,$C18,0)","v":0},{"$f":"IF(August!J19=1,$C18,0)","v":0},{"$f":"IF(August!K19=1,$C18,0)","v":0},{"$f":"IF(August!L19=1,$C18,0)","v":0},{"$f":"IF(August!M19=1,$C18,0)","v":0},{"$f":"IF(August!N19=1,$C18,0)","v":0},{"$f":"IF(August!O19=1,$C18,0)","v":0},{"$f":"IF(August!P19=1,$C18,0)","v":0},{"$f":"IF(August!Q19=1,$C18,0)","v":0},{"$f":"IF(August!R19=1,$C18,0)","v":0},{"$f":"IF(August!S19=1,$C18,0)","v":0},{"$f":"IF(August!T19=1,$C18,0)","v":0},{"$f":"IF(August!U19=1,$C18,0)","v":0},{"$f":"IF(August!V19=1,$C18,0)","v":0},{"$f":"IF(August!W19=1,$C18,0)","v":0},{"$f":"IF(August!X19=1,$C18,0)","v":0},{"$f":"IF(August!Y19=1,$C18,0)","v":0},{"$f":"IF(August!Z19=1,$C18,0)","v":0},{"$f":"IF(August!AA19=1,$C18,0)","v":0},{"$f":"IF(August!AB19=1,$C18,0)","v":0},{"$f":"IF(August!AC19=1,$C18,0)","v":0},{"$f":"IF(August!AD19=1,$C18,0)","v":0},{"$f":"IF(August!AE19=1,$C18,0)","v":0},{"$f":"IF(August!AF19=1,$C18,0)","v":0},{"$f":"IF(August!AG19=1,$C18,0)","v":0},{"$f":"IF(August!AH19=1,$C18,0)","v":0},0]
[{"$f":"August!A20","v":15},{"$f":"August!B20","v":"No chocolate, ice cream"},{"$f":"August!C20","v":10},{"$f":"IF(August!D20=1,$C19,0)","v":0},{"$f":"IF(August!E20=1,$C19,0)","v":0},{"$f":"IF(August!F20=1,$C19,0)","v":0},{"$f":"IF(August!G20=1,$C19,0)","v":0},{"$f":"IF(August!H20=1,$C19,0)","v":0},{"$f":"IF(August!I20=1,$C19,0)","v":0},{"$f":"IF(August!J20=1,$C19,0)","v":0},{"$f":"IF(August!K20=1,$C19,0)","v":0},{"$f":"IF(August!L20=1,$C19,0)","v":0},{"$f":"IF(August!M20=1,$C19,0)","v":0},{"$f":"IF(August!N20=1,$C19,0)","v":0},{"$f":"IF(August!O20=1,$C19,0)","v":0},{"$f":"IF(August!P20=1,$C19,0)","v":0},{"$f":"IF(August!Q20=1,$C19,0)","v":0},{"$f":"IF(August!R20=1,$C19,0)","v":0},{"$f":"IF(August!S20=1,$C19,0)","v":0},{"$f":"IF(August!T20=1,$C19,0)","v":0},{"$f":"IF(August!U20=1,$C19,0)","v":0},{"$f":"IF(August!V20=1,$C19,0)","v":0},{"$f":"IF(August!W20=1,$C19,0)","v":0},{"$f":"IF(August!X20=1,$C19,0)","v":0},{"$f":"IF(August!Y20=1,$C19,0)","v":0},{"$f":"IF(August!Z20=1,$C19,0)","v":0},{"$f":"IF(August!AA20=1,$C19,0)","v":0},{"$f":"IF(August!AB20=1,$C19,0)","v":0},{"$f":"IF(August!AC20=1,$C19,0)","v":0},{"$f":"IF(August!AD20=1,$C19,0)","v":0},{"$f":"IF(August!AE20=1,$C19,0)","v":0},{"$f":"IF(August!AF20=1,$C19,0)","v":0},{"$f":"IF(August!AG20=1,$C19,0)","v":0},{"$f":"IF(August!AH20=1,$C19,0)","v":0},0]
[{"$f":"August!A21","v":16},{"$f":"August!B21","v":"Thali Dhoine Pivi"},{"$f":"August!C21","v":20},{"$f":"IF(August!D21=1,$C20,0)","v":0},{"$f":"IF(August!E21=1,$C20,0)","v":0},{"$f":"IF(August!F21=1,$C20,0)","v":0},{"$f":"IF(August!G21=1,$C20,0)","v":0},{"$f":"IF(August!H21=1,$C20,0)","v":0},{"$f":"IF(August!I21=1,$C20,0)","v":0},{"$f":"IF(August!J21=1,$C20,0)","v":0},{"$f":"IF(August!K21=1,$C20,0)","v":0},{"$f":"IF(August!L21=1,$C20,0)","v":0},{"$f":"IF(August!M21=1,$C20,0)","v":0},{"$f":"IF(August!N21=1,$C20,0)","v":0},{"$f":"IF(August!O21=1,$C20,0)","v":0},{"$f":"IF(August!P21=1,$C20,0)","v":0},{"$f":"IF(August!Q21=1,$C20,0)","v":0},{"$f":"IF(August!R21=1,$C20,0)","v":0},{"$f":"IF(August!S21=1,$C20,0)","v":0},{"$f":"IF(August!T21=1,$C20,0)","v":0},{"$f":"IF(August!U21=1,$C20,0)","v":0},{"$f":"IF(August!V21=1,$C20,0)","v":0},{"$f":"IF(August!W21=1,$C20,0)","v":0},{"$f":"IF(August!X21=1,$C20,0)","v":0},{"$f":"IF(August!Y21=1,$C20,0)","v":0},{"$f":"IF(August!Z21=1,$C20,0)","v":0},{"$f":"IF(August!AA21=1,$C20,0)","v":0},{"$f":"IF(August!AB21=1,$C20,0)","v":0},{"$f":"IF(August!AC21=1,$C20,0)","v":0},{"$f":"IF(August!AD21=1,$C20,0)","v":0},{"$f":"IF(August!AE21=1,$C20,0)","v":0},{"$f":"IF(August!AF21=1,$C20,0)","v":0},{"$f":"IF(August!AG21=1,$C20,0)","v":0},{"$f":"IF(August!AH21=1,$C20,0)","v":0},0]
[{"$f":"August!A22","v":17},{"$f":"August!B22","v":"No Bread & No Butter"},{"$f":"August!C22","v":20},{"$f":"IF(August!D22=1,$C21,0)","v":0},{"$f":"IF(August!E22=1,$C21,0)","v":0},{"$f":"IF(August!F22=1,$C21,0)","v":0},{"$f":"IF(August!G22=1,$C21,0)","v":0},{"$f":"IF(August!H22=1,$C21,0)","v":0},{"$f":"IF(August!I22=1,$C21,0)","v":0},{"$f":"IF(August!J22=1,$C21,0)","v":0},{"$f":"IF(August!K22=1,$C21,0)","v":0},{"$f":"IF(August!L22=1,$C21,0)","v":0},{"$f":"IF(August!M22=1,$C21,0)","v":0},{"$f":"IF(August!N22=1,$C21,0)","v":0},{"$f":"IF(August!O22=1,$C21,0)","v":0},{"$f":"IF(August!P22=1,$C21,0)","v":0},{"$f":"IF(August!Q22=1,$C21,0)","v":0},{"$f":"IF(August!R22=1,$C21,0)","v":0},{"$f":"IF(August!S22=1,$C21,0)","v":0},{"$f":"IF(August!T22=1,$C21,0)","v":0},{"$f":"IF(August!U22=1,$C21,0)","v":0},{"$f":"IF(August!V22=1,$C21,0)","v":0},{"$f":"IF(August!W22=1,$C21,0)","v":0},{"$f":"IF(August!X22=1,$C21,0)","v":0},{"$f":"IF(August!Y22=1,$C21,0)","v":0},{"$f":"IF(August!Z22=1,$C21,0)","v":0},{"$f":"IF(August!AA22=1,$C21,0)","v":0},{"$f":"IF(August!AB22=1,$C21,0)","v":0},{"$f":"IF(August!AC22=1,$C21,0)","v":0},{"$f":"IF(August!AD22=1,$C21,0)","v":0},{"$f":"IF(August!AE22=1,$C21,0)","v":0},{"$f":"IF(August!AF22=1,$C21,0)","v":0},{"$f":"IF(August!AG22=1,$C21,0)","v":0},{"$f":"IF(August!AH22=1,$C21,0)","v":0},0]
[{"$f":"August!A23","v":18},{"$f":"August!B23","v":"No Root Vegetables"},{"$f":"August!C23","v":10},{"$f":"IF(August!D23=1,$C22,0)","v":0},{"$f":"IF(August!E23=1,$C22,0)","v":0},{"$f":"IF(August!F23=1,$C22,0)","v":0},{"$f":"IF(August!G23=1,$C22,0)","v":0},{"$f":"IF(August!H23=1,$C22,0)","v":0},{"$f":"IF(August!I23=1,$C22,0)","v":0},{"$f":"IF(August!J23=1,$C22,0)","v":0},{"$f":"IF(August!K23=1,$C22,0)","v":0},{"$f":"IF(August!L23=1,$C22,0)","v":0},{"$f":"IF(August!M23=1,$C22,0)","v":0},{"$f":"IF(August!N23=1,$C22,0)","v":0},{"$f":"IF(August!O23=1,$C22,0)","v":0},{"$f":"IF(August!P23=1,$C22,0)","v":0},{"$f":"IF(August!Q23=1,$C22,0)","v":0},{"$f":"IF(August!R23=1,$C22,0)","v":0},{"$f":"IF(August!S23=1,$C22,0)","v":0},{"$f":"IF(August!T23=1,$C22,0)","v":0},{"$f":"IF(August!U23=1,$C22,0)","v":0},{"$f":"IF(August!V23=1,$C22,0)","v":0},{"$f":"IF(August!W23=1,$C22,0)","v":0},{"$f":"IF(August!X23=1,$C22,0)","v":0},{"$f":"IF(August!Y23=1,$C22,0)","v":0},{"$f":"IF(August!Z23=1,$C22,0)","v":0},{"$f":"IF(August!AA23=1,$C22,0)","v":0},{"$f":"IF(August!AB23=1,$C22,0)","v":0},{"$f":"IF(August!AC23=1,$C22,0)","v":0},{"$f":"IF(August!AD23=1,$C22,0)","v":0},{"$f":"IF(August!AE23=1,$C22,0)","v":0},{"$f":"IF(August!AF23=1,$C22,0)","v":0},{"$f":"IF(August!AG23=1,$C22,0)","v":0},{"$f":"IF(August!AH23=1,$C22,0)","v":0},0]
[{"$f":"August!A24","v":19},{"$f":"August!B24","v":"Read/Listen Jain Bodh Katha"},{"$f":"August!C24","v":10},{"$f":"IF(August!D24=1,$C23,0)","v":0},{"$f":"IF(August!E24=1,$C23,0)","v":0},{"$f":"IF(August!F24=1,$C23,0)","v":0},{"$f":"IF(August!G24=1,$C23,0)","v":0},{"$f":"IF(August!H24=1,$C23,0)","v":0},{"$f":"IF(August!I24=1,$C23,0)","v":0},{"$f":"IF(August!J24=1,$C23,0)","v":0},{"$f":"IF(August!K24=1,$C23,0)","v":0},{"$f":"IF(August!L24=1,$C23,0)","v":0},{"$f":"IF(August!M24=1,$C23,0)","v":0},{"$f":"IF(August!N24=1,$C23,0)","v":0},{"$f":"IF(August!O24=1,$C23,0)","v":0},{"$f":"IF(August!P24=1,$C23,0)","v":0},{"$f":"IF(August!Q24=1,$C23,0)","v":0},{"$f":"IF(August!R24=1,$C23,0)","v":0},{"$f":"IF(August!S24=1,$C23,0)","v":0},{"$f":"IF(August!T24=1,$C23,0)","v":0},{"$f":"IF(August!U24=1,$C23,0)","v":0},{"$f":"IF(August!V24=1,$C23,0)","v":0},{"$f":"IF(August!W24=1,$C23,0)","v":0},{"$f":"IF(August!X24=1,$C23,0)","v":0},{"$f":"IF(August!Y24=1,$C23,0)","v":0},{"$f":"IF(August!Z24=1,$C23,0)","v":0},{"$f":"IF(August!AA24=1,$C23,0)","v":0},{"$f":"IF(August!AB24=1,$C23,0)","v":0},{"$f":"IF(August!AC24=1,$C23,0)","v":0},{"$f":"IF(August!AD24=1,$C23,0)","v":0},{"$f":"IF(August!AE24=1,$C23,0)","v":0},{"$f":"IF(August!AF24=1,$C23,0)","v":0},{"$f":"IF(August!AG24=1,$C23,0)","v":0},{"$f":"IF(August!AH24=1,$C23,0)","v":0},0]
[{"$f":"August!A25","v":20},{"$f":"August!B25","v":"Recite Gyan na 5 Duha & 5 Khamasana"},{"$f":"August!C25","v":10},{"$f":"IF(August!D25=1,$C24,0)","v":0},{"$f":"IF(August!E25=1,$C24,0)","v":0},{"$f":"IF(August!F25=1,$C24,0)","v":0},{"$f":"IF(August!G25=1,$C24,0)","v":0},{"$f":"IF(August!H25=1,$C24,0)","v":0},{"$f":"IF(August!I25=1,$C24,0)","v":0},{"$f":"IF(August!J25=1,$C24,0)","v":0},{"$f":"IF(August!K25=1,$C24,0)","v":0},{"$f":"IF(August!L25=1,$C24,0)","v":0},{"$f":"IF(August!M25=1,$C24,0)","v":0},{"$f":"IF(August!N25=1,$C24,0)","v":0},{"$f":"IF(August!O25=1,$C24,0)","v":0},{"$f":"IF(August!P25=1,$C24,0)","v":0},{"$f":"IF(August!Q25=1,$C24,0)","v":0},{"$f":"IF(August!R25=1,$C24,0)","v":0},{"$f":"IF(August!S25=1,$C24,0)","v":0},{"$f":"IF(August!T25=1,$C24,0)","v":0},{"$f":"IF(August!U25=1,$C24,0)","v":0},{"$f":"IF(August!V25=1,$C24,0)","v":0},{"$f":"IF(August!W25=1,$C24,0)","v":0},{"$f":"IF(August!X25=1,$C24,0)","v":0},{"$f":"IF(August!Y25=1,$C24,0)","v":0},{"$f":"IF(August!Z25=1,$C24,0)","v":0},{"$f":"IF(August!AA25=1,$C24,0)","v":0},{"$f":"IF(August!AB25=1,$C24,0)","v":0},{"$f":"IF(August!AC25=1,$C24,0)","v":0},{"$f":"IF(August!AD25=1,$C24,0)","v":0},{"$f":"IF(August!AE25=1,$C24,0)","v":0},{"$f":"IF(August!AF25=1,$C24,0)","v":0},{"$f":"IF(August!AG25=1,$C24,0)","v":0},{"$f":"IF(August!AH25=1,$C24,0)","v":0},0]
[{"$f":"August!A26","v":21},{"$f":"August!B26","v":"No fruits and vegetables on Tithi days"},{"$f":"August!C26","v":15},{"$f":"IF(August!D26=1,$C25,0)","v":0},{"$f":"IF(August!E26=1,$C25,0)","v":0},{"$f":"IF(August!F26=1,$C25,0)","v":0},{"$f":"IF(August!G26=1,$C25,0)","v":0},{"$f":"IF(August!H26=1,$C25,0)","v":0},{"$f":"IF(August!I26=1,$C25,0)","v":0},{"$f":"IF(August!J26=1,$C25,0)","v":0},{"$f":"IF(August!K26=1,$C25,0)","v":0},{"$f":"IF(August!L26=1,$C25,0)","v":0},{"$f":"IF(August!M26=1,$C25,0)","v":0},{"$f":"IF(August!N26=1,$C25,0)","v":0},{"$f":"IF(August!O26=1,$C25,0)","v":0},{"$f":"IF(August!P26=1,$C25,0)","v":0},{"$f":"IF(August!Q26=1,$C25,0)","v":0},{"$f":"IF(August!R26=1,$C25,0)","v":0},{"$f":"IF(August!S26=1,$C25,0)","v":0},{"$f":"IF(August!T26=1,$C25,0)","v":0},{"$f":"IF(August!U26=1,$C25,0)","v":0},{"$f":"IF(August!V26=1,$C25,0)","v":0},{"$f":"IF(August!W26=1,$C25,0)","v":0},{"$f":"IF(August!X26=1,$C25,0)","v":0},{"$f":"IF(August!Y26=1,$C25,0)","v":0},{"$f":"IF(August!Z26=1,$C25,0)","v":0},{"$f":"IF(August!AA26=1,$C25,0)","v":0},{"$f":"IF(August!AB26=1,$C25,0)","v":0},{"$f":"IF(August!AC26=1,$C25,0)","v":0},{"$f":"IF(August!AD26=1,$C25,0)","v":0},{"$f":"IF(August!AE26=1,$C25,0)","v":0},{"$f":"IF(August!AF26=1,$C25,0)","v":0},{"$f":"IF(August!AG26=1,$C25,0)","v":0},{"$f":"IF(August!AH26=1,$C25,0)","v":0},0]
[{"$f":"August!A27","v":22},{"$f":"August!B27","v":"Sva Dravya Akshat, Naivedya and Fal Pooja $"},{"$f":"August!C27","v":15},{"$f":"IF(August!D27=1,$C26,0)","v":0},{"$f":"IF(August!E27=1,$C26,0)","v":0},{"$f":"IF(August!F27=1,$C26,0)","v":0},{"$f":"IF(August!G27=1,$C26,0)","v":0},{"$f":"IF(August!H27=1,$C26,0)","v":0},{"$f":"IF(August!I27=1,$C26,0)","v":0},{"$f":"IF(August!J27=1,$C26,0)","v":0},{"$f":"IF(August!K27=1,$C26,0)","v":0},{"$f":"IF(August!L27=1,$C26,0)","v":0},{"$f":"IF(August!M27=1,$C26,0)","v":0},{"$f":"IF(August!N27=1,$C26,0)","v":0},{"$f":"IF(August!O27=1,$C26,0)","v":0},{"$f":"IF(August!P27=1,$C26,0)","v":0},{"$f":"IF(August!Q27=1,$C26,0)","v":0},{"$f":"IF(August!R27=1,$C26,0)","v":0},{"$f":"IF(August!S27=1,$C26,0)","v":0},{"$f":"IF(August!T27=1,$C26,0)","v":0},{"$f":"IF(August!U27=1,$C26,0)","v":0},{"$f":"IF(August!V27=1,$C26,0)","v":0},{"$f":"IF(August!W27=1,$C26,0)","v":0},{"$f":"IF(August!X27=1,$C26,0)","v":0},{"$f":"IF(August!Y27=1,$C26,0)","v":0},{"$f":"IF(August!Z27=1,$C26,0)","v":0},{"$f":"IF(August!AA27=1,$C26,0)","v":0},{"$f":"IF(August!AB27=1,$C26,0)","v":0},{"$f":"IF(August!AC27=1,$C26,0)","v":0},{"$f":"IF(August!AD27=1,$C26,0)","v":0},{"$f":"IF(August!AE27=1,$C26,0)","v":0},{"$f":"IF(August!AF27=1,$C26,0)","v":0},{"$f":"IF(August!AG27=1,$C26,0)","v":0},{"$f":"IF(August!AH27=1,$C26,0)","v":0},0]
[{"$f":"August!A28","v":23},{"$f":"August!B28","v":"Use of bucket instead of shower"},{"$f":"August!C28","v":10},{"$f":"IF(August!D28=1,$C27,0)","v":0},{"$f":"IF(August!E28=1,$C27,0)","v":0},{"$f":"IF(August!F28=1,$C27,0)","v":0},{"$f":"IF(August!G28=1,$C27,0)","v":0},{"$f":"IF(August!H28=1,$C27,0)","v":0},{"$f":"IF(August!I28=1,$C27,0)","v":0},{"$f":"IF(August!J28=1,$C27,0)","v":0},{"$f":"IF(August!K28=1,$C27,0)","v":0},{"$f":"IF(August!L28=1,$C27,0)","v":0},{"$f":"IF(August!M28=1,$C27,0)","v":0},{"$f":"IF(August!N28=1,$C27,0)","v":0},{"$f":"IF(August!O28=1,$C27,0)","v":0},{"$f":"IF(August!P28=1,$C27,0)","v":0},{"$f":"IF(August!Q28=1,$C27,0)","v":0},{"$f":"IF(August!R28=1,$C27,0)","v":0},{"$f":"IF(August!S28=1,$C27,0)","v":0},{"$f":"IF(August!T28=1,$C27,0)","v":0},{"$f":"IF(August!U28=1,$C27,0)","v":0},{"$f":"IF(August!V28=1,$C27,0)","v":0},{"$f":"IF(August!W28=1,$C27,0)","v":0},{"$f":"IF(August!X28=1,$C27,0)","v":0},{"$f":"IF(August!Y28=1,$C27,0)","v":0},{"$f":"IF(August!Z28=1,$C27,0)","v":0},{"$f":"IF(August!AA28=1,$C27,0)","v":0},{"$f":"IF(August!AB28=1,$C27,0)","v":0},{"$f":"IF(August!AC28=1,$C27,0)","v":0},{"$f":"IF(August!AD28=1,$C27,0)","v":0},{"$f":"IF(August!AE28=1,$C27,0)","v":0},{"$f":"IF(August!AF28=1,$C27,0)","v":0},{"$f":"IF(August!AG28=1,$C27,0)","v":0},{"$f":"IF(August!AH28=1,$C27,0)","v":0},0]
[{"$f":"August!A29","v":24},{"$f":"August!B29","v":"Recite Navkar Mantra Mala"},{"$f":"August!C29","v":10},{"$f":"IF(August!D29=1,$C28,0)","v":0},{"$f":"IF(August!E29=1,$C28,0)","v":0},{"$f":"IF(August!F29=1,$C28,0)","v":0},{"$f":"IF(August!G29=1,$C28,0)","v":0},{"$f":"IF(August!H29=1,$C28,0)","v":0},{"$f":"IF(August!I29=1,$C28,0)","v":0},{"$f":"IF(August!J29=1,$C28,0)","v":0},{"$f":"IF(August!K29=1,$C28,0)","v":0},{"$f":"IF(August!L29=1,$C28,0)","v":0},{"$f":"IF(August!M29=1,$C28,0)","v":0},{"$f":"IF(August!N29=1,$C28,0)","v":0},{"$f":"IF(August!O29=1,$C28,0)","v":0},{"$f":"IF(August!P29=1,$C28,0)","v":0},{"$f":"IF(August!Q29=1,$C28,0)","v":0},{"$f":"IF(August!R29=1,$C28,0)","v":0},{"$f":"IF(August!S29=1,$C28,0)","v":0},{"$f":"IF(August!T29=1,$C28,0)","v":0},{"$f":"IF(August!U29=1,$C28,0)","v":0},{"$f":"IF(August!V29=1,$C28,0)","v":0},{"$f":"IF(August!W29=1,$C28,0)","v":0},{"$f":"IF(August!X29=1,$C28,0)","v":0},{"$f":"IF(August!Y29=1,$C28,0)","v":0},{"$f":"IF(August!Z29=1,$C28,0)","v":0},{"$f":"IF(August!AA29=1,$C28,0)","v":0},{"$f":"IF(August!AB29=1,$C28,0)","v":0},{"$f":"IF(August!AC29=1,$C28,0)","v":0},{"$f":"IF(August!AD29=1,$C28,0)","v":0},{"$f":"IF(August!AE29=1,$C28,0)","v":0},{"$f":"IF(August!AF29=1,$C28,0)","v":0},{"$f":"IF(August!AG29=1,$C28,0)","v":0},{"$f":"IF(August!AH29=1,$C28,0)","v":0},0]
[null,{"$f":"August!B30","v":"Total"},null,{"$f":"SUM(D5:D28)","v":0},{"$f":"SUM(E5:E28)","v":0},0,0,0,0,0,0,0,0,0,0,0,0,0,0,0,0,0,0,0,0,0,0,0,0,0,0,0,0,0,{"$f":"SUM(AI5:AI28)","v":0}]